BEGIN:VCALENDAR
VERSION:2.0
PRODID:-//Bounty &amp; Soul - ECPv6.15.20//NONSGML v1.0//EN
CALSCALE:GREGORIAN
METHOD:PUBLISH
X-WR-CALNAME:Bounty &amp; Soul
X-ORIGINAL-URL:https://bountyandsoul.org
X-WR-CALDESC:Events for Bounty &amp; Soul
REFRESH-INTERVAL;VALUE=DURATION:PT1H
X-Robots-Tag:noindex
X-PUBLISHED-TTL:PT1H
BEGIN:VTIMEZONE
TZID:America/New_York
BEGIN:DAYLIGHT
TZOFFSETFROM:-0500
TZOFFSETTO:-0400
TZNAME:EDT
DTSTART:20240310T070000
END:DAYLIGHT
BEGIN:STANDARD
TZOFFSETFROM:-0400
TZOFFSETTO:-0500
TZNAME:EST
DTSTART:20241103T060000
END:STANDARD
BEGIN:DAYLIGHT
TZOFFSETFROM:-0500
TZOFFSETTO:-0400
TZNAME:EDT
DTSTART:20250309T070000
END:DAYLIGHT
BEGIN:STANDARD
TZOFFSETFROM:-0400
TZOFFSETTO:-0500
TZNAME:EST
DTSTART:20251102T060000
END:STANDARD
BEGIN:DAYLIGHT
TZOFFSETFROM:-0500
TZOFFSETTO:-0400
TZNAME:EDT
DTSTART:20260308T070000
END:DAYLIGHT
BEGIN:STANDARD
TZOFFSETFROM:-0400
TZOFFSETTO:-0500
TZNAME:EST
DTSTART:20261101T060000
END:STANDARD
BEGIN:DAYLIGHT
TZOFFSETFROM:-0500
TZOFFSETTO:-0400
TZNAME:EDT
DTSTART:20270314T070000
END:DAYLIGHT
BEGIN:STANDARD
TZOFFSETFROM:-0400
TZOFFSETTO:-0500
TZNAME:EST
DTSTART:20271107T060000
END:STANDARD
END:VTIMEZONE
BEGIN:VEVENT
DTSTART;TZID=America/New_York:20260116T133000
DTEND;TZID=America/New_York:20260116T150000
DTSTAMP:20260423T191050
CREATED:20250324T182751Z
LAST-MODIFIED:20260209T184940Z
UID:10012024-1768570200-1768575600@bountyandsoul.org
SUMMARY:Produce Market - Dr. Wesley Grant Sr. Southside Community Center
DESCRIPTION:Join us for fresh\, nourishing produce and healthy food at no cost to you. Come connect with us!
URL:https://bountyandsoul.org/event/produce-market-dr-wesley-grant-sr-southside-community-center/2026-01-16/
LOCATION:Dr. Wesley Grant Sr. Southside Community Center\, 285 Livingston St\, Asheville\, NC 28801\, Asheville
CATEGORIES:Market
ATTACH;FMTTYPE=image/jpeg:https://bountyandsoul.org/wp-content/uploads/2024/10/Market-Event-Logo-rs.jpg
END:VEVENT
BEGIN:VEVENT
DTSTART;TZID=America/New_York:20260116T103000
DTEND;TZID=America/New_York:20260116T120000
DTSTAMP:20260423T191050
CREATED:20250311T173527Z
LAST-MODIFIED:20260209T185047Z
UID:10012251-1768559400-1768564800@bountyandsoul.org
SUMMARY:Produce Market - Rock Hill Baptist Church
DESCRIPTION:Join us for fresh\, nourishing produce and healthy food at no cost to you. Come connect with us!
URL:https://bountyandsoul.org/event/rock-hill-baptist-church/2026-01-16/
LOCATION:Rock Hill Baptist Church\, 486 Caribou Rd\, Asheville\, NC\, 28803\, United States
CATEGORIES:Market
ATTACH;FMTTYPE=image/jpeg:https://bountyandsoul.org/wp-content/uploads/2024/10/Market-Event-Logo-rs.jpg
END:VEVENT
BEGIN:VEVENT
DTSTART;TZID=America/New_York:20260115T183000
DTEND;TZID=America/New_York:20260115T193000
DTSTAMP:20260423T191050
CREATED:20251209T182536Z
LAST-MODIFIED:20251209T182539Z
UID:10011869-1768501800-1768505400@bountyandsoul.org
SUMMARY:Zumba Class
DESCRIPTION:Join us every Tuesday & Thursday at 6:30 PM for a high-energy\, fun\, and free Zumba class with Tara! Whether you’re a seasoned dancer or just starting out\, this class is designed for all levels—no experience needed. Come shake\, dance\, and sweat to uplifting music in a welcoming and supportive environment. Get ready to boost your mood\, energize your body\, and have a blast! This class will take place at St James Episcopal Church in Black Mountain (424 West State Street\, Black Mountain\, NC\, 28711).
URL:https://bountyandsoul.org/event/zumba-class-2-16/
LOCATION:Bounty & Soul Food\, Education and Volunteer Hub\, 1038 Old Hwy 70 W\, Black Mountain\, NC\, 28711\, United States
CATEGORIES:Class
ATTACH;FMTTYPE=image/png:https://bountyandsoul.org/wp-content/uploads/2021/01/Zumba-Event-fi2a.png
END:VEVENT
BEGIN:VEVENT
DTSTART;TZID=America/New_York:20260115T153000
DTEND;TZID=America/New_York:20260115T173000
DTSTAMP:20260423T191050
CREATED:20251103T232017Z
LAST-MODIFIED:20260209T184749Z
UID:10012339-1768491000-1768498200@bountyandsoul.org
SUMMARY:Produce Market - BiLo Lot
DESCRIPTION:Join us at this drive-thru market for fresh\, nourishing produce and healthy food at no cost.
URL:https://bountyandsoul.org/event/produce-market-bilo-lot-2-2/2026-01-15/
LOCATION:Bi-Lo\, 205 NC-9\, Black Mountain\, NC\, 28711\, United States
CATEGORIES:Market
ATTACH;FMTTYPE=image/jpeg:https://bountyandsoul.org/wp-content/uploads/2024/10/Market-Event-Logo-rs.jpg
END:VEVENT
BEGIN:VEVENT
DTSTART;TZID=America/New_York:20260114T170000
DTEND;TZID=America/New_York:20260114T190000
DTSTAMP:20260423T191050
CREATED:20251208T210716Z
LAST-MODIFIED:20251208T210730Z
UID:10012650-1768410000-1768417200@bountyandsoul.org
SUMMARY:New Year’s Vision Board & Journaling Workshop
DESCRIPTION:New Year’s Vision Board & Journaling Workshop \nStep into the new year with intention\, clarity\, and creativity! In this interactive workshop\, you’ll reflect on the past year\, explore your goals\, and bring your dreams to life through journaling and a personalized vision board. \nWe’ll begin with simple breathwork and guided journaling prompts to center your mind and uncover what truly matters to you. Then\, you’ll learn how to translate your intentions into a visual roadmap for 2026\, using images\, words\, and affirmations that inspire and motivate you. \nBy the end of the session\, you’ll leave with a beautiful vision board to display as a daily reminder of your goals and a journal full of insights and reflections to guide your year ahead. \nWho this workshop is for: \n\n\nAnyone looking to set meaningful intentions for the new year \n\n\nBeginners or experienced vision board enthusiasts \n\n\nAnyone curious about journaling\, mindfulness\, and creative self-reflection \n\n\nWhat to bring:Your creativity and an open mind—materials will be provided!
URL:https://bountyandsoul.org/event/new-years-vision-board-journaling-workshop/
LOCATION:Bounty & Soul Food\, Education and Volunteer Hub\, 1038 Old Hwy 70 W\, Black Mountain\, NC\, 28711\, United States
CATEGORIES:Class
ATTACH;FMTTYPE=image/png:https://bountyandsoul.org/wp-content/uploads/2022/01/Rooted-in-Health-Graphic.png
END:VEVENT
BEGIN:VEVENT
DTSTART;TZID=America/New_York:20260114T160000
DTEND;TZID=America/New_York:20260114T170000
DTSTAMP:20260423T191050
CREATED:20260209T184119Z
LAST-MODIFIED:20260216T194053Z
UID:10012899-1768406400-1768410000@bountyandsoul.org
SUMMARY:Produce Market - Beacon Community Center
DESCRIPTION:Join us for fresh\, nourishing produce and healthy food at no cost to you. Come connect with us and enjoy culturally relevant food.
URL:https://bountyandsoul.org/event/produce-market-beacon/2026-01-14/
LOCATION:B&S Community Center\, 216 Whitson Ave\, Swannanoa\, NC\, 28778\, United States
CATEGORIES:Market
ATTACH;FMTTYPE=image/jpeg:https://bountyandsoul.org/wp-content/uploads/2024/10/Market-Event-Logo-rs.jpg
END:VEVENT
BEGIN:VEVENT
DTSTART;TZID=America/New_York:20260114T153000
DTEND;TZID=America/New_York:20260114T170000
DTSTAMP:20260423T191050
CREATED:20250311T172845Z
LAST-MODIFIED:20250929T162853Z
UID:10012269-1768404600-1768410000@bountyandsoul.org
SUMMARY:Produce Market - Covenant Community Church
DESCRIPTION:Join us for fresh\, nourishing produce and healthy food at no cost to you. Come connect with us!
URL:https://bountyandsoul.org/event/produce-market-covenant-community-church/2026-01-14/
LOCATION:Covenant Community Church\, 11 Rocket Dr\, Asheville\, NC\, 28803\, United States
CATEGORIES:Market
ATTACH;FMTTYPE=image/jpeg:https://bountyandsoul.org/wp-content/uploads/2024/10/Market-Event-Logo-rs.jpg
END:VEVENT
BEGIN:VEVENT
DTSTART;TZID=America/New_York:20260113T183000
DTEND;TZID=America/New_York:20260113T193000
DTSTAMP:20260423T191050
CREATED:20251209T182235Z
LAST-MODIFIED:20251209T182239Z
UID:10011868-1768329000-1768332600@bountyandsoul.org
SUMMARY:Zumba Class
DESCRIPTION:Join us every Tuesday & Thursday at 6:30 PM for a high-energy\, fun\, and free Zumba class with Tara! Whether you’re a seasoned dancer or just starting out\, this class is designed for all levels—no experience needed. Come shake\, dance\, and sweat to uplifting music in a welcoming and supportive environment. Get ready to boost your mood\, energize your body\, and have a blast! This class will take place at St James Episcopal Church in Black Mountain (424 West State Street\, Black Mountain\, NC\, 28711).
URL:https://bountyandsoul.org/event/zumba-class-2-14/
LOCATION:Bounty & Soul Food\, Education and Volunteer Hub\, 1038 Old Hwy 70 W\, Black Mountain\, NC\, 28711\, United States
CATEGORIES:Class
ATTACH;FMTTYPE=image/png:https://bountyandsoul.org/wp-content/uploads/2021/01/Zumba-Event-fi2a.png
END:VEVENT
BEGIN:VEVENT
DTSTART;TZID=America/New_York:20260113T153000
DTEND;TZID=America/New_York:20260113T170000
DTSTAMP:20260423T191050
CREATED:20250311T171504Z
LAST-MODIFIED:20260209T183823Z
UID:10012287-1768318200-1768323600@bountyandsoul.org
SUMMARY:Produce Market - UNETE
DESCRIPTION:Join us for fresh\, nourishing produce and healthy food at no cost to you. Come connect with us!
URL:https://bountyandsoul.org/event/produce-market-unete/2026-01-13/
LOCATION:UNETE\, 871 Riverside Dr\, Asheville\, NC\, 28804\, United States
CATEGORIES:Market
ATTACH;FMTTYPE=image/jpeg:https://bountyandsoul.org/wp-content/uploads/2024/10/Market-Event-Logo-rs.jpg
END:VEVENT
BEGIN:VEVENT
DTSTART;TZID=America/New_York:20260112T173000
DTEND;TZID=America/New_York:20260112T183000
DTSTAMP:20260423T191050
CREATED:20251202T185943Z
LAST-MODIFIED:20251202T185943Z
UID:10012647-1768239000-1768242600@bountyandsoul.org
SUMMARY:Mindful Monday: Qigong with Michelle
DESCRIPTION:Each Monday\, we gather as a community to welcome the week with mindfulness and intention. Every session features a unique offering led by a different instructor\, each sharing their own approach to cultivating peace and presence. \nThis Monday\, experience the gentle\, flowing movements of Qigong with Michelle. \nQigong is an ancient Chinese practice that integrates slow\, intentional movement\, breathwork\, and meditation to support the body’s natural energy flow. Michelle will guide you through a series of exercises designed to awaken vitality\, release tension\, and bring a sense of calm balance to your whole being. \nThis grounding practice is designed to: \n\n\nReduce stress and calm the nervous system \n\n\nImprove energy flow and circulation \n\n\nEnhance physical and emotional resilience \n\n\nCome as you are and allow this healing practice to nourish your body\, mind\, and spirit. Please arrive 10–15 minutes early to settle in. Spots are limited\, so secure your spot now!
URL:https://bountyandsoul.org/event/mindful-monday-qigong-with-michelle-8/
LOCATION:B&S Community Center\, 216 Whitson Ave\, Swannanoa\, NC\, 28778\, United States
CATEGORIES:Class
ATTACH;FMTTYPE=image/png:https://bountyandsoul.org/wp-content/uploads/2022/01/Rooted-in-Health-Graphic.png
END:VEVENT
BEGIN:VEVENT
DTSTART;TZID=America/New_York:20260110T100000
DTEND;TZID=America/New_York:20260110T113000
DTSTAMP:20260423T191050
CREATED:20250311T173748Z
LAST-MODIFIED:20250930T160712Z
UID:10012232-1768039200-1768044600@bountyandsoul.org
SUMMARY:Produce Market - ArtSpace
DESCRIPTION:Join us for fresh\, nourishing produce and healthy food at no cost to you. Come connect with us!
URL:https://bountyandsoul.org/event/artspace/2026-01-10/
LOCATION:ArtSpace Charter School\, 2030 US Highway 70\, Swannanoa\, NC\, 28778\, United States
CATEGORIES:Market
ATTACH;FMTTYPE=image/jpeg:https://bountyandsoul.org/wp-content/uploads/2024/10/Market-Event-Logo-rs.jpg
END:VEVENT
BEGIN:VEVENT
DTSTART;TZID=America/New_York:20260109T133000
DTEND;TZID=America/New_York:20260109T150000
DTSTAMP:20260423T191050
CREATED:20250324T182751Z
LAST-MODIFIED:20260209T184940Z
UID:10012023-1767965400-1767970800@bountyandsoul.org
SUMMARY:Produce Market - Dr. Wesley Grant Sr. Southside Community Center
DESCRIPTION:Join us for fresh\, nourishing produce and healthy food at no cost to you. Come connect with us!
URL:https://bountyandsoul.org/event/produce-market-dr-wesley-grant-sr-southside-community-center/2026-01-09/
LOCATION:Dr. Wesley Grant Sr. Southside Community Center\, 285 Livingston St\, Asheville\, NC 28801\, Asheville
CATEGORIES:Market
ATTACH;FMTTYPE=image/jpeg:https://bountyandsoul.org/wp-content/uploads/2024/10/Market-Event-Logo-rs.jpg
END:VEVENT
BEGIN:VEVENT
DTSTART;TZID=America/New_York:20260109T103000
DTEND;TZID=America/New_York:20260109T120000
DTSTAMP:20260423T191050
CREATED:20250311T173527Z
LAST-MODIFIED:20260209T185047Z
UID:10012250-1767954600-1767960000@bountyandsoul.org
SUMMARY:Produce Market - Rock Hill Baptist Church
DESCRIPTION:Join us for fresh\, nourishing produce and healthy food at no cost to you. Come connect with us!
URL:https://bountyandsoul.org/event/rock-hill-baptist-church/2026-01-09/
LOCATION:Rock Hill Baptist Church\, 486 Caribou Rd\, Asheville\, NC\, 28803\, United States
CATEGORIES:Market
ATTACH;FMTTYPE=image/jpeg:https://bountyandsoul.org/wp-content/uploads/2024/10/Market-Event-Logo-rs.jpg
END:VEVENT
BEGIN:VEVENT
DTSTART;TZID=America/New_York:20260108T183000
DTEND;TZID=America/New_York:20260108T193000
DTSTAMP:20260423T191050
CREATED:20251209T182105Z
LAST-MODIFIED:20251209T182108Z
UID:10011867-1767897000-1767900600@bountyandsoul.org
SUMMARY:Zumba Class
DESCRIPTION:Join us every Tuesday & Thursday at 6:30 PM for a high-energy\, fun\, and free Zumba class with Tara! Whether you’re a seasoned dancer or just starting out\, this class is designed for all levels—no experience needed. Come shake\, dance\, and sweat to uplifting music in a welcoming and supportive environment. Get ready to boost your mood\, energize your body\, and have a blast! This class will take place at St James Episcopal Church in Black Mountain (424 West State Street\, Black Mountain\, NC\, 28711).
URL:https://bountyandsoul.org/event/zumba-class-2-13/
LOCATION:Bounty & Soul Food\, Education and Volunteer Hub\, 1038 Old Hwy 70 W\, Black Mountain\, NC\, 28711\, United States
CATEGORIES:Class
ATTACH;FMTTYPE=image/png:https://bountyandsoul.org/wp-content/uploads/2021/01/Zumba-Event-fi2a.png
END:VEVENT
BEGIN:VEVENT
DTSTART;TZID=America/New_York:20260108T153000
DTEND;TZID=America/New_York:20260108T173000
DTSTAMP:20260423T191050
CREATED:20251103T232017Z
LAST-MODIFIED:20260209T184749Z
UID:10012338-1767886200-1767893400@bountyandsoul.org
SUMMARY:Produce Market - BiLo Lot
DESCRIPTION:Join us at this drive-thru market for fresh\, nourishing produce and healthy food at no cost.
URL:https://bountyandsoul.org/event/produce-market-bilo-lot-2-2/2026-01-08/
LOCATION:Bi-Lo\, 205 NC-9\, Black Mountain\, NC\, 28711\, United States
CATEGORIES:Market
ATTACH;FMTTYPE=image/jpeg:https://bountyandsoul.org/wp-content/uploads/2024/10/Market-Event-Logo-rs.jpg
END:VEVENT
BEGIN:VEVENT
DTSTART;TZID=America/New_York:20260107T160000
DTEND;TZID=America/New_York:20260107T170000
DTSTAMP:20260423T191050
CREATED:20260209T184119Z
LAST-MODIFIED:20260216T194053Z
UID:10012898-1767801600-1767805200@bountyandsoul.org
SUMMARY:Produce Market - Beacon Community Center
DESCRIPTION:Join us for fresh\, nourishing produce and healthy food at no cost to you. Come connect with us and enjoy culturally relevant food.
URL:https://bountyandsoul.org/event/produce-market-beacon/2026-01-07/
LOCATION:B&S Community Center\, 216 Whitson Ave\, Swannanoa\, NC\, 28778\, United States
CATEGORIES:Market
ATTACH;FMTTYPE=image/jpeg:https://bountyandsoul.org/wp-content/uploads/2024/10/Market-Event-Logo-rs.jpg
END:VEVENT
BEGIN:VEVENT
DTSTART;TZID=America/New_York:20260107T153000
DTEND;TZID=America/New_York:20260107T170000
DTSTAMP:20260423T191050
CREATED:20250311T172845Z
LAST-MODIFIED:20250929T162853Z
UID:10012268-1767799800-1767805200@bountyandsoul.org
SUMMARY:Produce Market - Covenant Community Church
DESCRIPTION:Join us for fresh\, nourishing produce and healthy food at no cost to you. Come connect with us!
URL:https://bountyandsoul.org/event/produce-market-covenant-community-church/2026-01-07/
LOCATION:Covenant Community Church\, 11 Rocket Dr\, Asheville\, NC\, 28803\, United States
CATEGORIES:Market
ATTACH;FMTTYPE=image/jpeg:https://bountyandsoul.org/wp-content/uploads/2024/10/Market-Event-Logo-rs.jpg
END:VEVENT
BEGIN:VEVENT
DTSTART;TZID=America/New_York:20260106T183000
DTEND;TZID=America/New_York:20260106T193000
DTSTAMP:20260423T191050
CREATED:20251209T181833Z
LAST-MODIFIED:20251209T181947Z
UID:10011866-1767724200-1767727800@bountyandsoul.org
SUMMARY:Zumba Class
DESCRIPTION:Join us every Tuesday & Thursday at 6:30 PM for a high-energy\, fun\, and free Zumba class with Tara! Whether you’re a seasoned dancer or just starting out\, this class is designed for all levels—no experience needed. Come shake\, dance\, and sweat to uplifting music in a welcoming and supportive environment. Get ready to boost your mood\, energize your body\, and have a blast! This class will take place at St James Episcopal Church in Black Mountain (424 West State Street\, Black Mountain\, NC\, 28711).
URL:https://bountyandsoul.org/event/zumba-class-2-12/
LOCATION:Bounty & Soul Food\, Education and Volunteer Hub\, 1038 Old Hwy 70 W\, Black Mountain\, NC\, 28711\, United States
CATEGORIES:Class
ATTACH;FMTTYPE=image/png:https://bountyandsoul.org/wp-content/uploads/2021/01/Zumba-Event-fi2a.png
END:VEVENT
BEGIN:VEVENT
DTSTART;TZID=America/New_York:20260106T153000
DTEND;TZID=America/New_York:20260106T170000
DTSTAMP:20260423T191050
CREATED:20250311T171504Z
LAST-MODIFIED:20260209T183823Z
UID:10012286-1767713400-1767718800@bountyandsoul.org
SUMMARY:Produce Market - UNETE
DESCRIPTION:Join us for fresh\, nourishing produce and healthy food at no cost to you. Come connect with us!
URL:https://bountyandsoul.org/event/produce-market-unete/2026-01-06/
LOCATION:UNETE\, 871 Riverside Dr\, Asheville\, NC\, 28804\, United States
CATEGORIES:Market
ATTACH;FMTTYPE=image/jpeg:https://bountyandsoul.org/wp-content/uploads/2024/10/Market-Event-Logo-rs.jpg
END:VEVENT
BEGIN:VEVENT
DTSTART;TZID=America/New_York:20260105T173000
DTEND;TZID=America/New_York:20260105T183000
DTSTAMP:20260423T191050
CREATED:20251202T185726Z
LAST-MODIFIED:20251202T185726Z
UID:10012646-1767634200-1767637800@bountyandsoul.org
SUMMARY:Mindful Monday: Restorative Yoga with Dani
DESCRIPTION:Each Monday\, we gather as a community to welcome the week with mindfulness and intention. Every session features a unique offering led by a different practitioner\, each sharing their own approach to cultivating peace and presence. \nThis Monday\, treat yourself to deep rest and renewal with Restorative Yoga with Dani. \nRestorative yoga is a gentle\, therapeutic practice that uses props to fully support the body in restful poses. With Dani’s calming guidance\, you’ll settle into stillness\, allowing your nervous system to unwind and your body to release stored tension. \nThis deeply nurturing practice is designed to: \n\n\nCalm the mind and soothe the nervous system \n\n\nPromote deep relaxation and stress relief \n\n\nSupport healing\, balance\, and overall well-being \n\n\nCome as you are and allow this restorative experience to nourish your body\, mind\, and spirit. Please arrive 10–15 minutes early to settle in. Spots are limited\, so secure your spot now!
URL:https://bountyandsoul.org/event/mindful-monday-restorative-yoga-with-dani/
LOCATION:B&S Community Center\, 216 Whitson Ave\, Swannanoa\, NC\, 28778\, United States
CATEGORIES:Class
ATTACH;FMTTYPE=image/png:https://bountyandsoul.org/wp-content/uploads/2022/01/Rooted-in-Health-Graphic.png
END:VEVENT
BEGIN:VEVENT
DTSTART;TZID=America/New_York:20260103T100000
DTEND;TZID=America/New_York:20260103T113000
DTSTAMP:20260423T191050
CREATED:20251204T213109Z
LAST-MODIFIED:20251204T213111Z
UID:10012231-1767434400-1767439800@bountyandsoul.org
SUMMARY:CANCELED - Produce Market - ArtSpace
DESCRIPTION:Join us for fresh\, nourishing produce and healthy food at no cost to you. Come connect with us!
URL:https://bountyandsoul.org/event/artspace-4/
LOCATION:ArtSpace Charter School\, 2030 US Highway 70\, Swannanoa\, NC\, 28778\, United States
CATEGORIES:Market
ATTACH;FMTTYPE=image/jpeg:https://bountyandsoul.org/wp-content/uploads/2024/10/Market-Event-Logo-rs.jpg
END:VEVENT
BEGIN:VEVENT
DTSTART;TZID=America/New_York:20260102T133000
DTEND;TZID=America/New_York:20260102T150000
DTSTAMP:20260423T191050
CREATED:20251204T213054Z
LAST-MODIFIED:20251204T213054Z
UID:10012022-1767360600-1767366000@bountyandsoul.org
SUMMARY:CANCELED - Produce Market - Dr. Wesley Grant Sr. Southside Community Center
DESCRIPTION:Join us for fresh\, nourishing produce and healthy food at no cost to you. Come connect with us!
URL:https://bountyandsoul.org/event/produce-market-dr-wesley-grant-sr-southside-community-center-4/
LOCATION:Dr. Wesley Grant Sr. Southside Community Center\, 285 Livingston St\, Asheville\, NC 28801\, Asheville
CATEGORIES:Market
ATTACH;FMTTYPE=image/jpeg:https://bountyandsoul.org/wp-content/uploads/2024/10/Market-Event-Logo-rs.jpg
END:VEVENT
BEGIN:VEVENT
DTSTART;TZID=America/New_York:20260102T103000
DTEND;TZID=America/New_York:20260102T120000
DTSTAMP:20260423T191050
CREATED:20251204T213038Z
LAST-MODIFIED:20251204T213038Z
UID:10012249-1767349800-1767355200@bountyandsoul.org
SUMMARY:CANCELED - Produce Market - Rock Hill Baptist Church
DESCRIPTION:Join us for fresh\, nourishing produce and healthy food at no cost to you. Come connect with us!
URL:https://bountyandsoul.org/event/rock-hill-baptist-church-4/
LOCATION:Rock Hill Baptist Church\, 486 Caribou Rd\, Asheville\, NC\, 28803\, United States
CATEGORIES:Market
ATTACH;FMTTYPE=image/jpeg:https://bountyandsoul.org/wp-content/uploads/2024/10/Market-Event-Logo-rs.jpg
END:VEVENT
BEGIN:VEVENT
DTSTART;TZID=America/New_York:20260101T184500
DTEND;TZID=America/New_York:20260101T194500
DTSTAMP:20260423T191050
CREATED:20251204T213024Z
LAST-MODIFIED:20251204T213024Z
UID:10012379-1767293100-1767296700@bountyandsoul.org
SUMMARY:CANCELED - Pelvic Floor & Core Class with Jaime Haines
DESCRIPTION:Pelvic Floor & Core Class with Jaime Haines\nIn collaboration with Elemental Pilates Studio \nJoin us for a gentle and empowering Pilates mat class designed to help you reconnect with your core\, strengthen your pelvic floor\, and move with greater confidence and ease. This class is open to every body—no prior experience needed. Through mindful movement\, breath\, and posture awareness\, you’ll build strength from the inside out while restoring balance in your spine and hips. \nAbout the Instructor:Jaime Haines is a Pilates and Aerial Yoga teacher at Elemental Pilates Studio in the WNC Shopping Center\, and creator of Core Restore and Core Restore 2.0—programs that help individuals strengthen their core and pelvic floor safely while moving with greater awareness and vitality. Jaime is passionate about helping people of all ages and stages reconnect to their bodies\, find freedom in movement\, and rediscover joy in the process. \nAt Elemental Pilates\, the mission is simple: quality movement for every body. Whether you’re rebuilding your core\, learning to breathe again\, or simply looking for a moment of peace\, Elemental is here to help you move with purpose and feel more at home in your body. \n\n\nLocation: Elemental Pilates Studio\, 106 WNC Shopping Center Dr\, Black Mountain\, NC 28711 \n\n\nTime: Thursdays from 6:45-7:45 PM \n\n\nCost: Free for the Bounty & Soul community \n\n\nPlease plan to arrive 10 minutes early so we can begin on time. Spots are limited—reserve yours today!
URL:https://bountyandsoul.org/event/pelvic-floor-core-class-with-jaime-haines-5/
LOCATION:Elemental Pilates\, 106 WNC Shopping Center Dr\, Black Mountain\, NC\, 28711\, United States
CATEGORIES:Class
ATTACH;FMTTYPE=image/png:https://bountyandsoul.org/wp-content/uploads/2022/01/Rooted-in-Health-Graphic.png
END:VEVENT
BEGIN:VEVENT
DTSTART;TZID=America/New_York:20260101T183000
DTEND;TZID=America/New_York:20260101T193000
DTSTAMP:20260423T191050
CREATED:20251204T213000Z
LAST-MODIFIED:20251204T213002Z
UID:10011865-1767292200-1767295800@bountyandsoul.org
SUMMARY:CANCELED - Zumba Class
DESCRIPTION:Join us every Tuesday & Thursday at 6:30 PM for a high-energy\, fun\, and free Zumba class with Tara! Whether you’re a seasoned dancer or just starting out\, this class is designed for all levels—no experience needed. Come shake\, dance\, and sweat to uplifting music in a welcoming and supportive environment. Get ready to boost your mood\, energize your body\, and have a blast! This class will take place at St James Episcopal Church in Black Mountain (424 West State Street\, Black Mountain\, NC\, 28711).
URL:https://bountyandsoul.org/event/zumba-class-2-11/
LOCATION:St James Episcopal Church\, 424 W. State Street\, Black Mountain\, NC\, 28711\, United States
CATEGORIES:Class
ATTACH;FMTTYPE=image/png:https://bountyandsoul.org/wp-content/uploads/2021/01/Zumba-Event-fi2a.png
END:VEVENT
BEGIN:VEVENT
DTSTART;TZID=America/New_York:20260101T153000
DTEND;TZID=America/New_York:20260101T173000
DTSTAMP:20260423T191050
CREATED:20251204T212943Z
LAST-MODIFIED:20251204T213212Z
UID:10012337-1767281400-1767288600@bountyandsoul.org
SUMMARY:CANCELED - Produce Market - BiLo Lot
DESCRIPTION:Join us at this drive-thru market for fresh\, nourishing produce and healthy food at no cost.
URL:https://bountyandsoul.org/event/produce-market-bilo-lot-2-2-4/
LOCATION:Bi-Lo\, 205 NC-9\, Black Mountain\, NC\, 28711\, United States
CATEGORIES:Market
ATTACH;FMTTYPE=image/jpeg:https://bountyandsoul.org/wp-content/uploads/2024/10/Market-Event-Logo-rs.jpg
END:VEVENT
BEGIN:VEVENT
DTSTART;TZID=America/New_York:20251231T160000
DTEND;TZID=America/New_York:20251231T170000
DTSTAMP:20260423T191050
CREATED:20260209T184119Z
LAST-MODIFIED:20260216T194053Z
UID:10012897-1767196800-1767200400@bountyandsoul.org
SUMMARY:Produce Market - Beacon Community Center
DESCRIPTION:Join us for fresh\, nourishing produce and healthy food at no cost to you. Come connect with us and enjoy culturally relevant food.
URL:https://bountyandsoul.org/event/produce-market-beacon/2025-12-31/
LOCATION:B&S Community Center\, 216 Whitson Ave\, Swannanoa\, NC\, 28778\, United States
CATEGORIES:Market
ATTACH;FMTTYPE=image/jpeg:https://bountyandsoul.org/wp-content/uploads/2024/10/Market-Event-Logo-rs.jpg
END:VEVENT
BEGIN:VEVENT
DTSTART;TZID=America/New_York:20251231T160000
DTEND;TZID=America/New_York:20251231T170000
DTSTAMP:20260423T191050
CREATED:20251204T212854Z
LAST-MODIFIED:20251204T212857Z
UID:10012355-1767196800-1767200400@bountyandsoul.org
SUMMARY:CANCELED - Produce Market - Beacon
DESCRIPTION:Join us for fresh\, nourishing produce and healthy food at no cost to you. Come connect with us and enjoy culturally relevant food.
URL:https://bountyandsoul.org/event/produce-market-beacon-2-4/
LOCATION:B&S Community Center\, 216 Whitson Ave\, Swannanoa\, NC\, 28778\, United States
CATEGORIES:Market
ATTACH;FMTTYPE=image/jpeg:https://bountyandsoul.org/wp-content/uploads/2024/10/Market-Event-Logo-rs.jpg
END:VEVENT
BEGIN:VEVENT
DTSTART;TZID=America/New_York:20251231T153000
DTEND;TZID=America/New_York:20251231T170000
DTSTAMP:20260423T191050
CREATED:20251204T212827Z
LAST-MODIFIED:20251204T212827Z
UID:10012267-1767195000-1767200400@bountyandsoul.org
SUMMARY:CANCELED - Produce Market - Covenant Community Church
DESCRIPTION:Join us for fresh\, nourishing produce and healthy food at no cost to you. Come connect with us!
URL:https://bountyandsoul.org/event/produce-market-covenant-community-church-3/
LOCATION:Covenant Community Church\, 11 Rocket Dr\, Asheville\, NC\, 28803\, United States
CATEGORIES:Market
ATTACH;FMTTYPE=image/jpeg:https://bountyandsoul.org/wp-content/uploads/2024/10/Market-Event-Logo-rs.jpg
END:VEVENT
BEGIN:VEVENT
DTSTART;TZID=America/New_York:20251230T183000
DTEND;TZID=America/New_York:20251230T193000
DTSTAMP:20260423T191050
CREATED:20251204T212806Z
LAST-MODIFIED:20251204T212808Z
UID:10011864-1767119400-1767123000@bountyandsoul.org
SUMMARY:CANCELED - Zumba Class
DESCRIPTION:Join us every Tuesday & Thursday at 6:30 PM for a high-energy\, fun\, and free Zumba class with Tara! Whether you’re a seasoned dancer or just starting out\, this class is designed for all levels—no experience needed. Come shake\, dance\, and sweat to uplifting music in a welcoming and supportive environment. Get ready to boost your mood\, energize your body\, and have a blast! This class will take place at St James Episcopal Church in Black Mountain (424 West State Street\, Black Mountain\, NC\, 28711).
URL:https://bountyandsoul.org/event/zumba-class-2-10/
LOCATION:St James Episcopal Church\, 424 W. State Street\, Black Mountain\, NC\, 28711\, United States
CATEGORIES:Class
ATTACH;FMTTYPE=image/png:https://bountyandsoul.org/wp-content/uploads/2021/01/Zumba-Event-fi2a.png
END:VEVENT
END:VCALENDAR