BEGIN:VCALENDAR
VERSION:2.0
PRODID:-//Bounty &amp; Soul - ECPv6.15.20//NONSGML v1.0//EN
CALSCALE:GREGORIAN
METHOD:PUBLISH
X-ORIGINAL-URL:https://bountyandsoul.org
X-WR-CALDESC:Events for Bounty &amp; Soul
REFRESH-INTERVAL;VALUE=DURATION:PT1H
X-Robots-Tag:noindex
X-PUBLISHED-TTL:PT1H
BEGIN:VTIMEZONE
TZID:America/New_York
BEGIN:DAYLIGHT
TZOFFSETFROM:-0500
TZOFFSETTO:-0400
TZNAME:EDT
DTSTART:20260308T070000
END:DAYLIGHT
BEGIN:STANDARD
TZOFFSETFROM:-0400
TZOFFSETTO:-0500
TZNAME:EST
DTSTART:20261101T060000
END:STANDARD
BEGIN:DAYLIGHT
TZOFFSETFROM:-0500
TZOFFSETTO:-0400
TZNAME:EDT
DTSTART:20270314T070000
END:DAYLIGHT
BEGIN:STANDARD
TZOFFSETFROM:-0400
TZOFFSETTO:-0500
TZNAME:EST
DTSTART:20271107T060000
END:STANDARD
BEGIN:DAYLIGHT
TZOFFSETFROM:-0500
TZOFFSETTO:-0400
TZNAME:EDT
DTSTART:20280312T070000
END:DAYLIGHT
BEGIN:STANDARD
TZOFFSETFROM:-0400
TZOFFSETTO:-0500
TZNAME:EST
DTSTART:20281105T060000
END:STANDARD
END:VTIMEZONE
BEGIN:VEVENT
DTSTART;TZID=America/New_York:20270402T133000
DTEND;TZID=America/New_York:20270402T150000
DTSTAMP:20260423T180637
CREATED:20250324T182751Z
LAST-MODIFIED:20260209T184940Z
UID:10012960-1806672600-1806678000@bountyandsoul.org
SUMMARY:Produce Market - Dr. Wesley Grant Sr. Southside Community Center
DESCRIPTION:Join us for fresh\, nourishing produce and healthy food at no cost to you. Come connect with us!
URL:https://bountyandsoul.org/event/produce-market-dr-wesley-grant-sr-southside-community-center/2027-04-02/
LOCATION:Dr. Wesley Grant Sr. Southside Community Center\, 285 Livingston St\, Asheville\, NC 28801\, Asheville
CATEGORIES:Market
ATTACH;FMTTYPE=image/jpeg:https://bountyandsoul.org/wp-content/uploads/2024/10/Market-Event-Logo-rs.jpg
END:VEVENT
BEGIN:VEVENT
DTSTART;TZID=America/New_York:20270403T100000
DTEND;TZID=America/New_York:20270403T113000
DTSTAMP:20260423T180637
CREATED:20260209T182155Z
LAST-MODIFIED:20260209T182655Z
UID:10012870-1806746400-1806751800@bountyandsoul.org
SUMMARY:Produce Market - ArtSpace
DESCRIPTION:Join us for fresh\, nourishing produce and healthy food at no cost to you. Come connect with us!
URL:https://bountyandsoul.org/event/produce-market-artspace-2-2/2027-04-03/
LOCATION:ArtSpace Charter School\, 2030 US Highway 70\, Swannanoa\, NC\, 28778\, United States
CATEGORIES:Market
ATTACH;FMTTYPE=image/jpeg:https://bountyandsoul.org/wp-content/uploads/2024/10/Market-Event-Logo-rs.jpg
END:VEVENT
BEGIN:VEVENT
DTSTART;TZID=America/New_York:20270409T133000
DTEND;TZID=America/New_York:20270409T150000
DTSTAMP:20260423T180637
CREATED:20250324T182751Z
LAST-MODIFIED:20260209T184940Z
UID:10012961-1807277400-1807282800@bountyandsoul.org
SUMMARY:Produce Market - Dr. Wesley Grant Sr. Southside Community Center
DESCRIPTION:Join us for fresh\, nourishing produce and healthy food at no cost to you. Come connect with us!
URL:https://bountyandsoul.org/event/produce-market-dr-wesley-grant-sr-southside-community-center/2027-04-09/
LOCATION:Dr. Wesley Grant Sr. Southside Community Center\, 285 Livingston St\, Asheville\, NC 28801\, Asheville
CATEGORIES:Market
ATTACH;FMTTYPE=image/jpeg:https://bountyandsoul.org/wp-content/uploads/2024/10/Market-Event-Logo-rs.jpg
END:VEVENT
BEGIN:VEVENT
DTSTART;TZID=America/New_York:20270410T100000
DTEND;TZID=America/New_York:20270410T113000
DTSTAMP:20260423T180637
CREATED:20260209T182155Z
LAST-MODIFIED:20260209T182655Z
UID:10012871-1807351200-1807356600@bountyandsoul.org
SUMMARY:Produce Market - ArtSpace
DESCRIPTION:Join us for fresh\, nourishing produce and healthy food at no cost to you. Come connect with us!
URL:https://bountyandsoul.org/event/produce-market-artspace-2-2/2027-04-10/
LOCATION:ArtSpace Charter School\, 2030 US Highway 70\, Swannanoa\, NC\, 28778\, United States
CATEGORIES:Market
ATTACH;FMTTYPE=image/jpeg:https://bountyandsoul.org/wp-content/uploads/2024/10/Market-Event-Logo-rs.jpg
END:VEVENT
BEGIN:VEVENT
DTSTART;TZID=America/New_York:20270416T133000
DTEND;TZID=America/New_York:20270416T150000
DTSTAMP:20260423T180637
CREATED:20250324T182751Z
LAST-MODIFIED:20260209T184940Z
UID:10012962-1807882200-1807887600@bountyandsoul.org
SUMMARY:Produce Market - Dr. Wesley Grant Sr. Southside Community Center
DESCRIPTION:Join us for fresh\, nourishing produce and healthy food at no cost to you. Come connect with us!
URL:https://bountyandsoul.org/event/produce-market-dr-wesley-grant-sr-southside-community-center/2027-04-16/
LOCATION:Dr. Wesley Grant Sr. Southside Community Center\, 285 Livingston St\, Asheville\, NC 28801\, Asheville
CATEGORIES:Market
ATTACH;FMTTYPE=image/jpeg:https://bountyandsoul.org/wp-content/uploads/2024/10/Market-Event-Logo-rs.jpg
END:VEVENT
BEGIN:VEVENT
DTSTART;TZID=America/New_York:20270417T100000
DTEND;TZID=America/New_York:20270417T113000
DTSTAMP:20260423T180637
CREATED:20260209T182155Z
LAST-MODIFIED:20260209T182655Z
UID:10012872-1807956000-1807961400@bountyandsoul.org
SUMMARY:Produce Market - ArtSpace
DESCRIPTION:Join us for fresh\, nourishing produce and healthy food at no cost to you. Come connect with us!
URL:https://bountyandsoul.org/event/produce-market-artspace-2-2/2027-04-17/
LOCATION:ArtSpace Charter School\, 2030 US Highway 70\, Swannanoa\, NC\, 28778\, United States
CATEGORIES:Market
ATTACH;FMTTYPE=image/jpeg:https://bountyandsoul.org/wp-content/uploads/2024/10/Market-Event-Logo-rs.jpg
END:VEVENT
BEGIN:VEVENT
DTSTART;TZID=America/New_York:20270423T133000
DTEND;TZID=America/New_York:20270423T150000
DTSTAMP:20260423T180637
CREATED:20250324T182751Z
LAST-MODIFIED:20260209T184940Z
UID:10012963-1808487000-1808492400@bountyandsoul.org
SUMMARY:Produce Market - Dr. Wesley Grant Sr. Southside Community Center
DESCRIPTION:Join us for fresh\, nourishing produce and healthy food at no cost to you. Come connect with us!
URL:https://bountyandsoul.org/event/produce-market-dr-wesley-grant-sr-southside-community-center/2027-04-23/
LOCATION:Dr. Wesley Grant Sr. Southside Community Center\, 285 Livingston St\, Asheville\, NC 28801\, Asheville
CATEGORIES:Market
ATTACH;FMTTYPE=image/jpeg:https://bountyandsoul.org/wp-content/uploads/2024/10/Market-Event-Logo-rs.jpg
END:VEVENT
BEGIN:VEVENT
DTSTART;TZID=America/New_York:20270424T100000
DTEND;TZID=America/New_York:20270424T113000
DTSTAMP:20260423T180637
CREATED:20260209T182155Z
LAST-MODIFIED:20260209T182655Z
UID:10012873-1808560800-1808566200@bountyandsoul.org
SUMMARY:Produce Market - ArtSpace
DESCRIPTION:Join us for fresh\, nourishing produce and healthy food at no cost to you. Come connect with us!
URL:https://bountyandsoul.org/event/produce-market-artspace-2-2/2027-04-24/
LOCATION:ArtSpace Charter School\, 2030 US Highway 70\, Swannanoa\, NC\, 28778\, United States
CATEGORIES:Market
ATTACH;FMTTYPE=image/jpeg:https://bountyandsoul.org/wp-content/uploads/2024/10/Market-Event-Logo-rs.jpg
END:VEVENT
BEGIN:VEVENT
DTSTART;TZID=America/New_York:20270430T133000
DTEND;TZID=America/New_York:20270430T150000
DTSTAMP:20260423T180637
CREATED:20250324T182751Z
LAST-MODIFIED:20260209T184940Z
UID:10012964-1809091800-1809097200@bountyandsoul.org
SUMMARY:Produce Market - Dr. Wesley Grant Sr. Southside Community Center
DESCRIPTION:Join us for fresh\, nourishing produce and healthy food at no cost to you. Come connect with us!
URL:https://bountyandsoul.org/event/produce-market-dr-wesley-grant-sr-southside-community-center/2027-04-30/
LOCATION:Dr. Wesley Grant Sr. Southside Community Center\, 285 Livingston St\, Asheville\, NC 28801\, Asheville
CATEGORIES:Market
ATTACH;FMTTYPE=image/jpeg:https://bountyandsoul.org/wp-content/uploads/2024/10/Market-Event-Logo-rs.jpg
END:VEVENT
BEGIN:VEVENT
DTSTART;TZID=America/New_York:20270501T100000
DTEND;TZID=America/New_York:20270501T113000
DTSTAMP:20260423T180637
CREATED:20260209T182155Z
LAST-MODIFIED:20260209T182655Z
UID:10012874-1809165600-1809171000@bountyandsoul.org
SUMMARY:Produce Market - ArtSpace
DESCRIPTION:Join us for fresh\, nourishing produce and healthy food at no cost to you. Come connect with us!
URL:https://bountyandsoul.org/event/produce-market-artspace-2-2/2027-05-01/
LOCATION:ArtSpace Charter School\, 2030 US Highway 70\, Swannanoa\, NC\, 28778\, United States
CATEGORIES:Market
ATTACH;FMTTYPE=image/jpeg:https://bountyandsoul.org/wp-content/uploads/2024/10/Market-Event-Logo-rs.jpg
END:VEVENT
BEGIN:VEVENT
DTSTART;TZID=America/New_York:20270507T133000
DTEND;TZID=America/New_York:20270507T150000
DTSTAMP:20260423T180637
CREATED:20250324T182751Z
LAST-MODIFIED:20260209T184940Z
UID:10012965-1809696600-1809702000@bountyandsoul.org
SUMMARY:Produce Market - Dr. Wesley Grant Sr. Southside Community Center
DESCRIPTION:Join us for fresh\, nourishing produce and healthy food at no cost to you. Come connect with us!
URL:https://bountyandsoul.org/event/produce-market-dr-wesley-grant-sr-southside-community-center/2027-05-07/
LOCATION:Dr. Wesley Grant Sr. Southside Community Center\, 285 Livingston St\, Asheville\, NC 28801\, Asheville
CATEGORIES:Market
ATTACH;FMTTYPE=image/jpeg:https://bountyandsoul.org/wp-content/uploads/2024/10/Market-Event-Logo-rs.jpg
END:VEVENT
BEGIN:VEVENT
DTSTART;TZID=America/New_York:20270508T100000
DTEND;TZID=America/New_York:20270508T113000
DTSTAMP:20260423T180637
CREATED:20260209T182155Z
LAST-MODIFIED:20260209T182655Z
UID:10012875-1809770400-1809775800@bountyandsoul.org
SUMMARY:Produce Market - ArtSpace
DESCRIPTION:Join us for fresh\, nourishing produce and healthy food at no cost to you. Come connect with us!
URL:https://bountyandsoul.org/event/produce-market-artspace-2-2/2027-05-08/
LOCATION:ArtSpace Charter School\, 2030 US Highway 70\, Swannanoa\, NC\, 28778\, United States
CATEGORIES:Market
ATTACH;FMTTYPE=image/jpeg:https://bountyandsoul.org/wp-content/uploads/2024/10/Market-Event-Logo-rs.jpg
END:VEVENT
BEGIN:VEVENT
DTSTART;TZID=America/New_York:20270514T133000
DTEND;TZID=America/New_York:20270514T150000
DTSTAMP:20260423T180637
CREATED:20250324T182751Z
LAST-MODIFIED:20260209T184940Z
UID:10012966-1810301400-1810306800@bountyandsoul.org
SUMMARY:Produce Market - Dr. Wesley Grant Sr. Southside Community Center
DESCRIPTION:Join us for fresh\, nourishing produce and healthy food at no cost to you. Come connect with us!
URL:https://bountyandsoul.org/event/produce-market-dr-wesley-grant-sr-southside-community-center/2027-05-14/
LOCATION:Dr. Wesley Grant Sr. Southside Community Center\, 285 Livingston St\, Asheville\, NC 28801\, Asheville
CATEGORIES:Market
ATTACH;FMTTYPE=image/jpeg:https://bountyandsoul.org/wp-content/uploads/2024/10/Market-Event-Logo-rs.jpg
END:VEVENT
BEGIN:VEVENT
DTSTART;TZID=America/New_York:20270515T100000
DTEND;TZID=America/New_York:20270515T113000
DTSTAMP:20260423T180637
CREATED:20260209T182155Z
LAST-MODIFIED:20260209T182655Z
UID:10012876-1810375200-1810380600@bountyandsoul.org
SUMMARY:Produce Market - ArtSpace
DESCRIPTION:Join us for fresh\, nourishing produce and healthy food at no cost to you. Come connect with us!
URL:https://bountyandsoul.org/event/produce-market-artspace-2-2/2027-05-15/
LOCATION:ArtSpace Charter School\, 2030 US Highway 70\, Swannanoa\, NC\, 28778\, United States
CATEGORIES:Market
ATTACH;FMTTYPE=image/jpeg:https://bountyandsoul.org/wp-content/uploads/2024/10/Market-Event-Logo-rs.jpg
END:VEVENT
BEGIN:VEVENT
DTSTART;TZID=America/New_York:20270521T133000
DTEND;TZID=America/New_York:20270521T150000
DTSTAMP:20260423T180637
CREATED:20250324T182751Z
LAST-MODIFIED:20260209T184940Z
UID:10012967-1810906200-1810911600@bountyandsoul.org
SUMMARY:Produce Market - Dr. Wesley Grant Sr. Southside Community Center
DESCRIPTION:Join us for fresh\, nourishing produce and healthy food at no cost to you. Come connect with us!
URL:https://bountyandsoul.org/event/produce-market-dr-wesley-grant-sr-southside-community-center/2027-05-21/
LOCATION:Dr. Wesley Grant Sr. Southside Community Center\, 285 Livingston St\, Asheville\, NC 28801\, Asheville
CATEGORIES:Market
ATTACH;FMTTYPE=image/jpeg:https://bountyandsoul.org/wp-content/uploads/2024/10/Market-Event-Logo-rs.jpg
END:VEVENT
BEGIN:VEVENT
DTSTART;TZID=America/New_York:20270522T100000
DTEND;TZID=America/New_York:20270522T113000
DTSTAMP:20260423T180637
CREATED:20260209T182155Z
LAST-MODIFIED:20260209T182655Z
UID:10012877-1810980000-1810985400@bountyandsoul.org
SUMMARY:Produce Market - ArtSpace
DESCRIPTION:Join us for fresh\, nourishing produce and healthy food at no cost to you. Come connect with us!
URL:https://bountyandsoul.org/event/produce-market-artspace-2-2/2027-05-22/
LOCATION:ArtSpace Charter School\, 2030 US Highway 70\, Swannanoa\, NC\, 28778\, United States
CATEGORIES:Market
ATTACH;FMTTYPE=image/jpeg:https://bountyandsoul.org/wp-content/uploads/2024/10/Market-Event-Logo-rs.jpg
END:VEVENT
BEGIN:VEVENT
DTSTART;TZID=America/New_York:20270528T133000
DTEND;TZID=America/New_York:20270528T150000
DTSTAMP:20260423T180637
CREATED:20250324T182751Z
LAST-MODIFIED:20260209T184940Z
UID:10012968-1811511000-1811516400@bountyandsoul.org
SUMMARY:Produce Market - Dr. Wesley Grant Sr. Southside Community Center
DESCRIPTION:Join us for fresh\, nourishing produce and healthy food at no cost to you. Come connect with us!
URL:https://bountyandsoul.org/event/produce-market-dr-wesley-grant-sr-southside-community-center/2027-05-28/
LOCATION:Dr. Wesley Grant Sr. Southside Community Center\, 285 Livingston St\, Asheville\, NC 28801\, Asheville
CATEGORIES:Market
ATTACH;FMTTYPE=image/jpeg:https://bountyandsoul.org/wp-content/uploads/2024/10/Market-Event-Logo-rs.jpg
END:VEVENT
BEGIN:VEVENT
DTSTART;TZID=America/New_York:20270529T100000
DTEND;TZID=America/New_York:20270529T113000
DTSTAMP:20260423T180637
CREATED:20260209T182155Z
LAST-MODIFIED:20260209T182655Z
UID:10012878-1811584800-1811590200@bountyandsoul.org
SUMMARY:Produce Market - ArtSpace
DESCRIPTION:Join us for fresh\, nourishing produce and healthy food at no cost to you. Come connect with us!
URL:https://bountyandsoul.org/event/produce-market-artspace-2-2/2027-05-29/
LOCATION:ArtSpace Charter School\, 2030 US Highway 70\, Swannanoa\, NC\, 28778\, United States
CATEGORIES:Market
ATTACH;FMTTYPE=image/jpeg:https://bountyandsoul.org/wp-content/uploads/2024/10/Market-Event-Logo-rs.jpg
END:VEVENT
END:VCALENDAR