BEGIN:VCALENDAR
VERSION:2.0
PRODID:-//Bounty &amp; Soul - ECPv6.15.20//NONSGML v1.0//EN
CALSCALE:GREGORIAN
METHOD:PUBLISH
X-WR-CALNAME:Bounty &amp; Soul
X-ORIGINAL-URL:https://bountyandsoul.org
X-WR-CALDESC:Events for Bounty &amp; Soul
REFRESH-INTERVAL;VALUE=DURATION:PT1H
X-Robots-Tag:noindex
X-PUBLISHED-TTL:PT1H
BEGIN:VTIMEZONE
TZID:America/New_York
BEGIN:DAYLIGHT
TZOFFSETFROM:-0500
TZOFFSETTO:-0400
TZNAME:EDT
DTSTART:20250309T070000
END:DAYLIGHT
BEGIN:STANDARD
TZOFFSETFROM:-0400
TZOFFSETTO:-0500
TZNAME:EST
DTSTART:20251102T060000
END:STANDARD
BEGIN:DAYLIGHT
TZOFFSETFROM:-0500
TZOFFSETTO:-0400
TZNAME:EDT
DTSTART:20260308T070000
END:DAYLIGHT
BEGIN:STANDARD
TZOFFSETFROM:-0400
TZOFFSETTO:-0500
TZNAME:EST
DTSTART:20261101T060000
END:STANDARD
BEGIN:DAYLIGHT
TZOFFSETFROM:-0500
TZOFFSETTO:-0400
TZNAME:EDT
DTSTART:20270314T070000
END:DAYLIGHT
BEGIN:STANDARD
TZOFFSETFROM:-0400
TZOFFSETTO:-0500
TZNAME:EST
DTSTART:20271107T060000
END:STANDARD
END:VTIMEZONE
BEGIN:VEVENT
DTSTART;TZID=America/New_York:20260512T153000
DTEND;TZID=America/New_York:20260512T170000
DTSTAMP:20260423T035021
CREATED:20250311T171504Z
LAST-MODIFIED:20260209T183823Z
UID:10012894-1778599800-1778605200@bountyandsoul.org
SUMMARY:Produce Market - UNETE
DESCRIPTION:Join us for fresh\, nourishing produce and healthy food at no cost to you. Come connect with us!
URL:https://bountyandsoul.org/event/produce-market-unete/2026-05-12/
LOCATION:UNETE\, 871 Riverside Dr\, Asheville\, NC\, 28804\, United States
CATEGORIES:Market
ATTACH;FMTTYPE=image/jpeg:https://bountyandsoul.org/wp-content/uploads/2024/10/Market-Event-Logo-rs.jpg
END:VEVENT
BEGIN:VEVENT
DTSTART;TZID=America/New_York:20260512T183000
DTEND;TZID=America/New_York:20260512T193000
DTSTAMP:20260423T035021
CREATED:20250320T132435Z
LAST-MODIFIED:20250320T134100Z
UID:10011902-1778610600-1778614200@bountyandsoul.org
SUMMARY:Zumba Class
DESCRIPTION:Join us every Tuesday & Thursday at 6:30 PM for a high-energy\, fun\, and free Zumba class with Tara! Whether you’re a seasoned dancer or just starting out\, this class is designed for all levels—no experience needed. Come shake\, dance\, and sweat to uplifting music in a welcoming and supportive environment. Get ready to boost your mood\, energize your body\, and have a blast! This class will take place at St James Episcopal Church in Black Mountain (424 West State Street\, Black Mountain\, NC\, 28711).
URL:https://bountyandsoul.org/event/zumba-class-2/2026-05-12/
LOCATION:St James Episcopal Church\, 424 W. State Street\, Black Mountain\, NC\, 28711\, United States
CATEGORIES:Class
ATTACH;FMTTYPE=image/png:https://bountyandsoul.org/wp-content/uploads/2021/01/Zumba-Event-fi2a.png
END:VEVENT
BEGIN:VEVENT
DTSTART;TZID=America/New_York:20260513T153000
DTEND;TZID=America/New_York:20260513T170000
DTSTAMP:20260423T035021
CREATED:20260209T184439Z
LAST-MODIFIED:20260216T174802Z
UID:10012932-1778686200-1778691600@bountyandsoul.org
SUMMARY:Produce Market - Reynolds Fairview Market
DESCRIPTION:Join us for fresh\, nourishing produce and healthy food at no cost to you. Come connect with us!
URL:https://bountyandsoul.org/event/produce-market-covenant-community-church-4/2026-05-13/
LOCATION:Reynolds Fairview Market Location\, 99999 Rocket Drive\, Asheville\, 28803\, United States
CATEGORIES:Market
ATTACH;FMTTYPE=image/jpeg:https://bountyandsoul.org/wp-content/uploads/2024/10/Market-Event-Logo-rs.jpg
END:VEVENT
BEGIN:VEVENT
DTSTART;TZID=America/New_York:20260513T160000
DTEND;TZID=America/New_York:20260513T170000
DTSTAMP:20260423T035021
CREATED:20260209T184119Z
LAST-MODIFIED:20260216T194053Z
UID:10012916-1778688000-1778691600@bountyandsoul.org
SUMMARY:Produce Market - Beacon Community Center
DESCRIPTION:Join us for fresh\, nourishing produce and healthy food at no cost to you. Come connect with us and enjoy culturally relevant food.
URL:https://bountyandsoul.org/event/produce-market-beacon/2026-05-13/
LOCATION:B&S Community Center\, 216 Whitson Ave\, Swannanoa\, NC\, 28778\, United States
CATEGORIES:Market
ATTACH;FMTTYPE=image/jpeg:https://bountyandsoul.org/wp-content/uploads/2024/10/Market-Event-Logo-rs.jpg
END:VEVENT
BEGIN:VEVENT
DTSTART;TZID=America/New_York:20260513T170000
DTEND;TZID=America/New_York:20260513T190000
DTSTAMP:20260423T035021
CREATED:20260331T141352Z
LAST-MODIFIED:20260420T185503Z
UID:10013002-1778691600-1778698800@bountyandsoul.org
SUMMARY:The Art of the Herbal Tea Garden with Mary Bulan
DESCRIPTION:Welcome to Community Roots Month!  Each May\, our classes celebrate the growing season while sharing practical gardening knowledge with our community. Throughout the month\, participants explore everything from building strong garden foundations to preserving the harvest—gaining the skills and inspiration to grow\, nurture\, and enjoy the abundance of spring. \nThis week’s class: The Art of the Herbal Tea Garden with Mary Bulan \nCultivating an herbal tea garden is a simple yet satisfying way to enhance your wellbeing. In this hands-on workshop\, you’ll learn how to grow and use a vibrant variety of tea herbs\, including Tulsi\, Chrysanthemum\, and Roselle. Whether you tend a large garden or a sunny windowsill\, you’ll leave with the knowledge to create your own herbal blends from seed to cup—plus a starter plant to help you begin. \n📅 May 13th | 5–7 PM\n📍 1038 Old US Hwy 70W\, Black Mountain \nPlease arrive about 10 minutes early to get settled. Spots are limited\, so be sure to reserve yours soon! 
URL:https://bountyandsoul.org/event/the-art-of-the-herbal-tea-garden-with-mary-bulan/
LOCATION:Bounty & Soul Food\, Education and Volunteer Hub\, 1038 Old Hwy 70 W\, Black Mountain\, NC\, 28711\, United States
CATEGORIES:Class
ATTACH;FMTTYPE=image/png:https://bountyandsoul.org/wp-content/uploads/2022/01/Rooted-in-Health-Graphic.png
END:VEVENT
BEGIN:VEVENT
DTSTART;TZID=America/New_York:20260514T153000
DTEND;TZID=America/New_York:20260514T173000
DTSTAMP:20260423T035021
CREATED:20251103T232017Z
LAST-MODIFIED:20260209T184749Z
UID:10012949-1778772600-1778779800@bountyandsoul.org
SUMMARY:Produce Market - BiLo Lot
DESCRIPTION:Join us at this drive-thru market for fresh\, nourishing produce and healthy food at no cost.
URL:https://bountyandsoul.org/event/produce-market-bilo-lot-2-2/2026-05-14/
LOCATION:Bi-Lo\, 205 NC-9\, Black Mountain\, NC\, 28711\, United States
CATEGORIES:Market
ATTACH;FMTTYPE=image/jpeg:https://bountyandsoul.org/wp-content/uploads/2024/10/Market-Event-Logo-rs.jpg
END:VEVENT
BEGIN:VEVENT
DTSTART;TZID=America/New_York:20260514T183000
DTEND;TZID=America/New_York:20260514T193000
DTSTAMP:20260423T035021
CREATED:20250320T132435Z
LAST-MODIFIED:20250320T134100Z
UID:10011903-1778783400-1778787000@bountyandsoul.org
SUMMARY:Zumba Class
DESCRIPTION:Join us every Tuesday & Thursday at 6:30 PM for a high-energy\, fun\, and free Zumba class with Tara! Whether you’re a seasoned dancer or just starting out\, this class is designed for all levels—no experience needed. Come shake\, dance\, and sweat to uplifting music in a welcoming and supportive environment. Get ready to boost your mood\, energize your body\, and have a blast! This class will take place at St James Episcopal Church in Black Mountain (424 West State Street\, Black Mountain\, NC\, 28711).
URL:https://bountyandsoul.org/event/zumba-class-2/2026-05-14/
LOCATION:St James Episcopal Church\, 424 W. State Street\, Black Mountain\, NC\, 28711\, United States
CATEGORIES:Class
ATTACH;FMTTYPE=image/png:https://bountyandsoul.org/wp-content/uploads/2021/01/Zumba-Event-fi2a.png
END:VEVENT
BEGIN:VEVENT
DTSTART;TZID=America/New_York:20260515T103000
DTEND;TZID=America/New_York:20260515T120000
DTSTAMP:20260423T035021
CREATED:20250311T173527Z
LAST-MODIFIED:20260209T185047Z
UID:10012983-1778841000-1778846400@bountyandsoul.org
SUMMARY:Produce Market - Rock Hill Baptist Church
DESCRIPTION:Join us for fresh\, nourishing produce and healthy food at no cost to you. Come connect with us!
URL:https://bountyandsoul.org/event/rock-hill-baptist-church/2026-05-15/
LOCATION:Rock Hill Baptist Church\, 486 Caribou Rd\, Asheville\, NC\, 28803\, United States
CATEGORIES:Market
ATTACH;FMTTYPE=image/jpeg:https://bountyandsoul.org/wp-content/uploads/2024/10/Market-Event-Logo-rs.jpg
END:VEVENT
BEGIN:VEVENT
DTSTART;TZID=America/New_York:20260515T133000
DTEND;TZID=America/New_York:20260515T150000
DTSTAMP:20260423T035021
CREATED:20250324T182751Z
LAST-MODIFIED:20260209T184940Z
UID:10012041-1778851800-1778857200@bountyandsoul.org
SUMMARY:Produce Market - Dr. Wesley Grant Sr. Southside Community Center
DESCRIPTION:Join us for fresh\, nourishing produce and healthy food at no cost to you. Come connect with us!
URL:https://bountyandsoul.org/event/produce-market-dr-wesley-grant-sr-southside-community-center/2026-05-15/
LOCATION:Dr. Wesley Grant Sr. Southside Community Center\, 285 Livingston St\, Asheville\, NC 28801\, Asheville
CATEGORIES:Market
ATTACH;FMTTYPE=image/jpeg:https://bountyandsoul.org/wp-content/uploads/2024/10/Market-Event-Logo-rs.jpg
END:VEVENT
BEGIN:VEVENT
DTSTART;TZID=America/New_York:20260516T100000
DTEND;TZID=America/New_York:20260516T113000
DTSTAMP:20260423T035021
CREATED:20260209T182155Z
LAST-MODIFIED:20260209T182655Z
UID:10012824-1778925600-1778931000@bountyandsoul.org
SUMMARY:Produce Market - ArtSpace
DESCRIPTION:Join us for fresh\, nourishing produce and healthy food at no cost to you. Come connect with us!
URL:https://bountyandsoul.org/event/produce-market-artspace-2-2/2026-05-16/
LOCATION:ArtSpace Charter School\, 2030 US Highway 70\, Swannanoa\, NC\, 28778\, United States
CATEGORIES:Market
ATTACH;FMTTYPE=image/jpeg:https://bountyandsoul.org/wp-content/uploads/2024/10/Market-Event-Logo-rs.jpg
END:VEVENT
BEGIN:VEVENT
DTSTART;TZID=America/New_York:20260519T153000
DTEND;TZID=America/New_York:20260519T170000
DTSTAMP:20260423T035021
CREATED:20250311T171504Z
LAST-MODIFIED:20260209T183823Z
UID:10012895-1779204600-1779210000@bountyandsoul.org
SUMMARY:Produce Market - UNETE
DESCRIPTION:Join us for fresh\, nourishing produce and healthy food at no cost to you. Come connect with us!
URL:https://bountyandsoul.org/event/produce-market-unete/2026-05-19/
LOCATION:UNETE\, 871 Riverside Dr\, Asheville\, NC\, 28804\, United States
CATEGORIES:Market
ATTACH;FMTTYPE=image/jpeg:https://bountyandsoul.org/wp-content/uploads/2024/10/Market-Event-Logo-rs.jpg
END:VEVENT
BEGIN:VEVENT
DTSTART;TZID=America/New_York:20260519T183000
DTEND;TZID=America/New_York:20260519T193000
DTSTAMP:20260423T035021
CREATED:20250320T132435Z
LAST-MODIFIED:20250320T134100Z
UID:10011904-1779215400-1779219000@bountyandsoul.org
SUMMARY:Zumba Class
DESCRIPTION:Join us every Tuesday & Thursday at 6:30 PM for a high-energy\, fun\, and free Zumba class with Tara! Whether you’re a seasoned dancer or just starting out\, this class is designed for all levels—no experience needed. Come shake\, dance\, and sweat to uplifting music in a welcoming and supportive environment. Get ready to boost your mood\, energize your body\, and have a blast! This class will take place at St James Episcopal Church in Black Mountain (424 West State Street\, Black Mountain\, NC\, 28711).
URL:https://bountyandsoul.org/event/zumba-class-2/2026-05-19/
LOCATION:St James Episcopal Church\, 424 W. State Street\, Black Mountain\, NC\, 28711\, United States
CATEGORIES:Class
ATTACH;FMTTYPE=image/png:https://bountyandsoul.org/wp-content/uploads/2021/01/Zumba-Event-fi2a.png
END:VEVENT
BEGIN:VEVENT
DTSTART;TZID=America/New_York:20260520T153000
DTEND;TZID=America/New_York:20260520T170000
DTSTAMP:20260423T035021
CREATED:20260209T184439Z
LAST-MODIFIED:20260216T174802Z
UID:10012933-1779291000-1779296400@bountyandsoul.org
SUMMARY:Produce Market - Reynolds Fairview Market
DESCRIPTION:Join us for fresh\, nourishing produce and healthy food at no cost to you. Come connect with us!
URL:https://bountyandsoul.org/event/produce-market-covenant-community-church-4/2026-05-20/
LOCATION:Reynolds Fairview Market Location\, 99999 Rocket Drive\, Asheville\, 28803\, United States
CATEGORIES:Market
ATTACH;FMTTYPE=image/jpeg:https://bountyandsoul.org/wp-content/uploads/2024/10/Market-Event-Logo-rs.jpg
END:VEVENT
BEGIN:VEVENT
DTSTART;TZID=America/New_York:20260520T160000
DTEND;TZID=America/New_York:20260520T170000
DTSTAMP:20260423T035021
CREATED:20260209T184119Z
LAST-MODIFIED:20260216T194053Z
UID:10012917-1779292800-1779296400@bountyandsoul.org
SUMMARY:Produce Market - Beacon Community Center
DESCRIPTION:Join us for fresh\, nourishing produce and healthy food at no cost to you. Come connect with us and enjoy culturally relevant food.
URL:https://bountyandsoul.org/event/produce-market-beacon/2026-05-20/
LOCATION:B&S Community Center\, 216 Whitson Ave\, Swannanoa\, NC\, 28778\, United States
CATEGORIES:Market
ATTACH;FMTTYPE=image/jpeg:https://bountyandsoul.org/wp-content/uploads/2024/10/Market-Event-Logo-rs.jpg
END:VEVENT
BEGIN:VEVENT
DTSTART;TZID=America/New_York:20260520T170000
DTEND;TZID=America/New_York:20260520T190000
DTSTAMP:20260423T035021
CREATED:20260331T141723Z
LAST-MODIFIED:20260420T185514Z
UID:10013003-1779296400-1779303600@bountyandsoul.org
SUMMARY:Preserving the Harvest Workshop with Fermenti’s Meg Chamberlin
DESCRIPTION:Welcome to Community Roots Month! Each May\, our classes celebrate the growing season while sharing practical gardening knowledge with our community. Throughout the month\, participants explore everything from building strong garden foundations to preserving the bounty of the season—gaining the skills and inspiration to grow\, nurture\, and enjoy the abundance of spring. \nPreserving the Harvest Workshop with Fermenti’s Meg Chamberlin \nThis May\, discover how to preserve fresh produce through fermentation! Join Meg Chamberlin\, owner and founder of Fermenti\, for a hands-on workshop celebrating both sustainability and flavor. \nMeg will guide participants through the simple\, time-honored art of fermentation\, demonstrating how seasonal vegetables can be transformed into vibrant\, probiotic-rich foods that last well beyond the growing season. Working step-by-step with their own fermentation kit\, participants will learn practical techniques for extending the life of fresh ingredients while reducing food waste. \n📅 May 20th | 5–7 PM\n📍 1038 Old US Hwy 70W\, Black Mountain \nPlease arrive about 10 minutes early to get settled. Spots are limited\, so be sure to reserve yours soon!
URL:https://bountyandsoul.org/event/preserving-the-harvest-workshop-with-fermentis-meg-chamberlin/
LOCATION:Bounty & Soul Food\, Education and Volunteer Hub\, 1038 Old Hwy 70 W\, Black Mountain\, NC\, 28711\, United States
CATEGORIES:Class
ATTACH;FMTTYPE=image/png:https://bountyandsoul.org/wp-content/uploads/2022/01/Rooted-in-Health-Graphic.png
END:VEVENT
BEGIN:VEVENT
DTSTART;TZID=America/New_York:20260521T153000
DTEND;TZID=America/New_York:20260521T173000
DTSTAMP:20260423T035021
CREATED:20251103T232017Z
LAST-MODIFIED:20260209T184749Z
UID:10012950-1779377400-1779384600@bountyandsoul.org
SUMMARY:Produce Market - BiLo Lot
DESCRIPTION:Join us at this drive-thru market for fresh\, nourishing produce and healthy food at no cost.
URL:https://bountyandsoul.org/event/produce-market-bilo-lot-2-2/2026-05-21/
LOCATION:Bi-Lo\, 205 NC-9\, Black Mountain\, NC\, 28711\, United States
CATEGORIES:Market
ATTACH;FMTTYPE=image/jpeg:https://bountyandsoul.org/wp-content/uploads/2024/10/Market-Event-Logo-rs.jpg
END:VEVENT
BEGIN:VEVENT
DTSTART;TZID=America/New_York:20260521T183000
DTEND;TZID=America/New_York:20260521T193000
DTSTAMP:20260423T035021
CREATED:20250320T132435Z
LAST-MODIFIED:20250320T134100Z
UID:10011905-1779388200-1779391800@bountyandsoul.org
SUMMARY:Zumba Class
DESCRIPTION:Join us every Tuesday & Thursday at 6:30 PM for a high-energy\, fun\, and free Zumba class with Tara! Whether you’re a seasoned dancer or just starting out\, this class is designed for all levels—no experience needed. Come shake\, dance\, and sweat to uplifting music in a welcoming and supportive environment. Get ready to boost your mood\, energize your body\, and have a blast! This class will take place at St James Episcopal Church in Black Mountain (424 West State Street\, Black Mountain\, NC\, 28711).
URL:https://bountyandsoul.org/event/zumba-class-2/2026-05-21/
LOCATION:St James Episcopal Church\, 424 W. State Street\, Black Mountain\, NC\, 28711\, United States
CATEGORIES:Class
ATTACH;FMTTYPE=image/png:https://bountyandsoul.org/wp-content/uploads/2021/01/Zumba-Event-fi2a.png
END:VEVENT
BEGIN:VEVENT
DTSTART;TZID=America/New_York:20260522T103000
DTEND;TZID=America/New_York:20260522T120000
DTSTAMP:20260423T035021
CREATED:20250311T173527Z
LAST-MODIFIED:20260209T185047Z
UID:10012984-1779445800-1779451200@bountyandsoul.org
SUMMARY:Produce Market - Rock Hill Baptist Church
DESCRIPTION:Join us for fresh\, nourishing produce and healthy food at no cost to you. Come connect with us!
URL:https://bountyandsoul.org/event/rock-hill-baptist-church/2026-05-22/
LOCATION:Rock Hill Baptist Church\, 486 Caribou Rd\, Asheville\, NC\, 28803\, United States
CATEGORIES:Market
ATTACH;FMTTYPE=image/jpeg:https://bountyandsoul.org/wp-content/uploads/2024/10/Market-Event-Logo-rs.jpg
END:VEVENT
BEGIN:VEVENT
DTSTART;TZID=America/New_York:20260522T133000
DTEND;TZID=America/New_York:20260522T150000
DTSTAMP:20260423T035021
CREATED:20250324T182751Z
LAST-MODIFIED:20260209T184940Z
UID:10012042-1779456600-1779462000@bountyandsoul.org
SUMMARY:Produce Market - Dr. Wesley Grant Sr. Southside Community Center
DESCRIPTION:Join us for fresh\, nourishing produce and healthy food at no cost to you. Come connect with us!
URL:https://bountyandsoul.org/event/produce-market-dr-wesley-grant-sr-southside-community-center/2026-05-22/
LOCATION:Dr. Wesley Grant Sr. Southside Community Center\, 285 Livingston St\, Asheville\, NC 28801\, Asheville
CATEGORIES:Market
ATTACH;FMTTYPE=image/jpeg:https://bountyandsoul.org/wp-content/uploads/2024/10/Market-Event-Logo-rs.jpg
END:VEVENT
BEGIN:VEVENT
DTSTART;TZID=America/New_York:20260523T100000
DTEND;TZID=America/New_York:20260523T113000
DTSTAMP:20260423T035021
CREATED:20260209T182155Z
LAST-MODIFIED:20260209T182655Z
UID:10012825-1779530400-1779535800@bountyandsoul.org
SUMMARY:Produce Market - ArtSpace
DESCRIPTION:Join us for fresh\, nourishing produce and healthy food at no cost to you. Come connect with us!
URL:https://bountyandsoul.org/event/produce-market-artspace-2-2/2026-05-23/
LOCATION:ArtSpace Charter School\, 2030 US Highway 70\, Swannanoa\, NC\, 28778\, United States
CATEGORIES:Market
ATTACH;FMTTYPE=image/jpeg:https://bountyandsoul.org/wp-content/uploads/2024/10/Market-Event-Logo-rs.jpg
END:VEVENT
BEGIN:VEVENT
DTSTART;TZID=America/New_York:20260526T153000
DTEND;TZID=America/New_York:20260526T170000
DTSTAMP:20260423T035021
CREATED:20250311T171504Z
LAST-MODIFIED:20260209T183823Z
UID:10012896-1779809400-1779814800@bountyandsoul.org
SUMMARY:Produce Market - UNETE
DESCRIPTION:Join us for fresh\, nourishing produce and healthy food at no cost to you. Come connect with us!
URL:https://bountyandsoul.org/event/produce-market-unete/2026-05-26/
LOCATION:UNETE\, 871 Riverside Dr\, Asheville\, NC\, 28804\, United States
CATEGORIES:Market
ATTACH;FMTTYPE=image/jpeg:https://bountyandsoul.org/wp-content/uploads/2024/10/Market-Event-Logo-rs.jpg
END:VEVENT
BEGIN:VEVENT
DTSTART;TZID=America/New_York:20260526T183000
DTEND;TZID=America/New_York:20260526T193000
DTSTAMP:20260423T035021
CREATED:20250320T132435Z
LAST-MODIFIED:20250320T134100Z
UID:10011906-1779820200-1779823800@bountyandsoul.org
SUMMARY:Zumba Class
DESCRIPTION:Join us every Tuesday & Thursday at 6:30 PM for a high-energy\, fun\, and free Zumba class with Tara! Whether you’re a seasoned dancer or just starting out\, this class is designed for all levels—no experience needed. Come shake\, dance\, and sweat to uplifting music in a welcoming and supportive environment. Get ready to boost your mood\, energize your body\, and have a blast! This class will take place at St James Episcopal Church in Black Mountain (424 West State Street\, Black Mountain\, NC\, 28711).
URL:https://bountyandsoul.org/event/zumba-class-2/2026-05-26/
LOCATION:St James Episcopal Church\, 424 W. State Street\, Black Mountain\, NC\, 28711\, United States
CATEGORIES:Class
ATTACH;FMTTYPE=image/png:https://bountyandsoul.org/wp-content/uploads/2021/01/Zumba-Event-fi2a.png
END:VEVENT
BEGIN:VEVENT
DTSTART;TZID=America/New_York:20260527T153000
DTEND;TZID=America/New_York:20260527T170000
DTSTAMP:20260423T035021
CREATED:20260209T184439Z
LAST-MODIFIED:20260216T174802Z
UID:10012934-1779895800-1779901200@bountyandsoul.org
SUMMARY:Produce Market - Reynolds Fairview Market
DESCRIPTION:Join us for fresh\, nourishing produce and healthy food at no cost to you. Come connect with us!
URL:https://bountyandsoul.org/event/produce-market-covenant-community-church-4/2026-05-27/
LOCATION:Reynolds Fairview Market Location\, 99999 Rocket Drive\, Asheville\, 28803\, United States
CATEGORIES:Market
ATTACH;FMTTYPE=image/jpeg:https://bountyandsoul.org/wp-content/uploads/2024/10/Market-Event-Logo-rs.jpg
END:VEVENT
BEGIN:VEVENT
DTSTART;TZID=America/New_York:20260527T170000
DTEND;TZID=America/New_York:20260527T200000
DTSTAMP:20260423T035021
CREATED:20260331T142007Z
LAST-MODIFIED:20260420T185536Z
UID:10013004-1779901200-1779912000@bountyandsoul.org
SUMMARY:Local Foods Cooking Class with Chef Jamie Myers
DESCRIPTION:Welcome to Community Roots Month! Each May\, our classes celebrate the growing season while sharing practical gardening knowledge with our community. Throughout the month\, participants explore everything from building strong garden foundations to preserving the harvest—gaining the skills and inspiration to grow\, nurture\, and enjoy the abundance of spring. \nLocal Foods Cooking Class with Jamie Myers \nTo close out Community Roots Month\, Chef Jamie Myers will take participants on a culinary journey that celebrates the beauty and flavor of cooking with local produce. In this hands-on class\, you’ll learn how to transform fresh\, seasonal ingredients into vibrant\, nourishing dishes that highlight what’s growing right here in our region. \nJamie will share practical kitchen techniques for preparing vegetables at their peak\, along with creative ways to layer flavor using herbs\, spices\, and simple cooking methods. Participants will explore how to build balanced\, satisfying meals from locally grown foods while gaining confidence in cooking with whatever the season provides. \nChef Jamie is a professionally trained chef (Pennsylvania College of Technology\, part of Penn State) with over 15 years of culinary experience in Buncombe County. His cooking style highlights local\, seasonal ingredients with global inspiration—blending world flavors with Appalachian roots. Expect a welcoming\, interactive class where participants will cook\, taste\, and leave inspired to bring the flavors of local food into their own kitchens. \n  \n📅 May 27th | 5–7 PM\n📍 1038 Old US Hwy 70W\, Black Mountain \nPlease arrive about 10 minutes early to get settled. Spots are limited\, so be sure to reserve yours soon!
URL:https://bountyandsoul.org/event/local-foods-cooking-class-with-chef-jamie-myers/
LOCATION:Bounty & Soul Food\, Education and Volunteer Hub\, 1038 Old Hwy 70 W\, Black Mountain\, NC\, 28711\, United States
CATEGORIES:Class
ATTACH;FMTTYPE=image/png:https://bountyandsoul.org/wp-content/uploads/2021/10/Cooking-Class-Icon2-1.png
END:VEVENT
BEGIN:VEVENT
DTSTART;TZID=America/New_York:20260528T153000
DTEND;TZID=America/New_York:20260528T173000
DTSTAMP:20260423T035021
CREATED:20251103T232017Z
LAST-MODIFIED:20260209T184749Z
UID:10012951-1779982200-1779989400@bountyandsoul.org
SUMMARY:Produce Market - BiLo Lot
DESCRIPTION:Join us at this drive-thru market for fresh\, nourishing produce and healthy food at no cost.
URL:https://bountyandsoul.org/event/produce-market-bilo-lot-2-2/2026-05-28/
LOCATION:Bi-Lo\, 205 NC-9\, Black Mountain\, NC\, 28711\, United States
CATEGORIES:Market
ATTACH;FMTTYPE=image/jpeg:https://bountyandsoul.org/wp-content/uploads/2024/10/Market-Event-Logo-rs.jpg
END:VEVENT
BEGIN:VEVENT
DTSTART;TZID=America/New_York:20260528T183000
DTEND;TZID=America/New_York:20260528T193000
DTSTAMP:20260423T035021
CREATED:20250320T132435Z
LAST-MODIFIED:20250320T134100Z
UID:10011907-1779993000-1779996600@bountyandsoul.org
SUMMARY:Zumba Class
DESCRIPTION:Join us every Tuesday & Thursday at 6:30 PM for a high-energy\, fun\, and free Zumba class with Tara! Whether you’re a seasoned dancer or just starting out\, this class is designed for all levels—no experience needed. Come shake\, dance\, and sweat to uplifting music in a welcoming and supportive environment. Get ready to boost your mood\, energize your body\, and have a blast! This class will take place at St James Episcopal Church in Black Mountain (424 West State Street\, Black Mountain\, NC\, 28711).
URL:https://bountyandsoul.org/event/zumba-class-2/2026-05-28/
LOCATION:St James Episcopal Church\, 424 W. State Street\, Black Mountain\, NC\, 28711\, United States
CATEGORIES:Class
ATTACH;FMTTYPE=image/png:https://bountyandsoul.org/wp-content/uploads/2021/01/Zumba-Event-fi2a.png
END:VEVENT
BEGIN:VEVENT
DTSTART;TZID=America/New_York:20260529T103000
DTEND;TZID=America/New_York:20260529T120000
DTSTAMP:20260423T035021
CREATED:20250311T173527Z
LAST-MODIFIED:20260209T185047Z
UID:10012985-1780050600-1780056000@bountyandsoul.org
SUMMARY:Produce Market - Rock Hill Baptist Church
DESCRIPTION:Join us for fresh\, nourishing produce and healthy food at no cost to you. Come connect with us!
URL:https://bountyandsoul.org/event/rock-hill-baptist-church/2026-05-29/
LOCATION:Rock Hill Baptist Church\, 486 Caribou Rd\, Asheville\, NC\, 28803\, United States
CATEGORIES:Market
ATTACH;FMTTYPE=image/jpeg:https://bountyandsoul.org/wp-content/uploads/2024/10/Market-Event-Logo-rs.jpg
END:VEVENT
BEGIN:VEVENT
DTSTART;TZID=America/New_York:20260529T133000
DTEND;TZID=America/New_York:20260529T150000
DTSTAMP:20260423T035021
CREATED:20250324T182751Z
LAST-MODIFIED:20260209T184940Z
UID:10012043-1780061400-1780066800@bountyandsoul.org
SUMMARY:Produce Market - Dr. Wesley Grant Sr. Southside Community Center
DESCRIPTION:Join us for fresh\, nourishing produce and healthy food at no cost to you. Come connect with us!
URL:https://bountyandsoul.org/event/produce-market-dr-wesley-grant-sr-southside-community-center/2026-05-29/
LOCATION:Dr. Wesley Grant Sr. Southside Community Center\, 285 Livingston St\, Asheville\, NC 28801\, Asheville
CATEGORIES:Market
ATTACH;FMTTYPE=image/jpeg:https://bountyandsoul.org/wp-content/uploads/2024/10/Market-Event-Logo-rs.jpg
END:VEVENT
BEGIN:VEVENT
DTSTART;TZID=America/New_York:20260530T100000
DTEND;TZID=America/New_York:20260530T113000
DTSTAMP:20260423T035021
CREATED:20260209T182155Z
LAST-MODIFIED:20260209T182655Z
UID:10012826-1780135200-1780140600@bountyandsoul.org
SUMMARY:Produce Market - ArtSpace
DESCRIPTION:Join us for fresh\, nourishing produce and healthy food at no cost to you. Come connect with us!
URL:https://bountyandsoul.org/event/produce-market-artspace-2-2/2026-05-30/
LOCATION:ArtSpace Charter School\, 2030 US Highway 70\, Swannanoa\, NC\, 28778\, United States
CATEGORIES:Market
ATTACH;FMTTYPE=image/jpeg:https://bountyandsoul.org/wp-content/uploads/2024/10/Market-Event-Logo-rs.jpg
END:VEVENT
BEGIN:VEVENT
DTSTART;TZID=America/New_York:20260602T183000
DTEND;TZID=America/New_York:20260602T193000
DTSTAMP:20260423T035021
CREATED:20250320T132435Z
LAST-MODIFIED:20250320T134100Z
UID:10011908-1780425000-1780428600@bountyandsoul.org
SUMMARY:Zumba Class
DESCRIPTION:Join us every Tuesday & Thursday at 6:30 PM for a high-energy\, fun\, and free Zumba class with Tara! Whether you’re a seasoned dancer or just starting out\, this class is designed for all levels—no experience needed. Come shake\, dance\, and sweat to uplifting music in a welcoming and supportive environment. Get ready to boost your mood\, energize your body\, and have a blast! This class will take place at St James Episcopal Church in Black Mountain (424 West State Street\, Black Mountain\, NC\, 28711).
URL:https://bountyandsoul.org/event/zumba-class-2/2026-06-02/
LOCATION:St James Episcopal Church\, 424 W. State Street\, Black Mountain\, NC\, 28711\, United States
CATEGORIES:Class
ATTACH;FMTTYPE=image/png:https://bountyandsoul.org/wp-content/uploads/2021/01/Zumba-Event-fi2a.png
END:VEVENT
END:VCALENDAR