BEGIN:VCALENDAR
VERSION:2.0
PRODID:-//Bounty &amp; Soul - ECPv6.15.20//NONSGML v1.0//EN
CALSCALE:GREGORIAN
METHOD:PUBLISH
X-ORIGINAL-URL:https://bountyandsoul.org
X-WR-CALDESC:Events for Bounty &amp; Soul
REFRESH-INTERVAL;VALUE=DURATION:PT1H
X-Robots-Tag:noindex
X-PUBLISHED-TTL:PT1H
BEGIN:VTIMEZONE
TZID:America/New_York
BEGIN:DAYLIGHT
TZOFFSETFROM:-0500
TZOFFSETTO:-0400
TZNAME:EDT
DTSTART:20250309T070000
END:DAYLIGHT
BEGIN:STANDARD
TZOFFSETFROM:-0400
TZOFFSETTO:-0500
TZNAME:EST
DTSTART:20251102T060000
END:STANDARD
BEGIN:DAYLIGHT
TZOFFSETFROM:-0500
TZOFFSETTO:-0400
TZNAME:EDT
DTSTART:20260308T070000
END:DAYLIGHT
BEGIN:STANDARD
TZOFFSETFROM:-0400
TZOFFSETTO:-0500
TZNAME:EST
DTSTART:20261101T060000
END:STANDARD
BEGIN:DAYLIGHT
TZOFFSETFROM:-0500
TZOFFSETTO:-0400
TZNAME:EDT
DTSTART:20270314T070000
END:DAYLIGHT
BEGIN:STANDARD
TZOFFSETFROM:-0400
TZOFFSETTO:-0500
TZNAME:EST
DTSTART:20271107T060000
END:STANDARD
END:VTIMEZONE
BEGIN:VEVENT
DTSTART;TZID=America/New_York:20260310T183000
DTEND;TZID=America/New_York:20260310T193000
DTSTAMP:20260423T102843
CREATED:20250320T132435Z
LAST-MODIFIED:20250320T134100Z
UID:10011884-1773167400-1773171000@bountyandsoul.org
SUMMARY:Zumba Class
DESCRIPTION:Join us every Tuesday & Thursday at 6:30 PM for a high-energy\, fun\, and free Zumba class with Tara! Whether you’re a seasoned dancer or just starting out\, this class is designed for all levels—no experience needed. Come shake\, dance\, and sweat to uplifting music in a welcoming and supportive environment. Get ready to boost your mood\, energize your body\, and have a blast! This class will take place at St James Episcopal Church in Black Mountain (424 West State Street\, Black Mountain\, NC\, 28711).
URL:https://bountyandsoul.org/event/zumba-class-2/2026-03-10/
LOCATION:St James Episcopal Church\, 424 W. State Street\, Black Mountain\, NC\, 28711\, United States
CATEGORIES:Class
ATTACH;FMTTYPE=image/png:https://bountyandsoul.org/wp-content/uploads/2021/01/Zumba-Event-fi2a.png
END:VEVENT
BEGIN:VEVENT
DTSTART;TZID=America/New_York:20260310T153000
DTEND;TZID=America/New_York:20260310T170000
DTSTAMP:20260423T102843
CREATED:20250311T171504Z
LAST-MODIFIED:20260209T183823Z
UID:10012885-1773156600-1773162000@bountyandsoul.org
SUMMARY:Produce Market - UNETE
DESCRIPTION:Join us for fresh\, nourishing produce and healthy food at no cost to you. Come connect with us!
URL:https://bountyandsoul.org/event/produce-market-unete/2026-03-10/
LOCATION:UNETE\, 871 Riverside Dr\, Asheville\, NC\, 28804\, United States
CATEGORIES:Market
ATTACH;FMTTYPE=image/jpeg:https://bountyandsoul.org/wp-content/uploads/2024/10/Market-Event-Logo-rs.jpg
END:VEVENT
BEGIN:VEVENT
DTSTART;TZID=America/New_York:20260307T100000
DTEND;TZID=America/New_York:20260307T113000
DTSTAMP:20260423T102843
CREATED:20260209T182155Z
LAST-MODIFIED:20260209T182655Z
UID:10012814-1772877600-1772883000@bountyandsoul.org
SUMMARY:Produce Market - ArtSpace
DESCRIPTION:Join us for fresh\, nourishing produce and healthy food at no cost to you. Come connect with us!
URL:https://bountyandsoul.org/event/produce-market-artspace-2-2/2026-03-07/
LOCATION:ArtSpace Charter School\, 2030 US Highway 70\, Swannanoa\, NC\, 28778\, United States
CATEGORIES:Market
ATTACH;FMTTYPE=image/jpeg:https://bountyandsoul.org/wp-content/uploads/2024/10/Market-Event-Logo-rs.jpg
END:VEVENT
BEGIN:VEVENT
DTSTART;TZID=America/New_York:20260306T133000
DTEND;TZID=America/New_York:20260306T150000
DTSTAMP:20260423T102843
CREATED:20250324T182751Z
LAST-MODIFIED:20260209T184940Z
UID:10012031-1772803800-1772809200@bountyandsoul.org
SUMMARY:Produce Market - Dr. Wesley Grant Sr. Southside Community Center
DESCRIPTION:Join us for fresh\, nourishing produce and healthy food at no cost to you. Come connect with us!
URL:https://bountyandsoul.org/event/produce-market-dr-wesley-grant-sr-southside-community-center/2026-03-06/
LOCATION:Dr. Wesley Grant Sr. Southside Community Center\, 285 Livingston St\, Asheville\, NC 28801\, Asheville
CATEGORIES:Market
ATTACH;FMTTYPE=image/jpeg:https://bountyandsoul.org/wp-content/uploads/2024/10/Market-Event-Logo-rs.jpg
END:VEVENT
BEGIN:VEVENT
DTSTART;TZID=America/New_York:20260306T103000
DTEND;TZID=America/New_York:20260306T120000
DTSTAMP:20260423T102843
CREATED:20250311T173527Z
LAST-MODIFIED:20260209T185047Z
UID:10012973-1772793000-1772798400@bountyandsoul.org
SUMMARY:Produce Market - Rock Hill Baptist Church
DESCRIPTION:Join us for fresh\, nourishing produce and healthy food at no cost to you. Come connect with us!
URL:https://bountyandsoul.org/event/rock-hill-baptist-church/2026-03-06/
LOCATION:Rock Hill Baptist Church\, 486 Caribou Rd\, Asheville\, NC\, 28803\, United States
CATEGORIES:Market
ATTACH;FMTTYPE=image/jpeg:https://bountyandsoul.org/wp-content/uploads/2024/10/Market-Event-Logo-rs.jpg
END:VEVENT
BEGIN:VEVENT
DTSTART;TZID=America/New_York:20260305T183000
DTEND;TZID=America/New_York:20260305T193000
DTSTAMP:20260423T102843
CREATED:20250320T132435Z
LAST-MODIFIED:20250320T134100Z
UID:10011883-1772735400-1772739000@bountyandsoul.org
SUMMARY:Zumba Class
DESCRIPTION:Join us every Tuesday & Thursday at 6:30 PM for a high-energy\, fun\, and free Zumba class with Tara! Whether you’re a seasoned dancer or just starting out\, this class is designed for all levels—no experience needed. Come shake\, dance\, and sweat to uplifting music in a welcoming and supportive environment. Get ready to boost your mood\, energize your body\, and have a blast! This class will take place at St James Episcopal Church in Black Mountain (424 West State Street\, Black Mountain\, NC\, 28711).
URL:https://bountyandsoul.org/event/zumba-class-2/2026-03-05/
LOCATION:St James Episcopal Church\, 424 W. State Street\, Black Mountain\, NC\, 28711\, United States
CATEGORIES:Class
ATTACH;FMTTYPE=image/png:https://bountyandsoul.org/wp-content/uploads/2021/01/Zumba-Event-fi2a.png
END:VEVENT
BEGIN:VEVENT
DTSTART;TZID=America/New_York:20260305T153000
DTEND;TZID=America/New_York:20260305T173000
DTSTAMP:20260423T102843
CREATED:20251103T232017Z
LAST-MODIFIED:20260209T184749Z
UID:10012939-1772724600-1772731800@bountyandsoul.org
SUMMARY:Produce Market - BiLo Lot
DESCRIPTION:Join us at this drive-thru market for fresh\, nourishing produce and healthy food at no cost.
URL:https://bountyandsoul.org/event/produce-market-bilo-lot-2-2/2026-03-05/
LOCATION:Bi-Lo\, 205 NC-9\, Black Mountain\, NC\, 28711\, United States
CATEGORIES:Market
ATTACH;FMTTYPE=image/jpeg:https://bountyandsoul.org/wp-content/uploads/2024/10/Market-Event-Logo-rs.jpg
END:VEVENT
BEGIN:VEVENT
DTSTART;TZID=America/New_York:20260304T160000
DTEND;TZID=America/New_York:20260304T170000
DTSTAMP:20260423T102843
CREATED:20260209T184119Z
LAST-MODIFIED:20260216T194053Z
UID:10012906-1772640000-1772643600@bountyandsoul.org
SUMMARY:Produce Market - Beacon Community Center
DESCRIPTION:Join us for fresh\, nourishing produce and healthy food at no cost to you. Come connect with us and enjoy culturally relevant food.
URL:https://bountyandsoul.org/event/produce-market-beacon/2026-03-04/
LOCATION:B&S Community Center\, 216 Whitson Ave\, Swannanoa\, NC\, 28778\, United States
CATEGORIES:Market
ATTACH;FMTTYPE=image/jpeg:https://bountyandsoul.org/wp-content/uploads/2024/10/Market-Event-Logo-rs.jpg
END:VEVENT
BEGIN:VEVENT
DTSTART;TZID=America/New_York:20260304T153000
DTEND;TZID=America/New_York:20260304T170000
DTSTAMP:20260423T102843
CREATED:20260209T184439Z
LAST-MODIFIED:20260216T174802Z
UID:10012922-1772638200-1772643600@bountyandsoul.org
SUMMARY:Produce Market - Reynolds Fairview Market
DESCRIPTION:Join us for fresh\, nourishing produce and healthy food at no cost to you. Come connect with us!
URL:https://bountyandsoul.org/event/produce-market-covenant-community-church-4/2026-03-04/
LOCATION:Reynolds Fairview Market Location\, 99999 Rocket Drive\, Asheville\, 28803\, United States
CATEGORIES:Market
ATTACH;FMTTYPE=image/jpeg:https://bountyandsoul.org/wp-content/uploads/2024/10/Market-Event-Logo-rs.jpg
END:VEVENT
BEGIN:VEVENT
DTSTART;TZID=America/New_York:20260303T183000
DTEND;TZID=America/New_York:20260303T193000
DTSTAMP:20260423T102843
CREATED:20260226T191007Z
LAST-MODIFIED:20260226T191009Z
UID:10011882-1772562600-1772566200@bountyandsoul.org
SUMMARY:Zumba Class- CLASS CANCELED TODAY
DESCRIPTION:Join us every Tuesday & Thursday at 6:30 PM for a high-energy\, fun\, and free Zumba class with Tara! Whether you’re a seasoned dancer or just starting out\, this class is designed for all levels—no experience needed. Come shake\, dance\, and sweat to uplifting music in a welcoming and supportive environment. Get ready to boost your mood\, energize your body\, and have a blast! This class will take place at St James Episcopal Church in Black Mountain (424 West State Street\, Black Mountain\, NC\, 28711).
URL:https://bountyandsoul.org/event/zumba-class-2-21/
LOCATION:St James Episcopal Church\, 424 W. State Street\, Black Mountain\, NC\, 28711\, United States
CATEGORIES:Class
ATTACH;FMTTYPE=image/png:https://bountyandsoul.org/wp-content/uploads/2021/01/Zumba-Event-fi2a.png
END:VEVENT
BEGIN:VEVENT
DTSTART;TZID=America/New_York:20260303T153000
DTEND;TZID=America/New_York:20260303T170000
DTSTAMP:20260423T102843
CREATED:20250311T171504Z
LAST-MODIFIED:20260209T183823Z
UID:10012884-1772551800-1772557200@bountyandsoul.org
SUMMARY:Produce Market - UNETE
DESCRIPTION:Join us for fresh\, nourishing produce and healthy food at no cost to you. Come connect with us!
URL:https://bountyandsoul.org/event/produce-market-unete/2026-03-03/
LOCATION:UNETE\, 871 Riverside Dr\, Asheville\, NC\, 28804\, United States
CATEGORIES:Market
ATTACH;FMTTYPE=image/jpeg:https://bountyandsoul.org/wp-content/uploads/2024/10/Market-Event-Logo-rs.jpg
END:VEVENT
BEGIN:VEVENT
DTSTART;TZID=America/New_York:20260302T173000
DTEND;TZID=America/New_York:20260302T183000
DTSTAMP:20260423T102843
CREATED:20260210T194746Z
LAST-MODIFIED:20260210T194746Z
UID:10012986-1772472600-1772476200@bountyandsoul.org
SUMMARY:Mindful Monday: Mindful Poetry for Beginners
DESCRIPTION:Each Monday\, we gather as a community to welcome the week with mindfulness and intention. Every session offers a unique way to cultivate presence\, reflection\, and connection. \nThis Monday\, join us for a Mindful Poetry Class—a gentle invitation to bring mindfulness into authentic expression through writing. \nThis class weaves together meditation\, contemplation\, and poetry as a way to slow down\, tune inward\, and give voice to what arises. The intention is to cultivate awareness\, compassion\, and curiosity around what it feels like to be still\, to write\, and—if you choose—to share your words in a supportive\, nonjudgmental space. No prior writing or poetry experience is necessary\, and there will be no criticism or pressure to share. \nThe class will flow as follows: \n\n\nOpening poem \n\n\n10-minute guided meditation \n\n\n10 minutes of contemplation\, with optional exploratory note-taking \n\n\n20 minutes of free writing \n\n\nOptional sharing of writing (with mindful speaking and listening) \n\n\nClosing reflections and questions \n\n\nCome as you are. Whether you’re new to writing or have an established practice\, this class offers a nourishing space to slow down\, listen deeply\, and connect—both with yourself and with others. Please arrive 10–15 minutes early to settle in. Spots are limited\, so reserve yours soon.
URL:https://bountyandsoul.org/event/mindful-monday-mindful-poetry-for-beginners-2/
LOCATION:B&S Community Center\, 216 Whitson Ave\, Swannanoa\, NC\, 28778\, United States
CATEGORIES:Class
ATTACH;FMTTYPE=image/png:https://bountyandsoul.org/wp-content/uploads/2022/01/Rooted-in-Health-Graphic.png
END:VEVENT
BEGIN:VEVENT
DTSTART;TZID=America/New_York:20260228T100000
DTEND;TZID=America/New_York:20260228T113000
DTSTAMP:20260423T102843
CREATED:20260209T182155Z
LAST-MODIFIED:20260209T182655Z
UID:10012813-1772272800-1772278200@bountyandsoul.org
SUMMARY:Produce Market - ArtSpace
DESCRIPTION:Join us for fresh\, nourishing produce and healthy food at no cost to you. Come connect with us!
URL:https://bountyandsoul.org/event/produce-market-artspace-2-2/2026-02-28/
LOCATION:ArtSpace Charter School\, 2030 US Highway 70\, Swannanoa\, NC\, 28778\, United States
CATEGORIES:Market
ATTACH;FMTTYPE=image/jpeg:https://bountyandsoul.org/wp-content/uploads/2024/10/Market-Event-Logo-rs.jpg
END:VEVENT
BEGIN:VEVENT
DTSTART;TZID=America/New_York:20260227T133000
DTEND;TZID=America/New_York:20260227T150000
DTSTAMP:20260423T102843
CREATED:20250324T182751Z
LAST-MODIFIED:20260209T184940Z
UID:10012030-1772199000-1772204400@bountyandsoul.org
SUMMARY:Produce Market - Dr. Wesley Grant Sr. Southside Community Center
DESCRIPTION:Join us for fresh\, nourishing produce and healthy food at no cost to you. Come connect with us!
URL:https://bountyandsoul.org/event/produce-market-dr-wesley-grant-sr-southside-community-center/2026-02-27/
LOCATION:Dr. Wesley Grant Sr. Southside Community Center\, 285 Livingston St\, Asheville\, NC 28801\, Asheville
CATEGORIES:Market
ATTACH;FMTTYPE=image/jpeg:https://bountyandsoul.org/wp-content/uploads/2024/10/Market-Event-Logo-rs.jpg
END:VEVENT
BEGIN:VEVENT
DTSTART;TZID=America/New_York:20260227T103000
DTEND;TZID=America/New_York:20260227T120000
DTSTAMP:20260423T102843
CREATED:20250311T173527Z
LAST-MODIFIED:20260209T185047Z
UID:10012972-1772188200-1772193600@bountyandsoul.org
SUMMARY:Produce Market - Rock Hill Baptist Church
DESCRIPTION:Join us for fresh\, nourishing produce and healthy food at no cost to you. Come connect with us!
URL:https://bountyandsoul.org/event/rock-hill-baptist-church/2026-02-27/
LOCATION:Rock Hill Baptist Church\, 486 Caribou Rd\, Asheville\, NC\, 28803\, United States
CATEGORIES:Market
ATTACH;FMTTYPE=image/jpeg:https://bountyandsoul.org/wp-content/uploads/2024/10/Market-Event-Logo-rs.jpg
END:VEVENT
BEGIN:VEVENT
DTSTART;TZID=America/New_York:20260226T183000
DTEND;TZID=America/New_York:20260226T193000
DTSTAMP:20260423T102843
CREATED:20250320T132435Z
LAST-MODIFIED:20250320T134100Z
UID:10011881-1772130600-1772134200@bountyandsoul.org
SUMMARY:Zumba Class
DESCRIPTION:Join us every Tuesday & Thursday at 6:30 PM for a high-energy\, fun\, and free Zumba class with Tara! Whether you’re a seasoned dancer or just starting out\, this class is designed for all levels—no experience needed. Come shake\, dance\, and sweat to uplifting music in a welcoming and supportive environment. Get ready to boost your mood\, energize your body\, and have a blast! This class will take place at St James Episcopal Church in Black Mountain (424 West State Street\, Black Mountain\, NC\, 28711).
URL:https://bountyandsoul.org/event/zumba-class-2/2026-02-26/
LOCATION:St James Episcopal Church\, 424 W. State Street\, Black Mountain\, NC\, 28711\, United States
CATEGORIES:Class
ATTACH;FMTTYPE=image/png:https://bountyandsoul.org/wp-content/uploads/2021/01/Zumba-Event-fi2a.png
END:VEVENT
BEGIN:VEVENT
DTSTART;TZID=America/New_York:20260226T153000
DTEND;TZID=America/New_York:20260226T173000
DTSTAMP:20260423T102843
CREATED:20251103T232017Z
LAST-MODIFIED:20260209T184749Z
UID:10012938-1772119800-1772127000@bountyandsoul.org
SUMMARY:Produce Market - BiLo Lot
DESCRIPTION:Join us at this drive-thru market for fresh\, nourishing produce and healthy food at no cost.
URL:https://bountyandsoul.org/event/produce-market-bilo-lot-2-2/2026-02-26/
LOCATION:Bi-Lo\, 205 NC-9\, Black Mountain\, NC\, 28711\, United States
CATEGORIES:Market
ATTACH;FMTTYPE=image/jpeg:https://bountyandsoul.org/wp-content/uploads/2024/10/Market-Event-Logo-rs.jpg
END:VEVENT
BEGIN:VEVENT
DTSTART;TZID=America/New_York:20260225T160000
DTEND;TZID=America/New_York:20260225T170000
DTSTAMP:20260423T102843
CREATED:20260209T184119Z
LAST-MODIFIED:20260216T194053Z
UID:10012905-1772035200-1772038800@bountyandsoul.org
SUMMARY:Produce Market - Beacon Community Center
DESCRIPTION:Join us for fresh\, nourishing produce and healthy food at no cost to you. Come connect with us and enjoy culturally relevant food.
URL:https://bountyandsoul.org/event/produce-market-beacon/2026-02-25/
LOCATION:B&S Community Center\, 216 Whitson Ave\, Swannanoa\, NC\, 28778\, United States
CATEGORIES:Market
ATTACH;FMTTYPE=image/jpeg:https://bountyandsoul.org/wp-content/uploads/2024/10/Market-Event-Logo-rs.jpg
END:VEVENT
BEGIN:VEVENT
DTSTART;TZID=America/New_York:20260225T153000
DTEND;TZID=America/New_York:20260225T170000
DTSTAMP:20260423T102843
CREATED:20260209T184439Z
LAST-MODIFIED:20260216T174802Z
UID:10012921-1772033400-1772038800@bountyandsoul.org
SUMMARY:Produce Market - Reynolds Fairview Market
DESCRIPTION:Join us for fresh\, nourishing produce and healthy food at no cost to you. Come connect with us!
URL:https://bountyandsoul.org/event/produce-market-covenant-community-church-4/2026-02-25/
LOCATION:Reynolds Fairview Market Location\, 99999 Rocket Drive\, Asheville\, 28803\, United States
CATEGORIES:Market
ATTACH;FMTTYPE=image/jpeg:https://bountyandsoul.org/wp-content/uploads/2024/10/Market-Event-Logo-rs.jpg
END:VEVENT
BEGIN:VEVENT
DTSTART;TZID=America/New_York:20260224T183000
DTEND;TZID=America/New_York:20260224T193000
DTSTAMP:20260423T102843
CREATED:20250320T132435Z
LAST-MODIFIED:20250320T134100Z
UID:10011880-1771957800-1771961400@bountyandsoul.org
SUMMARY:Zumba Class
DESCRIPTION:Join us every Tuesday & Thursday at 6:30 PM for a high-energy\, fun\, and free Zumba class with Tara! Whether you’re a seasoned dancer or just starting out\, this class is designed for all levels—no experience needed. Come shake\, dance\, and sweat to uplifting music in a welcoming and supportive environment. Get ready to boost your mood\, energize your body\, and have a blast! This class will take place at St James Episcopal Church in Black Mountain (424 West State Street\, Black Mountain\, NC\, 28711).
URL:https://bountyandsoul.org/event/zumba-class-2/2026-02-24/
LOCATION:St James Episcopal Church\, 424 W. State Street\, Black Mountain\, NC\, 28711\, United States
CATEGORIES:Class
ATTACH;FMTTYPE=image/png:https://bountyandsoul.org/wp-content/uploads/2021/01/Zumba-Event-fi2a.png
END:VEVENT
BEGIN:VEVENT
DTSTART;TZID=America/New_York:20260224T153000
DTEND;TZID=America/New_York:20260224T170000
DTSTAMP:20260423T102843
CREATED:20250311T171504Z
LAST-MODIFIED:20260209T183823Z
UID:10012883-1771947000-1771952400@bountyandsoul.org
SUMMARY:Produce Market - UNETE
DESCRIPTION:Join us for fresh\, nourishing produce and healthy food at no cost to you. Come connect with us!
URL:https://bountyandsoul.org/event/produce-market-unete/2026-02-24/
LOCATION:UNETE\, 871 Riverside Dr\, Asheville\, NC\, 28804\, United States
CATEGORIES:Market
ATTACH;FMTTYPE=image/jpeg:https://bountyandsoul.org/wp-content/uploads/2024/10/Market-Event-Logo-rs.jpg
END:VEVENT
BEGIN:VEVENT
DTSTART;TZID=America/New_York:20260221T100000
DTEND;TZID=America/New_York:20260221T113000
DTSTAMP:20260423T102843
CREATED:20260209T182155Z
LAST-MODIFIED:20260209T182655Z
UID:10012812-1771668000-1771673400@bountyandsoul.org
SUMMARY:Produce Market - ArtSpace
DESCRIPTION:Join us for fresh\, nourishing produce and healthy food at no cost to you. Come connect with us!
URL:https://bountyandsoul.org/event/produce-market-artspace-2-2/2026-02-21/
LOCATION:ArtSpace Charter School\, 2030 US Highway 70\, Swannanoa\, NC\, 28778\, United States
CATEGORIES:Market
ATTACH;FMTTYPE=image/jpeg:https://bountyandsoul.org/wp-content/uploads/2024/10/Market-Event-Logo-rs.jpg
END:VEVENT
BEGIN:VEVENT
DTSTART;TZID=America/New_York:20260220T133000
DTEND;TZID=America/New_York:20260220T150000
DTSTAMP:20260423T102843
CREATED:20250324T182751Z
LAST-MODIFIED:20260209T184940Z
UID:10012029-1771594200-1771599600@bountyandsoul.org
SUMMARY:Produce Market - Dr. Wesley Grant Sr. Southside Community Center
DESCRIPTION:Join us for fresh\, nourishing produce and healthy food at no cost to you. Come connect with us!
URL:https://bountyandsoul.org/event/produce-market-dr-wesley-grant-sr-southside-community-center/2026-02-20/
LOCATION:Dr. Wesley Grant Sr. Southside Community Center\, 285 Livingston St\, Asheville\, NC 28801\, Asheville
CATEGORIES:Market
ATTACH;FMTTYPE=image/jpeg:https://bountyandsoul.org/wp-content/uploads/2024/10/Market-Event-Logo-rs.jpg
END:VEVENT
BEGIN:VEVENT
DTSTART;TZID=America/New_York:20260220T103000
DTEND;TZID=America/New_York:20260220T120000
DTSTAMP:20260423T102843
CREATED:20250311T173527Z
LAST-MODIFIED:20260209T185047Z
UID:10012971-1771583400-1771588800@bountyandsoul.org
SUMMARY:Produce Market - Rock Hill Baptist Church
DESCRIPTION:Join us for fresh\, nourishing produce and healthy food at no cost to you. Come connect with us!
URL:https://bountyandsoul.org/event/rock-hill-baptist-church/2026-02-20/
LOCATION:Rock Hill Baptist Church\, 486 Caribou Rd\, Asheville\, NC\, 28803\, United States
CATEGORIES:Market
ATTACH;FMTTYPE=image/jpeg:https://bountyandsoul.org/wp-content/uploads/2024/10/Market-Event-Logo-rs.jpg
END:VEVENT
BEGIN:VEVENT
DTSTART;TZID=America/New_York:20260219T183000
DTEND;TZID=America/New_York:20260219T193000
DTSTAMP:20260423T102843
CREATED:20250320T132435Z
LAST-MODIFIED:20250320T134100Z
UID:10011879-1771525800-1771529400@bountyandsoul.org
SUMMARY:Zumba Class
DESCRIPTION:Join us every Tuesday & Thursday at 6:30 PM for a high-energy\, fun\, and free Zumba class with Tara! Whether you’re a seasoned dancer or just starting out\, this class is designed for all levels—no experience needed. Come shake\, dance\, and sweat to uplifting music in a welcoming and supportive environment. Get ready to boost your mood\, energize your body\, and have a blast! This class will take place at St James Episcopal Church in Black Mountain (424 West State Street\, Black Mountain\, NC\, 28711).
URL:https://bountyandsoul.org/event/zumba-class-2/2026-02-19/
LOCATION:St James Episcopal Church\, 424 W. State Street\, Black Mountain\, NC\, 28711\, United States
CATEGORIES:Class
ATTACH;FMTTYPE=image/png:https://bountyandsoul.org/wp-content/uploads/2021/01/Zumba-Event-fi2a.png
END:VEVENT
BEGIN:VEVENT
DTSTART;TZID=America/New_York:20260219T153000
DTEND;TZID=America/New_York:20260219T173000
DTSTAMP:20260423T102843
CREATED:20251103T232017Z
LAST-MODIFIED:20260209T184749Z
UID:10012937-1771515000-1771522200@bountyandsoul.org
SUMMARY:Produce Market - BiLo Lot
DESCRIPTION:Join us at this drive-thru market for fresh\, nourishing produce and healthy food at no cost.
URL:https://bountyandsoul.org/event/produce-market-bilo-lot-2-2/2026-02-19/
LOCATION:Bi-Lo\, 205 NC-9\, Black Mountain\, NC\, 28711\, United States
CATEGORIES:Market
ATTACH;FMTTYPE=image/jpeg:https://bountyandsoul.org/wp-content/uploads/2024/10/Market-Event-Logo-rs.jpg
END:VEVENT
BEGIN:VEVENT
DTSTART;TZID=America/New_York:20260218T160000
DTEND;TZID=America/New_York:20260218T170000
DTSTAMP:20260423T102843
CREATED:20260209T184119Z
LAST-MODIFIED:20260216T194053Z
UID:10012904-1771430400-1771434000@bountyandsoul.org
SUMMARY:Produce Market - Beacon Community Center
DESCRIPTION:Join us for fresh\, nourishing produce and healthy food at no cost to you. Come connect with us and enjoy culturally relevant food.
URL:https://bountyandsoul.org/event/produce-market-beacon/2026-02-18/
LOCATION:B&S Community Center\, 216 Whitson Ave\, Swannanoa\, NC\, 28778\, United States
CATEGORIES:Market
ATTACH;FMTTYPE=image/jpeg:https://bountyandsoul.org/wp-content/uploads/2024/10/Market-Event-Logo-rs.jpg
END:VEVENT
BEGIN:VEVENT
DTSTART;TZID=America/New_York:20260218T153000
DTEND;TZID=America/New_York:20260218T170000
DTSTAMP:20260423T102843
CREATED:20260209T184439Z
LAST-MODIFIED:20260216T174802Z
UID:10012920-1771428600-1771434000@bountyandsoul.org
SUMMARY:Produce Market - Reynolds Fairview Market
DESCRIPTION:Join us for fresh\, nourishing produce and healthy food at no cost to you. Come connect with us!
URL:https://bountyandsoul.org/event/produce-market-covenant-community-church-4/2026-02-18/
LOCATION:Reynolds Fairview Market Location\, 99999 Rocket Drive\, Asheville\, 28803\, United States
CATEGORIES:Market
ATTACH;FMTTYPE=image/jpeg:https://bountyandsoul.org/wp-content/uploads/2024/10/Market-Event-Logo-rs.jpg
END:VEVENT
BEGIN:VEVENT
DTSTART;TZID=America/New_York:20260217T183000
DTEND;TZID=America/New_York:20260217T193000
DTSTAMP:20260423T102843
CREATED:20250320T132435Z
LAST-MODIFIED:20250320T134100Z
UID:10011878-1771353000-1771356600@bountyandsoul.org
SUMMARY:Zumba Class
DESCRIPTION:Join us every Tuesday & Thursday at 6:30 PM for a high-energy\, fun\, and free Zumba class with Tara! Whether you’re a seasoned dancer or just starting out\, this class is designed for all levels—no experience needed. Come shake\, dance\, and sweat to uplifting music in a welcoming and supportive environment. Get ready to boost your mood\, energize your body\, and have a blast! This class will take place at St James Episcopal Church in Black Mountain (424 West State Street\, Black Mountain\, NC\, 28711).
URL:https://bountyandsoul.org/event/zumba-class-2/2026-02-17/
LOCATION:St James Episcopal Church\, 424 W. State Street\, Black Mountain\, NC\, 28711\, United States
CATEGORIES:Class
ATTACH;FMTTYPE=image/png:https://bountyandsoul.org/wp-content/uploads/2021/01/Zumba-Event-fi2a.png
END:VEVENT
BEGIN:VEVENT
DTSTART;TZID=America/New_York:20260217T153000
DTEND;TZID=America/New_York:20260217T170000
DTSTAMP:20260423T102843
CREATED:20250311T171504Z
LAST-MODIFIED:20260209T183823Z
UID:10012882-1771342200-1771347600@bountyandsoul.org
SUMMARY:Produce Market - UNETE
DESCRIPTION:Join us for fresh\, nourishing produce and healthy food at no cost to you. Come connect with us!
URL:https://bountyandsoul.org/event/produce-market-unete/2026-02-17/
LOCATION:UNETE\, 871 Riverside Dr\, Asheville\, NC\, 28804\, United States
CATEGORIES:Market
ATTACH;FMTTYPE=image/jpeg:https://bountyandsoul.org/wp-content/uploads/2024/10/Market-Event-Logo-rs.jpg
END:VEVENT
END:VCALENDAR