BEGIN:VCALENDAR
VERSION:2.0
PRODID:-//Bounty &amp; Soul - ECPv6.15.20//NONSGML v1.0//EN
CALSCALE:GREGORIAN
METHOD:PUBLISH
X-ORIGINAL-URL:https://bountyandsoul.org
X-WR-CALDESC:Events for Bounty &amp; Soul
REFRESH-INTERVAL;VALUE=DURATION:PT1H
X-Robots-Tag:noindex
X-PUBLISHED-TTL:PT1H
BEGIN:VTIMEZONE
TZID:America/New_York
BEGIN:DAYLIGHT
TZOFFSETFROM:-0500
TZOFFSETTO:-0400
TZNAME:EDT
DTSTART:20250309T070000
END:DAYLIGHT
BEGIN:STANDARD
TZOFFSETFROM:-0400
TZOFFSETTO:-0500
TZNAME:EST
DTSTART:20251102T060000
END:STANDARD
BEGIN:DAYLIGHT
TZOFFSETFROM:-0500
TZOFFSETTO:-0400
TZNAME:EDT
DTSTART:20260308T070000
END:DAYLIGHT
BEGIN:STANDARD
TZOFFSETFROM:-0400
TZOFFSETTO:-0500
TZNAME:EST
DTSTART:20261101T060000
END:STANDARD
BEGIN:DAYLIGHT
TZOFFSETFROM:-0500
TZOFFSETTO:-0400
TZNAME:EDT
DTSTART:20270314T070000
END:DAYLIGHT
BEGIN:STANDARD
TZOFFSETFROM:-0400
TZOFFSETTO:-0500
TZNAME:EST
DTSTART:20271107T060000
END:STANDARD
END:VTIMEZONE
BEGIN:VEVENT
DTSTART;TZID=America/New_York:20260211T153000
DTEND;TZID=America/New_York:20260211T170000
DTSTAMP:20260423T145235
CREATED:20260209T184439Z
LAST-MODIFIED:20260216T174802Z
UID:10012919-1770823800-1770829200@bountyandsoul.org
SUMMARY:Produce Market - Reynolds Fairview Market
DESCRIPTION:Join us for fresh\, nourishing produce and healthy food at no cost to you. Come connect with us!
URL:https://bountyandsoul.org/event/produce-market-covenant-community-church-4/2026-02-11/
LOCATION:Reynolds Fairview Market Location\, 99999 Rocket Drive\, Asheville\, 28803\, United States
CATEGORIES:Market
ATTACH;FMTTYPE=image/jpeg:https://bountyandsoul.org/wp-content/uploads/2024/10/Market-Event-Logo-rs.jpg
END:VEVENT
BEGIN:VEVENT
DTSTART;TZID=America/New_York:20260210T183000
DTEND;TZID=America/New_York:20260210T193000
DTSTAMP:20260423T145235
CREATED:20250320T132435Z
LAST-MODIFIED:20250320T134100Z
UID:10011876-1770748200-1770751800@bountyandsoul.org
SUMMARY:Zumba Class
DESCRIPTION:Join us every Tuesday & Thursday at 6:30 PM for a high-energy\, fun\, and free Zumba class with Tara! Whether you’re a seasoned dancer or just starting out\, this class is designed for all levels—no experience needed. Come shake\, dance\, and sweat to uplifting music in a welcoming and supportive environment. Get ready to boost your mood\, energize your body\, and have a blast! This class will take place at St James Episcopal Church in Black Mountain (424 West State Street\, Black Mountain\, NC\, 28711).
URL:https://bountyandsoul.org/event/zumba-class-2/2026-02-10/
LOCATION:St James Episcopal Church\, 424 W. State Street\, Black Mountain\, NC\, 28711\, United States
CATEGORIES:Class
ATTACH;FMTTYPE=image/png:https://bountyandsoul.org/wp-content/uploads/2021/01/Zumba-Event-fi2a.png
END:VEVENT
BEGIN:VEVENT
DTSTART;TZID=America/New_York:20260210T153000
DTEND;TZID=America/New_York:20260210T170000
DTSTAMP:20260423T145235
CREATED:20250311T171504Z
LAST-MODIFIED:20260209T183823Z
UID:10012881-1770737400-1770742800@bountyandsoul.org
SUMMARY:Produce Market - UNETE
DESCRIPTION:Join us for fresh\, nourishing produce and healthy food at no cost to you. Come connect with us!
URL:https://bountyandsoul.org/event/produce-market-unete/2026-02-10/
LOCATION:UNETE\, 871 Riverside Dr\, Asheville\, NC\, 28804\, United States
CATEGORIES:Market
ATTACH;FMTTYPE=image/jpeg:https://bountyandsoul.org/wp-content/uploads/2024/10/Market-Event-Logo-rs.jpg
END:VEVENT
BEGIN:VEVENT
DTSTART;TZID=America/New_York:20260209T173000
DTEND;TZID=America/New_York:20260209T183000
DTSTAMP:20260423T145235
CREATED:20260127T193039Z
LAST-MODIFIED:20260127T193050Z
UID:10012765-1770658200-1770661800@bountyandsoul.org
SUMMARY:Mindful Monday: Qigong with Michelle
DESCRIPTION:Each Monday\, we gather as a community to welcome the week with mindfulness and intention. Every session features a unique offering led by a different instructor\, each sharing their own approach to cultivating peace and presence. \nThis Monday\, experience the gentle\, flowing movements of Qigong with Michelle. Qigong is an ancient Chinese practice that integrates slow\, intentional movement\, breathwork\, and meditation to support the body’s natural energy flow. Michelle will guide you through a series of exercises designed to awaken vitality\, release tension\, and bring a sense of calm balance to your whole being. \nThis grounding practice is designed to: \nReduce stress and calm the nervous system \nImprove energy flow and circulation \nEnhance physical and emotional resilience \nCome as you are and allow this healing practice to nourish your body\, mind\, and spirit. Please arrive 10–15 minutes early to settle in. Spots are limited\, so secure your spot now!
URL:https://bountyandsoul.org/event/mindful-monday-qigong-with-michelle-9/
LOCATION:B&S Community Center\, 216 Whitson Ave\, Swannanoa\, NC\, 28778\, United States
CATEGORIES:Class
ATTACH;FMTTYPE=image/png:https://bountyandsoul.org/wp-content/uploads/2022/01/Rooted-in-Health-Graphic.png
END:VEVENT
BEGIN:VEVENT
DTSTART;TZID=America/New_York:20260206T133000
DTEND;TZID=America/New_York:20260206T150000
DTSTAMP:20260423T145235
CREATED:20250324T182751Z
LAST-MODIFIED:20260209T184940Z
UID:10012027-1770384600-1770390000@bountyandsoul.org
SUMMARY:Produce Market - Dr. Wesley Grant Sr. Southside Community Center
DESCRIPTION:Join us for fresh\, nourishing produce and healthy food at no cost to you. Come connect with us!
URL:https://bountyandsoul.org/event/produce-market-dr-wesley-grant-sr-southside-community-center/2026-02-06/
LOCATION:Dr. Wesley Grant Sr. Southside Community Center\, 285 Livingston St\, Asheville\, NC 28801\, Asheville
CATEGORIES:Market
ATTACH;FMTTYPE=image/jpeg:https://bountyandsoul.org/wp-content/uploads/2024/10/Market-Event-Logo-rs.jpg
END:VEVENT
BEGIN:VEVENT
DTSTART;TZID=America/New_York:20260206T103000
DTEND;TZID=America/New_York:20260206T120000
DTSTAMP:20260423T145235
CREATED:20250311T173527Z
LAST-MODIFIED:20260209T185047Z
UID:10012969-1770373800-1770379200@bountyandsoul.org
SUMMARY:Produce Market - Rock Hill Baptist Church
DESCRIPTION:Join us for fresh\, nourishing produce and healthy food at no cost to you. Come connect with us!
URL:https://bountyandsoul.org/event/rock-hill-baptist-church/2026-02-06/
LOCATION:Rock Hill Baptist Church\, 486 Caribou Rd\, Asheville\, NC\, 28803\, United States
CATEGORIES:Market
ATTACH;FMTTYPE=image/jpeg:https://bountyandsoul.org/wp-content/uploads/2024/10/Market-Event-Logo-rs.jpg
END:VEVENT
BEGIN:VEVENT
DTSTART;TZID=America/New_York:20260205T183000
DTEND;TZID=America/New_York:20260205T193000
DTSTAMP:20260423T145235
CREATED:20250320T132435Z
LAST-MODIFIED:20250320T134100Z
UID:10011875-1770316200-1770319800@bountyandsoul.org
SUMMARY:Zumba Class
DESCRIPTION:Join us every Tuesday & Thursday at 6:30 PM for a high-energy\, fun\, and free Zumba class with Tara! Whether you’re a seasoned dancer or just starting out\, this class is designed for all levels—no experience needed. Come shake\, dance\, and sweat to uplifting music in a welcoming and supportive environment. Get ready to boost your mood\, energize your body\, and have a blast! This class will take place at St James Episcopal Church in Black Mountain (424 West State Street\, Black Mountain\, NC\, 28711).
URL:https://bountyandsoul.org/event/zumba-class-2/2026-02-05/
LOCATION:St James Episcopal Church\, 424 W. State Street\, Black Mountain\, NC\, 28711\, United States
CATEGORIES:Class
ATTACH;FMTTYPE=image/png:https://bountyandsoul.org/wp-content/uploads/2021/01/Zumba-Event-fi2a.png
END:VEVENT
BEGIN:VEVENT
DTSTART;TZID=America/New_York:20260205T153000
DTEND;TZID=America/New_York:20260205T173000
DTSTAMP:20260423T145235
CREATED:20251103T232017Z
LAST-MODIFIED:20260209T184749Z
UID:10012935-1770305400-1770312600@bountyandsoul.org
SUMMARY:Produce Market - BiLo Lot
DESCRIPTION:Join us at this drive-thru market for fresh\, nourishing produce and healthy food at no cost.
URL:https://bountyandsoul.org/event/produce-market-bilo-lot-2-2/2026-02-05/
LOCATION:Bi-Lo\, 205 NC-9\, Black Mountain\, NC\, 28711\, United States
CATEGORIES:Market
ATTACH;FMTTYPE=image/jpeg:https://bountyandsoul.org/wp-content/uploads/2024/10/Market-Event-Logo-rs.jpg
END:VEVENT
BEGIN:VEVENT
DTSTART;TZID=America/New_York:20260204T170000
DTEND;TZID=America/New_York:20260204T190000
DTSTAMP:20260423T145235
CREATED:20260112T143146Z
LAST-MODIFIED:20260123T154342Z
UID:10012764-1770224400-1770231600@bountyandsoul.org
SUMMARY:Valentine’s Day Pop-Up Cooking Class with Jamie Myers
DESCRIPTION:Valentine’s Day Pop-Up Cooking Class with Jamie Myers \nCelebrate love through food in this intimate Valentine’s Day pop-up cooking class designed for couples. Join us for an evening of connection\, creativity\, and shared experience as you and your partner prepare a beautiful\, nourishing meal together under the guidance of Chef Jamie Myers. \nOn the menu:Peppercorn-crusted salmon with a ginger–tamari glaze\, served over sweet-and-sour collard greens with nutty pecan rice. \nThis experience is about more than just cooking—it’s about slowing down\, savoring the moment\, and enjoying the simple joy of creating something special together. \nAbout the ChefChef Jamie Myers is a professionally trained chef from Pennsylvania College of Technology (Penn State) who grew up on a dairy farm\, shaping his deep appreciation for home-cooked\, community-grown food. His passion for cooking with local\, seasonal produce and small-farm meats and dairy is rooted in those early experiences. Jamie spent seven years cooking in Florida\, specializing in Caribbean cuisine and seafood\, and has been a chef in Buncombe County for the past 15 years. He is currently the chef at Open Oven Café & Bakery\, where he has been since its founding over six years ago. His cooking style blends local\, seasonal ingredients with global inspiration\, drawing from Korean\, Japanese\, Mexican\, Argentine\, Spanish\, French\, Italian\, and Sicilian traditions. \nOutside the kitchen\, Jamie enjoys foraging local mushrooms and wild foods. He is also an artist and woodworker and is currently training to become a National Board Certified Health and Wellness Coach. \nSpots are very limited so reserve yours now! Please plan to arrive 5-10 minutes early so we can start on time.
URL:https://bountyandsoul.org/event/valentines-day-pop-up-cooking-class-with-jamie-myers/
LOCATION:Bounty & Soul Food\, Education and Volunteer Hub\, 1038 Old Hwy 70 W\, Black Mountain\, NC\, 28711\, United States
CATEGORIES:Class
ATTACH;FMTTYPE=image/png:https://bountyandsoul.org/wp-content/uploads/2021/10/Cooking-Class-Icon2-1.png
END:VEVENT
BEGIN:VEVENT
DTSTART;TZID=America/New_York:20260204T160000
DTEND;TZID=America/New_York:20260204T170000
DTSTAMP:20260423T145235
CREATED:20260209T184119Z
LAST-MODIFIED:20260216T194053Z
UID:10012902-1770220800-1770224400@bountyandsoul.org
SUMMARY:Produce Market - Beacon Community Center
DESCRIPTION:Join us for fresh\, nourishing produce and healthy food at no cost to you. Come connect with us and enjoy culturally relevant food.
URL:https://bountyandsoul.org/event/produce-market-beacon/2026-02-04/
LOCATION:B&S Community Center\, 216 Whitson Ave\, Swannanoa\, NC\, 28778\, United States
CATEGORIES:Market
ATTACH;FMTTYPE=image/jpeg:https://bountyandsoul.org/wp-content/uploads/2024/10/Market-Event-Logo-rs.jpg
END:VEVENT
BEGIN:VEVENT
DTSTART;TZID=America/New_York:20260203T183000
DTEND;TZID=America/New_York:20260203T193000
DTSTAMP:20260423T145235
CREATED:20250320T132435Z
LAST-MODIFIED:20250320T134100Z
UID:10011874-1770143400-1770147000@bountyandsoul.org
SUMMARY:Zumba Class
DESCRIPTION:Join us every Tuesday & Thursday at 6:30 PM for a high-energy\, fun\, and free Zumba class with Tara! Whether you’re a seasoned dancer or just starting out\, this class is designed for all levels—no experience needed. Come shake\, dance\, and sweat to uplifting music in a welcoming and supportive environment. Get ready to boost your mood\, energize your body\, and have a blast! This class will take place at St James Episcopal Church in Black Mountain (424 West State Street\, Black Mountain\, NC\, 28711).
URL:https://bountyandsoul.org/event/zumba-class-2/2026-02-03/
LOCATION:St James Episcopal Church\, 424 W. State Street\, Black Mountain\, NC\, 28711\, United States
CATEGORIES:Class
ATTACH;FMTTYPE=image/png:https://bountyandsoul.org/wp-content/uploads/2021/01/Zumba-Event-fi2a.png
END:VEVENT
BEGIN:VEVENT
DTSTART;TZID=America/New_York:20260203T153000
DTEND;TZID=America/New_York:20260203T170000
DTSTAMP:20260423T145235
CREATED:20250311T171504Z
LAST-MODIFIED:20260209T183823Z
UID:10012880-1770132600-1770138000@bountyandsoul.org
SUMMARY:Produce Market - UNETE
DESCRIPTION:Join us for fresh\, nourishing produce and healthy food at no cost to you. Come connect with us!
URL:https://bountyandsoul.org/event/produce-market-unete/2026-02-03/
LOCATION:UNETE\, 871 Riverside Dr\, Asheville\, NC\, 28804\, United States
CATEGORIES:Market
ATTACH;FMTTYPE=image/jpeg:https://bountyandsoul.org/wp-content/uploads/2024/10/Market-Event-Logo-rs.jpg
END:VEVENT
BEGIN:VEVENT
DTSTART;TZID=America/New_York:20260202T173000
DTEND;TZID=America/New_York:20260202T183000
DTSTAMP:20260423T145235
CREATED:20251202T190504Z
LAST-MODIFIED:20260202T152852Z
UID:10012648-1770053400-1770057000@bountyandsoul.org
SUMMARY:Mindful Monday: Community Acupuncture & Sound Healing
DESCRIPTION:Each Monday\, we gather as a community to welcome the week with mindfulness and intention. Every session features a unique offering led by a different practitioner\, each sharing their own approach to cultivating peace and presence. \nThis Monday\, experience the deeply restorative combination of Community Acupuncture and Sound Healing. \nSettle into stillness as gentle acupuncture points are applied to support your body’s natural healing processes. While you rest\, you’ll be immersed in the soothing vibrations of live sound healing—creating a serene environment that invites deep relaxation and energetic balance. \nThis calming experience is designed to: \n\n\nReduce stress and restore emotional equilibrium \n\n\nSupport pain relief and energy flow \n\n\nEnhance mental clarity and inner peace \n\n\nCome as you are and allow this integrative healing experience to nourish your body\, mind\, and spirit. Please arrive 10–15 minutes early to settle in. Spots are limited\, so secure your spot now!
URL:https://bountyandsoul.org/event/mindful-monday-community-acupuncture-sound-healing-10/
LOCATION:B&S Community Center\, 216 Whitson Ave\, Swannanoa\, NC\, 28778\, United States
CATEGORIES:Class
ATTACH;FMTTYPE=image/png:https://bountyandsoul.org/wp-content/uploads/2022/01/Rooted-in-Health-Graphic.png
END:VEVENT
BEGIN:VEVENT
DTSTART;TZID=America/New_York:20260202T123000
DTEND;TZID=America/New_York:20260202T140000
DTSTAMP:20260423T145235
CREATED:20260201T230910Z
LAST-MODIFIED:20260201T230911Z
UID:10012657-1770035400-1770040800@bountyandsoul.org
SUMMARY:Canceled: Produce Market - Blunt Pretzel
DESCRIPTION:Join us for fresh\, nourishing produce and healthy food at no cost to you. Come connect with us!
URL:https://bountyandsoul.org/event/produce-market-blunt-pretzel-4-3/
LOCATION:Blunt Pretzels\, 120 Alexander Pl.\, Swannanoa\, NC\, 28778\, United States
CATEGORIES:Market
ATTACH;FMTTYPE=image/jpeg:https://bountyandsoul.org/wp-content/uploads/2024/10/Market-Event-Logo-rs.jpg
END:VEVENT
BEGIN:VEVENT
DTSTART;TZID=America/New_York:20260131T100000
DTEND;TZID=America/New_York:20260131T113000
DTSTAMP:20260423T145235
CREATED:20260129T153603Z
LAST-MODIFIED:20260209T173311Z
UID:10012235-1769853600-1769859000@bountyandsoul.org
SUMMARY:Produce Market - ArtSpace
DESCRIPTION:Join us for fresh\, nourishing produce and healthy food at no cost to you. Come connect with us!
URL:https://bountyandsoul.org/event/artspace-6/
LOCATION:ArtSpace Charter School\, 2030 US Highway 70\, Swannanoa\, NC\, 28778\, United States
CATEGORIES:Market
ATTACH;FMTTYPE=image/jpeg:https://bountyandsoul.org/wp-content/uploads/2024/10/Market-Event-Logo-rs.jpg
END:VEVENT
BEGIN:VEVENT
DTSTART;TZID=America/New_York:20260130T133000
DTEND;TZID=America/New_York:20260130T150000
DTSTAMP:20260423T145235
CREATED:20250324T182751Z
LAST-MODIFIED:20260209T184940Z
UID:10012026-1769779800-1769785200@bountyandsoul.org
SUMMARY:Produce Market - Dr. Wesley Grant Sr. Southside Community Center
DESCRIPTION:Join us for fresh\, nourishing produce and healthy food at no cost to you. Come connect with us!
URL:https://bountyandsoul.org/event/produce-market-dr-wesley-grant-sr-southside-community-center/2026-01-30/
LOCATION:Dr. Wesley Grant Sr. Southside Community Center\, 285 Livingston St\, Asheville\, NC 28801\, Asheville
CATEGORIES:Market
ATTACH;FMTTYPE=image/jpeg:https://bountyandsoul.org/wp-content/uploads/2024/10/Market-Event-Logo-rs.jpg
END:VEVENT
BEGIN:VEVENT
DTSTART;TZID=America/New_York:20260130T103000
DTEND;TZID=America/New_York:20260130T120000
DTSTAMP:20260423T145235
CREATED:20250311T173527Z
LAST-MODIFIED:20260209T185047Z
UID:10012253-1769769000-1769774400@bountyandsoul.org
SUMMARY:Produce Market - Rock Hill Baptist Church
DESCRIPTION:Join us for fresh\, nourishing produce and healthy food at no cost to you. Come connect with us!
URL:https://bountyandsoul.org/event/rock-hill-baptist-church/2026-01-30/
LOCATION:Rock Hill Baptist Church\, 486 Caribou Rd\, Asheville\, NC\, 28803\, United States
CATEGORIES:Market
ATTACH;FMTTYPE=image/jpeg:https://bountyandsoul.org/wp-content/uploads/2024/10/Market-Event-Logo-rs.jpg
END:VEVENT
BEGIN:VEVENT
DTSTART;TZID=America/New_York:20260129T183000
DTEND;TZID=America/New_York:20260129T193000
DTSTAMP:20260423T145235
CREATED:20251209T182951Z
LAST-MODIFIED:20251209T182951Z
UID:10011873-1769711400-1769715000@bountyandsoul.org
SUMMARY:Zumba Class
DESCRIPTION:Join us every Tuesday & Thursday at 6:30 PM for a high-energy\, fun\, and free Zumba class with Tara! Whether you’re a seasoned dancer or just starting out\, this class is designed for all levels—no experience needed. Come shake\, dance\, and sweat to uplifting music in a welcoming and supportive environment. Get ready to boost your mood\, energize your body\, and have a blast! This class will take place at St James Episcopal Church in Black Mountain (424 West State Street\, Black Mountain\, NC\, 28711).
URL:https://bountyandsoul.org/event/zumba-class-2-20/
LOCATION:Bounty & Soul Food\, Education and Volunteer Hub\, 1038 Old Hwy 70 W\, Black Mountain\, NC\, 28711\, United States
CATEGORIES:Class
ATTACH;FMTTYPE=image/png:https://bountyandsoul.org/wp-content/uploads/2021/01/Zumba-Event-fi2a.png
END:VEVENT
BEGIN:VEVENT
DTSTART;TZID=America/New_York:20260129T153000
DTEND;TZID=America/New_York:20260129T173000
DTSTAMP:20260423T145235
CREATED:20251103T232017Z
LAST-MODIFIED:20260209T184749Z
UID:10012341-1769700600-1769707800@bountyandsoul.org
SUMMARY:Produce Market - BiLo Lot
DESCRIPTION:Join us at this drive-thru market for fresh\, nourishing produce and healthy food at no cost.
URL:https://bountyandsoul.org/event/produce-market-bilo-lot-2-2/2026-01-29/
LOCATION:Bi-Lo\, 205 NC-9\, Black Mountain\, NC\, 28711\, United States
CATEGORIES:Market
ATTACH;FMTTYPE=image/jpeg:https://bountyandsoul.org/wp-content/uploads/2024/10/Market-Event-Logo-rs.jpg
END:VEVENT
BEGIN:VEVENT
DTSTART;TZID=America/New_York:20260128T160000
DTEND;TZID=America/New_York:20260128T170000
DTSTAMP:20260423T145235
CREATED:20260209T184119Z
LAST-MODIFIED:20260216T194053Z
UID:10012901-1769616000-1769619600@bountyandsoul.org
SUMMARY:Produce Market - Beacon Community Center
DESCRIPTION:Join us for fresh\, nourishing produce and healthy food at no cost to you. Come connect with us and enjoy culturally relevant food.
URL:https://bountyandsoul.org/event/produce-market-beacon/2026-01-28/
LOCATION:B&S Community Center\, 216 Whitson Ave\, Swannanoa\, NC\, 28778\, United States
CATEGORIES:Market
ATTACH;FMTTYPE=image/jpeg:https://bountyandsoul.org/wp-content/uploads/2024/10/Market-Event-Logo-rs.jpg
END:VEVENT
BEGIN:VEVENT
DTSTART;TZID=America/New_York:20260128T153000
DTEND;TZID=America/New_York:20260128T170000
DTSTAMP:20260423T145235
CREATED:20250311T172845Z
LAST-MODIFIED:20250929T162853Z
UID:10012271-1769614200-1769619600@bountyandsoul.org
SUMMARY:Produce Market - Covenant Community Church
DESCRIPTION:Join us for fresh\, nourishing produce and healthy food at no cost to you. Come connect with us!
URL:https://bountyandsoul.org/event/produce-market-covenant-community-church/2026-01-28/
LOCATION:Covenant Community Church\, 11 Rocket Dr\, Asheville\, NC\, 28803\, United States
CATEGORIES:Market
ATTACH;FMTTYPE=image/jpeg:https://bountyandsoul.org/wp-content/uploads/2024/10/Market-Event-Logo-rs.jpg
END:VEVENT
BEGIN:VEVENT
DTSTART;TZID=America/New_York:20260127T183000
DTEND;TZID=America/New_York:20260127T193000
DTSTAMP:20260423T145235
CREATED:20251209T182857Z
LAST-MODIFIED:20251209T182900Z
UID:10011872-1769538600-1769542200@bountyandsoul.org
SUMMARY:Zumba Class
DESCRIPTION:Join us every Tuesday & Thursday at 6:30 PM for a high-energy\, fun\, and free Zumba class with Tara! Whether you’re a seasoned dancer or just starting out\, this class is designed for all levels—no experience needed. Come shake\, dance\, and sweat to uplifting music in a welcoming and supportive environment. Get ready to boost your mood\, energize your body\, and have a blast! This class will take place at St James Episcopal Church in Black Mountain (424 West State Street\, Black Mountain\, NC\, 28711).
URL:https://bountyandsoul.org/event/zumba-class-2-19/
LOCATION:Bounty & Soul Food\, Education and Volunteer Hub\, 1038 Old Hwy 70 W\, Black Mountain\, NC\, 28711\, United States
CATEGORIES:Class
ATTACH;FMTTYPE=image/png:https://bountyandsoul.org/wp-content/uploads/2021/01/Zumba-Event-fi2a.png
END:VEVENT
BEGIN:VEVENT
DTSTART;TZID=America/New_York:20260127T153000
DTEND;TZID=America/New_York:20260127T170000
DTSTAMP:20260423T145235
CREATED:20250311T171504Z
LAST-MODIFIED:20260209T183823Z
UID:10012289-1769527800-1769533200@bountyandsoul.org
SUMMARY:Produce Market - UNETE
DESCRIPTION:Join us for fresh\, nourishing produce and healthy food at no cost to you. Come connect with us!
URL:https://bountyandsoul.org/event/produce-market-unete/2026-01-27/
LOCATION:UNETE\, 871 Riverside Dr\, Asheville\, NC\, 28804\, United States
CATEGORIES:Market
ATTACH;FMTTYPE=image/jpeg:https://bountyandsoul.org/wp-content/uploads/2024/10/Market-Event-Logo-rs.jpg
END:VEVENT
BEGIN:VEVENT
DTSTART;TZID=America/New_York:20260124T100000
DTEND;TZID=America/New_York:20260124T113000
DTSTAMP:20260423T145235
CREATED:20260121T173414Z
LAST-MODIFIED:20260121T173416Z
UID:10012234-1769248800-1769254200@bountyandsoul.org
SUMMARY:Canceled: Produce Market - ArtSpace
DESCRIPTION:Join us for fresh\, nourishing produce and healthy food at no cost to you. Come connect with us!
URL:https://bountyandsoul.org/event/artspace-5/
LOCATION:ArtSpace Charter School\, 2030 US Highway 70\, Swannanoa\, NC\, 28778\, United States
CATEGORIES:Market
ATTACH;FMTTYPE=image/jpeg:https://bountyandsoul.org/wp-content/uploads/2024/10/Market-Event-Logo-rs.jpg
END:VEVENT
BEGIN:VEVENT
DTSTART;TZID=America/New_York:20260123T133000
DTEND;TZID=America/New_York:20260123T150000
DTSTAMP:20260423T145235
CREATED:20250324T182751Z
LAST-MODIFIED:20260209T184940Z
UID:10012025-1769175000-1769180400@bountyandsoul.org
SUMMARY:Produce Market - Dr. Wesley Grant Sr. Southside Community Center
DESCRIPTION:Join us for fresh\, nourishing produce and healthy food at no cost to you. Come connect with us!
URL:https://bountyandsoul.org/event/produce-market-dr-wesley-grant-sr-southside-community-center/2026-01-23/
LOCATION:Dr. Wesley Grant Sr. Southside Community Center\, 285 Livingston St\, Asheville\, NC 28801\, Asheville
CATEGORIES:Market
ATTACH;FMTTYPE=image/jpeg:https://bountyandsoul.org/wp-content/uploads/2024/10/Market-Event-Logo-rs.jpg
END:VEVENT
BEGIN:VEVENT
DTSTART;TZID=America/New_York:20260123T103000
DTEND;TZID=America/New_York:20260123T120000
DTSTAMP:20260423T145235
CREATED:20250311T173527Z
LAST-MODIFIED:20260209T185047Z
UID:10012252-1769164200-1769169600@bountyandsoul.org
SUMMARY:Produce Market - Rock Hill Baptist Church
DESCRIPTION:Join us for fresh\, nourishing produce and healthy food at no cost to you. Come connect with us!
URL:https://bountyandsoul.org/event/rock-hill-baptist-church/2026-01-23/
LOCATION:Rock Hill Baptist Church\, 486 Caribou Rd\, Asheville\, NC\, 28803\, United States
CATEGORIES:Market
ATTACH;FMTTYPE=image/jpeg:https://bountyandsoul.org/wp-content/uploads/2024/10/Market-Event-Logo-rs.jpg
END:VEVENT
BEGIN:VEVENT
DTSTART;TZID=America/New_York:20260122T183000
DTEND;TZID=America/New_York:20260122T193000
DTSTAMP:20260423T145235
CREATED:20251209T182806Z
LAST-MODIFIED:20251209T182806Z
UID:10011871-1769106600-1769110200@bountyandsoul.org
SUMMARY:Zumba Class
DESCRIPTION:Join us every Tuesday & Thursday at 6:30 PM for a high-energy\, fun\, and free Zumba class with Tara! Whether you’re a seasoned dancer or just starting out\, this class is designed for all levels—no experience needed. Come shake\, dance\, and sweat to uplifting music in a welcoming and supportive environment. Get ready to boost your mood\, energize your body\, and have a blast! This class will take place at St James Episcopal Church in Black Mountain (424 West State Street\, Black Mountain\, NC\, 28711).
URL:https://bountyandsoul.org/event/zumba-class-2-18/
LOCATION:Bounty & Soul Food\, Education and Volunteer Hub\, 1038 Old Hwy 70 W\, Black Mountain\, NC\, 28711\, United States
CATEGORIES:Class
ATTACH;FMTTYPE=image/png:https://bountyandsoul.org/wp-content/uploads/2021/01/Zumba-Event-fi2a.png
END:VEVENT
BEGIN:VEVENT
DTSTART;TZID=America/New_York:20260122T153000
DTEND;TZID=America/New_York:20260122T173000
DTSTAMP:20260423T145235
CREATED:20251103T232017Z
LAST-MODIFIED:20260209T184749Z
UID:10012340-1769095800-1769103000@bountyandsoul.org
SUMMARY:Produce Market - BiLo Lot
DESCRIPTION:Join us at this drive-thru market for fresh\, nourishing produce and healthy food at no cost.
URL:https://bountyandsoul.org/event/produce-market-bilo-lot-2-2/2026-01-22/
LOCATION:Bi-Lo\, 205 NC-9\, Black Mountain\, NC\, 28711\, United States
CATEGORIES:Market
ATTACH;FMTTYPE=image/jpeg:https://bountyandsoul.org/wp-content/uploads/2024/10/Market-Event-Logo-rs.jpg
END:VEVENT
BEGIN:VEVENT
DTSTART;TZID=America/New_York:20260121T160000
DTEND;TZID=America/New_York:20260121T170000
DTSTAMP:20260423T145235
CREATED:20260209T184119Z
LAST-MODIFIED:20260216T194053Z
UID:10012900-1769011200-1769014800@bountyandsoul.org
SUMMARY:Produce Market - Beacon Community Center
DESCRIPTION:Join us for fresh\, nourishing produce and healthy food at no cost to you. Come connect with us and enjoy culturally relevant food.
URL:https://bountyandsoul.org/event/produce-market-beacon/2026-01-21/
LOCATION:B&S Community Center\, 216 Whitson Ave\, Swannanoa\, NC\, 28778\, United States
CATEGORIES:Market
ATTACH;FMTTYPE=image/jpeg:https://bountyandsoul.org/wp-content/uploads/2024/10/Market-Event-Logo-rs.jpg
END:VEVENT
BEGIN:VEVENT
DTSTART;TZID=America/New_York:20260121T153000
DTEND;TZID=America/New_York:20260121T170000
DTSTAMP:20260423T145235
CREATED:20250311T172845Z
LAST-MODIFIED:20250929T162853Z
UID:10012270-1769009400-1769014800@bountyandsoul.org
SUMMARY:Produce Market - Covenant Community Church
DESCRIPTION:Join us for fresh\, nourishing produce and healthy food at no cost to you. Come connect with us!
URL:https://bountyandsoul.org/event/produce-market-covenant-community-church/2026-01-21/
LOCATION:Covenant Community Church\, 11 Rocket Dr\, Asheville\, NC\, 28803\, United States
CATEGORIES:Market
ATTACH;FMTTYPE=image/jpeg:https://bountyandsoul.org/wp-content/uploads/2024/10/Market-Event-Logo-rs.jpg
END:VEVENT
END:VCALENDAR