BEGIN:VCALENDAR
VERSION:2.0
PRODID:-//Bounty &amp; Soul - ECPv6.15.20//NONSGML v1.0//EN
CALSCALE:GREGORIAN
METHOD:PUBLISH
X-WR-CALNAME:Bounty &amp; Soul
X-ORIGINAL-URL:https://bountyandsoul.org
X-WR-CALDESC:Events for Bounty &amp; Soul
REFRESH-INTERVAL;VALUE=DURATION:PT1H
X-Robots-Tag:noindex
X-PUBLISHED-TTL:PT1H
BEGIN:VTIMEZONE
TZID:America/New_York
BEGIN:DAYLIGHT
TZOFFSETFROM:-0500
TZOFFSETTO:-0400
TZNAME:EDT
DTSTART:20250309T070000
END:DAYLIGHT
BEGIN:STANDARD
TZOFFSETFROM:-0400
TZOFFSETTO:-0500
TZNAME:EST
DTSTART:20251102T060000
END:STANDARD
BEGIN:DAYLIGHT
TZOFFSETFROM:-0500
TZOFFSETTO:-0400
TZNAME:EDT
DTSTART:20260308T070000
END:DAYLIGHT
BEGIN:STANDARD
TZOFFSETFROM:-0400
TZOFFSETTO:-0500
TZNAME:EST
DTSTART:20261101T060000
END:STANDARD
BEGIN:DAYLIGHT
TZOFFSETFROM:-0500
TZOFFSETTO:-0400
TZNAME:EDT
DTSTART:20270314T070000
END:DAYLIGHT
BEGIN:STANDARD
TZOFFSETFROM:-0400
TZOFFSETTO:-0500
TZNAME:EST
DTSTART:20271107T060000
END:STANDARD
BEGIN:DAYLIGHT
TZOFFSETFROM:-0500
TZOFFSETTO:-0400
TZNAME:EDT
DTSTART:20280312T070000
END:DAYLIGHT
BEGIN:STANDARD
TZOFFSETFROM:-0400
TZOFFSETTO:-0500
TZNAME:EST
DTSTART:20281105T060000
END:STANDARD
END:VTIMEZONE
BEGIN:VEVENT
DTSTART;TZID=America/New_York:20261010T100000
DTEND;TZID=America/New_York:20261010T113000
DTSTAMP:20260423T123911
CREATED:20260209T182155Z
LAST-MODIFIED:20260209T182655Z
UID:10012845-1791626400-1791631800@bountyandsoul.org
SUMMARY:Produce Market - ArtSpace
DESCRIPTION:Join us for fresh\, nourishing produce and healthy food at no cost to you. Come connect with us!
URL:https://bountyandsoul.org/event/produce-market-artspace-2-2/2026-10-10/
LOCATION:ArtSpace Charter School\, 2030 US Highway 70\, Swannanoa\, NC\, 28778\, United States
CATEGORIES:Market
ATTACH;FMTTYPE=image/jpeg:https://bountyandsoul.org/wp-content/uploads/2024/10/Market-Event-Logo-rs.jpg
END:VEVENT
BEGIN:VEVENT
DTSTART;TZID=America/New_York:20261016T133000
DTEND;TZID=America/New_York:20261016T150000
DTSTAMP:20260423T123911
CREATED:20250324T182751Z
LAST-MODIFIED:20260209T184940Z
UID:10012202-1792157400-1792162800@bountyandsoul.org
SUMMARY:Produce Market - Dr. Wesley Grant Sr. Southside Community Center
DESCRIPTION:Join us for fresh\, nourishing produce and healthy food at no cost to you. Come connect with us!
URL:https://bountyandsoul.org/event/produce-market-dr-wesley-grant-sr-southside-community-center/2026-10-16/
LOCATION:Dr. Wesley Grant Sr. Southside Community Center\, 285 Livingston St\, Asheville\, NC 28801\, Asheville
CATEGORIES:Market
ATTACH;FMTTYPE=image/jpeg:https://bountyandsoul.org/wp-content/uploads/2024/10/Market-Event-Logo-rs.jpg
END:VEVENT
BEGIN:VEVENT
DTSTART;TZID=America/New_York:20261017T100000
DTEND;TZID=America/New_York:20261017T113000
DTSTAMP:20260423T123911
CREATED:20260209T182155Z
LAST-MODIFIED:20260209T182655Z
UID:10012846-1792231200-1792236600@bountyandsoul.org
SUMMARY:Produce Market - ArtSpace
DESCRIPTION:Join us for fresh\, nourishing produce and healthy food at no cost to you. Come connect with us!
URL:https://bountyandsoul.org/event/produce-market-artspace-2-2/2026-10-17/
LOCATION:ArtSpace Charter School\, 2030 US Highway 70\, Swannanoa\, NC\, 28778\, United States
CATEGORIES:Market
ATTACH;FMTTYPE=image/jpeg:https://bountyandsoul.org/wp-content/uploads/2024/10/Market-Event-Logo-rs.jpg
END:VEVENT
BEGIN:VEVENT
DTSTART;TZID=America/New_York:20261023T133000
DTEND;TZID=America/New_York:20261023T150000
DTSTAMP:20260423T123911
CREATED:20250324T182751Z
LAST-MODIFIED:20260209T184940Z
UID:10012203-1792762200-1792767600@bountyandsoul.org
SUMMARY:Produce Market - Dr. Wesley Grant Sr. Southside Community Center
DESCRIPTION:Join us for fresh\, nourishing produce and healthy food at no cost to you. Come connect with us!
URL:https://bountyandsoul.org/event/produce-market-dr-wesley-grant-sr-southside-community-center/2026-10-23/
LOCATION:Dr. Wesley Grant Sr. Southside Community Center\, 285 Livingston St\, Asheville\, NC 28801\, Asheville
CATEGORIES:Market
ATTACH;FMTTYPE=image/jpeg:https://bountyandsoul.org/wp-content/uploads/2024/10/Market-Event-Logo-rs.jpg
END:VEVENT
BEGIN:VEVENT
DTSTART;TZID=America/New_York:20261024T100000
DTEND;TZID=America/New_York:20261024T113000
DTSTAMP:20260423T123911
CREATED:20260209T182155Z
LAST-MODIFIED:20260209T182655Z
UID:10012847-1792836000-1792841400@bountyandsoul.org
SUMMARY:Produce Market - ArtSpace
DESCRIPTION:Join us for fresh\, nourishing produce and healthy food at no cost to you. Come connect with us!
URL:https://bountyandsoul.org/event/produce-market-artspace-2-2/2026-10-24/
LOCATION:ArtSpace Charter School\, 2030 US Highway 70\, Swannanoa\, NC\, 28778\, United States
CATEGORIES:Market
ATTACH;FMTTYPE=image/jpeg:https://bountyandsoul.org/wp-content/uploads/2024/10/Market-Event-Logo-rs.jpg
END:VEVENT
BEGIN:VEVENT
DTSTART;TZID=America/New_York:20261030T133000
DTEND;TZID=America/New_York:20261030T150000
DTSTAMP:20260423T123911
CREATED:20250324T182751Z
LAST-MODIFIED:20260209T184940Z
UID:10012204-1793367000-1793372400@bountyandsoul.org
SUMMARY:Produce Market - Dr. Wesley Grant Sr. Southside Community Center
DESCRIPTION:Join us for fresh\, nourishing produce and healthy food at no cost to you. Come connect with us!
URL:https://bountyandsoul.org/event/produce-market-dr-wesley-grant-sr-southside-community-center/2026-10-30/
LOCATION:Dr. Wesley Grant Sr. Southside Community Center\, 285 Livingston St\, Asheville\, NC 28801\, Asheville
CATEGORIES:Market
ATTACH;FMTTYPE=image/jpeg:https://bountyandsoul.org/wp-content/uploads/2024/10/Market-Event-Logo-rs.jpg
END:VEVENT
BEGIN:VEVENT
DTSTART;TZID=America/New_York:20261031T100000
DTEND;TZID=America/New_York:20261031T113000
DTSTAMP:20260423T123911
CREATED:20260209T182155Z
LAST-MODIFIED:20260209T182655Z
UID:10012848-1793440800-1793446200@bountyandsoul.org
SUMMARY:Produce Market - ArtSpace
DESCRIPTION:Join us for fresh\, nourishing produce and healthy food at no cost to you. Come connect with us!
URL:https://bountyandsoul.org/event/produce-market-artspace-2-2/2026-10-31/
LOCATION:ArtSpace Charter School\, 2030 US Highway 70\, Swannanoa\, NC\, 28778\, United States
CATEGORIES:Market
ATTACH;FMTTYPE=image/jpeg:https://bountyandsoul.org/wp-content/uploads/2024/10/Market-Event-Logo-rs.jpg
END:VEVENT
BEGIN:VEVENT
DTSTART;TZID=America/New_York:20261106T133000
DTEND;TZID=America/New_York:20261106T150000
DTSTAMP:20260423T123911
CREATED:20250324T182751Z
LAST-MODIFIED:20260209T184940Z
UID:10012205-1793971800-1793977200@bountyandsoul.org
SUMMARY:Produce Market - Dr. Wesley Grant Sr. Southside Community Center
DESCRIPTION:Join us for fresh\, nourishing produce and healthy food at no cost to you. Come connect with us!
URL:https://bountyandsoul.org/event/produce-market-dr-wesley-grant-sr-southside-community-center/2026-11-06/
LOCATION:Dr. Wesley Grant Sr. Southside Community Center\, 285 Livingston St\, Asheville\, NC 28801\, Asheville
CATEGORIES:Market
ATTACH;FMTTYPE=image/jpeg:https://bountyandsoul.org/wp-content/uploads/2024/10/Market-Event-Logo-rs.jpg
END:VEVENT
BEGIN:VEVENT
DTSTART;TZID=America/New_York:20261107T100000
DTEND;TZID=America/New_York:20261107T113000
DTSTAMP:20260423T123911
CREATED:20260209T182155Z
LAST-MODIFIED:20260209T182655Z
UID:10012849-1794045600-1794051000@bountyandsoul.org
SUMMARY:Produce Market - ArtSpace
DESCRIPTION:Join us for fresh\, nourishing produce and healthy food at no cost to you. Come connect with us!
URL:https://bountyandsoul.org/event/produce-market-artspace-2-2/2026-11-07/
LOCATION:ArtSpace Charter School\, 2030 US Highway 70\, Swannanoa\, NC\, 28778\, United States
CATEGORIES:Market
ATTACH;FMTTYPE=image/jpeg:https://bountyandsoul.org/wp-content/uploads/2024/10/Market-Event-Logo-rs.jpg
END:VEVENT
BEGIN:VEVENT
DTSTART;TZID=America/New_York:20261113T133000
DTEND;TZID=America/New_York:20261113T150000
DTSTAMP:20260423T123911
CREATED:20250324T182751Z
LAST-MODIFIED:20260209T184940Z
UID:10012206-1794576600-1794582000@bountyandsoul.org
SUMMARY:Produce Market - Dr. Wesley Grant Sr. Southside Community Center
DESCRIPTION:Join us for fresh\, nourishing produce and healthy food at no cost to you. Come connect with us!
URL:https://bountyandsoul.org/event/produce-market-dr-wesley-grant-sr-southside-community-center/2026-11-13/
LOCATION:Dr. Wesley Grant Sr. Southside Community Center\, 285 Livingston St\, Asheville\, NC 28801\, Asheville
CATEGORIES:Market
ATTACH;FMTTYPE=image/jpeg:https://bountyandsoul.org/wp-content/uploads/2024/10/Market-Event-Logo-rs.jpg
END:VEVENT
BEGIN:VEVENT
DTSTART;TZID=America/New_York:20261114T100000
DTEND;TZID=America/New_York:20261114T113000
DTSTAMP:20260423T123911
CREATED:20260209T182155Z
LAST-MODIFIED:20260209T182655Z
UID:10012850-1794650400-1794655800@bountyandsoul.org
SUMMARY:Produce Market - ArtSpace
DESCRIPTION:Join us for fresh\, nourishing produce and healthy food at no cost to you. Come connect with us!
URL:https://bountyandsoul.org/event/produce-market-artspace-2-2/2026-11-14/
LOCATION:ArtSpace Charter School\, 2030 US Highway 70\, Swannanoa\, NC\, 28778\, United States
CATEGORIES:Market
ATTACH;FMTTYPE=image/jpeg:https://bountyandsoul.org/wp-content/uploads/2024/10/Market-Event-Logo-rs.jpg
END:VEVENT
BEGIN:VEVENT
DTSTART;TZID=America/New_York:20261120T133000
DTEND;TZID=America/New_York:20261120T150000
DTSTAMP:20260423T123911
CREATED:20250324T182751Z
LAST-MODIFIED:20260209T184940Z
UID:10012207-1795181400-1795186800@bountyandsoul.org
SUMMARY:Produce Market - Dr. Wesley Grant Sr. Southside Community Center
DESCRIPTION:Join us for fresh\, nourishing produce and healthy food at no cost to you. Come connect with us!
URL:https://bountyandsoul.org/event/produce-market-dr-wesley-grant-sr-southside-community-center/2026-11-20/
LOCATION:Dr. Wesley Grant Sr. Southside Community Center\, 285 Livingston St\, Asheville\, NC 28801\, Asheville
CATEGORIES:Market
ATTACH;FMTTYPE=image/jpeg:https://bountyandsoul.org/wp-content/uploads/2024/10/Market-Event-Logo-rs.jpg
END:VEVENT
BEGIN:VEVENT
DTSTART;TZID=America/New_York:20261121T100000
DTEND;TZID=America/New_York:20261121T113000
DTSTAMP:20260423T123911
CREATED:20260209T182155Z
LAST-MODIFIED:20260209T182655Z
UID:10012851-1795255200-1795260600@bountyandsoul.org
SUMMARY:Produce Market - ArtSpace
DESCRIPTION:Join us for fresh\, nourishing produce and healthy food at no cost to you. Come connect with us!
URL:https://bountyandsoul.org/event/produce-market-artspace-2-2/2026-11-21/
LOCATION:ArtSpace Charter School\, 2030 US Highway 70\, Swannanoa\, NC\, 28778\, United States
CATEGORIES:Market
ATTACH;FMTTYPE=image/jpeg:https://bountyandsoul.org/wp-content/uploads/2024/10/Market-Event-Logo-rs.jpg
END:VEVENT
BEGIN:VEVENT
DTSTART;TZID=America/New_York:20261127T133000
DTEND;TZID=America/New_York:20261127T150000
DTSTAMP:20260423T123911
CREATED:20250324T182751Z
LAST-MODIFIED:20260209T184940Z
UID:10012208-1795786200-1795791600@bountyandsoul.org
SUMMARY:Produce Market - Dr. Wesley Grant Sr. Southside Community Center
DESCRIPTION:Join us for fresh\, nourishing produce and healthy food at no cost to you. Come connect with us!
URL:https://bountyandsoul.org/event/produce-market-dr-wesley-grant-sr-southside-community-center/2026-11-27/
LOCATION:Dr. Wesley Grant Sr. Southside Community Center\, 285 Livingston St\, Asheville\, NC 28801\, Asheville
CATEGORIES:Market
ATTACH;FMTTYPE=image/jpeg:https://bountyandsoul.org/wp-content/uploads/2024/10/Market-Event-Logo-rs.jpg
END:VEVENT
BEGIN:VEVENT
DTSTART;TZID=America/New_York:20261128T100000
DTEND;TZID=America/New_York:20261128T113000
DTSTAMP:20260423T123911
CREATED:20260209T182155Z
LAST-MODIFIED:20260209T182655Z
UID:10012852-1795860000-1795865400@bountyandsoul.org
SUMMARY:Produce Market - ArtSpace
DESCRIPTION:Join us for fresh\, nourishing produce and healthy food at no cost to you. Come connect with us!
URL:https://bountyandsoul.org/event/produce-market-artspace-2-2/2026-11-28/
LOCATION:ArtSpace Charter School\, 2030 US Highway 70\, Swannanoa\, NC\, 28778\, United States
CATEGORIES:Market
ATTACH;FMTTYPE=image/jpeg:https://bountyandsoul.org/wp-content/uploads/2024/10/Market-Event-Logo-rs.jpg
END:VEVENT
BEGIN:VEVENT
DTSTART;TZID=America/New_York:20261204T133000
DTEND;TZID=America/New_York:20261204T150000
DTSTAMP:20260423T123911
CREATED:20250324T182751Z
LAST-MODIFIED:20260209T184940Z
UID:10012209-1796391000-1796396400@bountyandsoul.org
SUMMARY:Produce Market - Dr. Wesley Grant Sr. Southside Community Center
DESCRIPTION:Join us for fresh\, nourishing produce and healthy food at no cost to you. Come connect with us!
URL:https://bountyandsoul.org/event/produce-market-dr-wesley-grant-sr-southside-community-center/2026-12-04/
LOCATION:Dr. Wesley Grant Sr. Southside Community Center\, 285 Livingston St\, Asheville\, NC 28801\, Asheville
CATEGORIES:Market
ATTACH;FMTTYPE=image/jpeg:https://bountyandsoul.org/wp-content/uploads/2024/10/Market-Event-Logo-rs.jpg
END:VEVENT
BEGIN:VEVENT
DTSTART;TZID=America/New_York:20261205T100000
DTEND;TZID=America/New_York:20261205T113000
DTSTAMP:20260423T123911
CREATED:20260209T182155Z
LAST-MODIFIED:20260209T182655Z
UID:10012853-1796464800-1796470200@bountyandsoul.org
SUMMARY:Produce Market - ArtSpace
DESCRIPTION:Join us for fresh\, nourishing produce and healthy food at no cost to you. Come connect with us!
URL:https://bountyandsoul.org/event/produce-market-artspace-2-2/2026-12-05/
LOCATION:ArtSpace Charter School\, 2030 US Highway 70\, Swannanoa\, NC\, 28778\, United States
CATEGORIES:Market
ATTACH;FMTTYPE=image/jpeg:https://bountyandsoul.org/wp-content/uploads/2024/10/Market-Event-Logo-rs.jpg
END:VEVENT
BEGIN:VEVENT
DTSTART;TZID=America/New_York:20261211T133000
DTEND;TZID=America/New_York:20261211T150000
DTSTAMP:20260423T123911
CREATED:20250324T182751Z
LAST-MODIFIED:20260209T184940Z
UID:10012210-1796995800-1797001200@bountyandsoul.org
SUMMARY:Produce Market - Dr. Wesley Grant Sr. Southside Community Center
DESCRIPTION:Join us for fresh\, nourishing produce and healthy food at no cost to you. Come connect with us!
URL:https://bountyandsoul.org/event/produce-market-dr-wesley-grant-sr-southside-community-center/2026-12-11/
LOCATION:Dr. Wesley Grant Sr. Southside Community Center\, 285 Livingston St\, Asheville\, NC 28801\, Asheville
CATEGORIES:Market
ATTACH;FMTTYPE=image/jpeg:https://bountyandsoul.org/wp-content/uploads/2024/10/Market-Event-Logo-rs.jpg
END:VEVENT
BEGIN:VEVENT
DTSTART;TZID=America/New_York:20261212T100000
DTEND;TZID=America/New_York:20261212T113000
DTSTAMP:20260423T123911
CREATED:20260209T182155Z
LAST-MODIFIED:20260209T182655Z
UID:10012854-1797069600-1797075000@bountyandsoul.org
SUMMARY:Produce Market - ArtSpace
DESCRIPTION:Join us for fresh\, nourishing produce and healthy food at no cost to you. Come connect with us!
URL:https://bountyandsoul.org/event/produce-market-artspace-2-2/2026-12-12/
LOCATION:ArtSpace Charter School\, 2030 US Highway 70\, Swannanoa\, NC\, 28778\, United States
CATEGORIES:Market
ATTACH;FMTTYPE=image/jpeg:https://bountyandsoul.org/wp-content/uploads/2024/10/Market-Event-Logo-rs.jpg
END:VEVENT
BEGIN:VEVENT
DTSTART;TZID=America/New_York:20261218T133000
DTEND;TZID=America/New_York:20261218T150000
DTSTAMP:20260423T123911
CREATED:20250324T182751Z
LAST-MODIFIED:20260209T184940Z
UID:10012211-1797600600-1797606000@bountyandsoul.org
SUMMARY:Produce Market - Dr. Wesley Grant Sr. Southside Community Center
DESCRIPTION:Join us for fresh\, nourishing produce and healthy food at no cost to you. Come connect with us!
URL:https://bountyandsoul.org/event/produce-market-dr-wesley-grant-sr-southside-community-center/2026-12-18/
LOCATION:Dr. Wesley Grant Sr. Southside Community Center\, 285 Livingston St\, Asheville\, NC 28801\, Asheville
CATEGORIES:Market
ATTACH;FMTTYPE=image/jpeg:https://bountyandsoul.org/wp-content/uploads/2024/10/Market-Event-Logo-rs.jpg
END:VEVENT
BEGIN:VEVENT
DTSTART;TZID=America/New_York:20261219T100000
DTEND;TZID=America/New_York:20261219T113000
DTSTAMP:20260423T123911
CREATED:20260209T182155Z
LAST-MODIFIED:20260209T182655Z
UID:10012855-1797674400-1797679800@bountyandsoul.org
SUMMARY:Produce Market - ArtSpace
DESCRIPTION:Join us for fresh\, nourishing produce and healthy food at no cost to you. Come connect with us!
URL:https://bountyandsoul.org/event/produce-market-artspace-2-2/2026-12-19/
LOCATION:ArtSpace Charter School\, 2030 US Highway 70\, Swannanoa\, NC\, 28778\, United States
CATEGORIES:Market
ATTACH;FMTTYPE=image/jpeg:https://bountyandsoul.org/wp-content/uploads/2024/10/Market-Event-Logo-rs.jpg
END:VEVENT
BEGIN:VEVENT
DTSTART;TZID=America/New_York:20261225T133000
DTEND;TZID=America/New_York:20261225T150000
DTSTAMP:20260423T123911
CREATED:20250324T182751Z
LAST-MODIFIED:20260209T184940Z
UID:10012212-1798205400-1798210800@bountyandsoul.org
SUMMARY:Produce Market - Dr. Wesley Grant Sr. Southside Community Center
DESCRIPTION:Join us for fresh\, nourishing produce and healthy food at no cost to you. Come connect with us!
URL:https://bountyandsoul.org/event/produce-market-dr-wesley-grant-sr-southside-community-center/2026-12-25/
LOCATION:Dr. Wesley Grant Sr. Southside Community Center\, 285 Livingston St\, Asheville\, NC 28801\, Asheville
CATEGORIES:Market
ATTACH;FMTTYPE=image/jpeg:https://bountyandsoul.org/wp-content/uploads/2024/10/Market-Event-Logo-rs.jpg
END:VEVENT
BEGIN:VEVENT
DTSTART;TZID=America/New_York:20261226T100000
DTEND;TZID=America/New_York:20261226T113000
DTSTAMP:20260423T123911
CREATED:20260209T182155Z
LAST-MODIFIED:20260209T182655Z
UID:10012856-1798279200-1798284600@bountyandsoul.org
SUMMARY:Produce Market - ArtSpace
DESCRIPTION:Join us for fresh\, nourishing produce and healthy food at no cost to you. Come connect with us!
URL:https://bountyandsoul.org/event/produce-market-artspace-2-2/2026-12-26/
LOCATION:ArtSpace Charter School\, 2030 US Highway 70\, Swannanoa\, NC\, 28778\, United States
CATEGORIES:Market
ATTACH;FMTTYPE=image/jpeg:https://bountyandsoul.org/wp-content/uploads/2024/10/Market-Event-Logo-rs.jpg
END:VEVENT
BEGIN:VEVENT
DTSTART;TZID=America/New_York:20270101T133000
DTEND;TZID=America/New_York:20270101T150000
DTSTAMP:20260423T123911
CREATED:20250324T182751Z
LAST-MODIFIED:20260209T184940Z
UID:10012213-1798810200-1798815600@bountyandsoul.org
SUMMARY:Produce Market - Dr. Wesley Grant Sr. Southside Community Center
DESCRIPTION:Join us for fresh\, nourishing produce and healthy food at no cost to you. Come connect with us!
URL:https://bountyandsoul.org/event/produce-market-dr-wesley-grant-sr-southside-community-center/2027-01-01/
LOCATION:Dr. Wesley Grant Sr. Southside Community Center\, 285 Livingston St\, Asheville\, NC 28801\, Asheville
CATEGORIES:Market
ATTACH;FMTTYPE=image/jpeg:https://bountyandsoul.org/wp-content/uploads/2024/10/Market-Event-Logo-rs.jpg
END:VEVENT
BEGIN:VEVENT
DTSTART;TZID=America/New_York:20270102T100000
DTEND;TZID=America/New_York:20270102T113000
DTSTAMP:20260423T123911
CREATED:20260209T182155Z
LAST-MODIFIED:20260209T182655Z
UID:10012857-1798884000-1798889400@bountyandsoul.org
SUMMARY:Produce Market - ArtSpace
DESCRIPTION:Join us for fresh\, nourishing produce and healthy food at no cost to you. Come connect with us!
URL:https://bountyandsoul.org/event/produce-market-artspace-2-2/2027-01-02/
LOCATION:ArtSpace Charter School\, 2030 US Highway 70\, Swannanoa\, NC\, 28778\, United States
CATEGORIES:Market
ATTACH;FMTTYPE=image/jpeg:https://bountyandsoul.org/wp-content/uploads/2024/10/Market-Event-Logo-rs.jpg
END:VEVENT
BEGIN:VEVENT
DTSTART;TZID=America/New_York:20270108T133000
DTEND;TZID=America/New_York:20270108T150000
DTSTAMP:20260423T123911
CREATED:20250324T182751Z
LAST-MODIFIED:20260209T184940Z
UID:10012214-1799415000-1799420400@bountyandsoul.org
SUMMARY:Produce Market - Dr. Wesley Grant Sr. Southside Community Center
DESCRIPTION:Join us for fresh\, nourishing produce and healthy food at no cost to you. Come connect with us!
URL:https://bountyandsoul.org/event/produce-market-dr-wesley-grant-sr-southside-community-center/2027-01-08/
LOCATION:Dr. Wesley Grant Sr. Southside Community Center\, 285 Livingston St\, Asheville\, NC 28801\, Asheville
CATEGORIES:Market
ATTACH;FMTTYPE=image/jpeg:https://bountyandsoul.org/wp-content/uploads/2024/10/Market-Event-Logo-rs.jpg
END:VEVENT
BEGIN:VEVENT
DTSTART;TZID=America/New_York:20270109T100000
DTEND;TZID=America/New_York:20270109T113000
DTSTAMP:20260423T123911
CREATED:20260209T182155Z
LAST-MODIFIED:20260209T182655Z
UID:10012858-1799488800-1799494200@bountyandsoul.org
SUMMARY:Produce Market - ArtSpace
DESCRIPTION:Join us for fresh\, nourishing produce and healthy food at no cost to you. Come connect with us!
URL:https://bountyandsoul.org/event/produce-market-artspace-2-2/2027-01-09/
LOCATION:ArtSpace Charter School\, 2030 US Highway 70\, Swannanoa\, NC\, 28778\, United States
CATEGORIES:Market
ATTACH;FMTTYPE=image/jpeg:https://bountyandsoul.org/wp-content/uploads/2024/10/Market-Event-Logo-rs.jpg
END:VEVENT
BEGIN:VEVENT
DTSTART;TZID=America/New_York:20270115T133000
DTEND;TZID=America/New_York:20270115T150000
DTSTAMP:20260423T123911
CREATED:20250324T182751Z
LAST-MODIFIED:20260209T184940Z
UID:10012215-1800019800-1800025200@bountyandsoul.org
SUMMARY:Produce Market - Dr. Wesley Grant Sr. Southside Community Center
DESCRIPTION:Join us for fresh\, nourishing produce and healthy food at no cost to you. Come connect with us!
URL:https://bountyandsoul.org/event/produce-market-dr-wesley-grant-sr-southside-community-center/2027-01-15/
LOCATION:Dr. Wesley Grant Sr. Southside Community Center\, 285 Livingston St\, Asheville\, NC 28801\, Asheville
CATEGORIES:Market
ATTACH;FMTTYPE=image/jpeg:https://bountyandsoul.org/wp-content/uploads/2024/10/Market-Event-Logo-rs.jpg
END:VEVENT
BEGIN:VEVENT
DTSTART;TZID=America/New_York:20270116T100000
DTEND;TZID=America/New_York:20270116T113000
DTSTAMP:20260423T123911
CREATED:20260209T182155Z
LAST-MODIFIED:20260209T182655Z
UID:10012859-1800093600-1800099000@bountyandsoul.org
SUMMARY:Produce Market - ArtSpace
DESCRIPTION:Join us for fresh\, nourishing produce and healthy food at no cost to you. Come connect with us!
URL:https://bountyandsoul.org/event/produce-market-artspace-2-2/2027-01-16/
LOCATION:ArtSpace Charter School\, 2030 US Highway 70\, Swannanoa\, NC\, 28778\, United States
CATEGORIES:Market
ATTACH;FMTTYPE=image/jpeg:https://bountyandsoul.org/wp-content/uploads/2024/10/Market-Event-Logo-rs.jpg
END:VEVENT
BEGIN:VEVENT
DTSTART;TZID=America/New_York:20270122T133000
DTEND;TZID=America/New_York:20270122T150000
DTSTAMP:20260423T123911
CREATED:20250324T182751Z
LAST-MODIFIED:20260209T184940Z
UID:10012216-1800624600-1800630000@bountyandsoul.org
SUMMARY:Produce Market - Dr. Wesley Grant Sr. Southside Community Center
DESCRIPTION:Join us for fresh\, nourishing produce and healthy food at no cost to you. Come connect with us!
URL:https://bountyandsoul.org/event/produce-market-dr-wesley-grant-sr-southside-community-center/2027-01-22/
LOCATION:Dr. Wesley Grant Sr. Southside Community Center\, 285 Livingston St\, Asheville\, NC 28801\, Asheville
CATEGORIES:Market
ATTACH;FMTTYPE=image/jpeg:https://bountyandsoul.org/wp-content/uploads/2024/10/Market-Event-Logo-rs.jpg
END:VEVENT
END:VCALENDAR