BEGIN:VCALENDAR
VERSION:2.0
PRODID:-//Bounty &amp; Soul - ECPv6.15.20//NONSGML v1.0//EN
CALSCALE:GREGORIAN
METHOD:PUBLISH
X-WR-CALNAME:Bounty &amp; Soul
X-ORIGINAL-URL:https://bountyandsoul.org
X-WR-CALDESC:Events for Bounty &amp; Soul
REFRESH-INTERVAL;VALUE=DURATION:PT1H
X-Robots-Tag:noindex
X-PUBLISHED-TTL:PT1H
BEGIN:VTIMEZONE
TZID:America/New_York
BEGIN:DAYLIGHT
TZOFFSETFROM:-0500
TZOFFSETTO:-0400
TZNAME:EDT
DTSTART:20250309T070000
END:DAYLIGHT
BEGIN:STANDARD
TZOFFSETFROM:-0400
TZOFFSETTO:-0500
TZNAME:EST
DTSTART:20251102T060000
END:STANDARD
BEGIN:DAYLIGHT
TZOFFSETFROM:-0500
TZOFFSETTO:-0400
TZNAME:EDT
DTSTART:20260308T070000
END:DAYLIGHT
BEGIN:STANDARD
TZOFFSETFROM:-0400
TZOFFSETTO:-0500
TZNAME:EST
DTSTART:20261101T060000
END:STANDARD
BEGIN:DAYLIGHT
TZOFFSETFROM:-0500
TZOFFSETTO:-0400
TZNAME:EDT
DTSTART:20270314T070000
END:DAYLIGHT
BEGIN:STANDARD
TZOFFSETFROM:-0400
TZOFFSETTO:-0500
TZNAME:EST
DTSTART:20271107T060000
END:STANDARD
END:VTIMEZONE
BEGIN:VEVENT
DTSTART;TZID=America/New_York:20260425T100000
DTEND;TZID=America/New_York:20260425T113000
DTSTAMP:20260423T002330
CREATED:20260209T182155Z
LAST-MODIFIED:20260209T182655Z
UID:10012821-1777111200-1777116600@bountyandsoul.org
SUMMARY:Produce Market - ArtSpace
DESCRIPTION:Join us for fresh\, nourishing produce and healthy food at no cost to you. Come connect with us!
URL:https://bountyandsoul.org/event/produce-market-artspace-2-2/2026-04-25/
LOCATION:ArtSpace Charter School\, 2030 US Highway 70\, Swannanoa\, NC\, 28778\, United States
CATEGORIES:Market
ATTACH;FMTTYPE=image/jpeg:https://bountyandsoul.org/wp-content/uploads/2024/10/Market-Event-Logo-rs.jpg
END:VEVENT
BEGIN:VEVENT
DTSTART;TZID=America/New_York:20260502T100000
DTEND;TZID=America/New_York:20260502T113000
DTSTAMP:20260423T002330
CREATED:20260209T182155Z
LAST-MODIFIED:20260209T182655Z
UID:10012822-1777716000-1777721400@bountyandsoul.org
SUMMARY:Produce Market - ArtSpace
DESCRIPTION:Join us for fresh\, nourishing produce and healthy food at no cost to you. Come connect with us!
URL:https://bountyandsoul.org/event/produce-market-artspace-2-2/2026-05-02/
LOCATION:ArtSpace Charter School\, 2030 US Highway 70\, Swannanoa\, NC\, 28778\, United States
CATEGORIES:Market
ATTACH;FMTTYPE=image/jpeg:https://bountyandsoul.org/wp-content/uploads/2024/10/Market-Event-Logo-rs.jpg
END:VEVENT
BEGIN:VEVENT
DTSTART;TZID=America/New_York:20260509T100000
DTEND;TZID=America/New_York:20260509T113000
DTSTAMP:20260423T002330
CREATED:20260209T182155Z
LAST-MODIFIED:20260209T182655Z
UID:10012823-1778320800-1778326200@bountyandsoul.org
SUMMARY:Produce Market - ArtSpace
DESCRIPTION:Join us for fresh\, nourishing produce and healthy food at no cost to you. Come connect with us!
URL:https://bountyandsoul.org/event/produce-market-artspace-2-2/2026-05-09/
LOCATION:ArtSpace Charter School\, 2030 US Highway 70\, Swannanoa\, NC\, 28778\, United States
CATEGORIES:Market
ATTACH;FMTTYPE=image/jpeg:https://bountyandsoul.org/wp-content/uploads/2024/10/Market-Event-Logo-rs.jpg
END:VEVENT
BEGIN:VEVENT
DTSTART;TZID=America/New_York:20260516T100000
DTEND;TZID=America/New_York:20260516T113000
DTSTAMP:20260423T002330
CREATED:20260209T182155Z
LAST-MODIFIED:20260209T182655Z
UID:10012824-1778925600-1778931000@bountyandsoul.org
SUMMARY:Produce Market - ArtSpace
DESCRIPTION:Join us for fresh\, nourishing produce and healthy food at no cost to you. Come connect with us!
URL:https://bountyandsoul.org/event/produce-market-artspace-2-2/2026-05-16/
LOCATION:ArtSpace Charter School\, 2030 US Highway 70\, Swannanoa\, NC\, 28778\, United States
CATEGORIES:Market
ATTACH;FMTTYPE=image/jpeg:https://bountyandsoul.org/wp-content/uploads/2024/10/Market-Event-Logo-rs.jpg
END:VEVENT
BEGIN:VEVENT
DTSTART;TZID=America/New_York:20260523T100000
DTEND;TZID=America/New_York:20260523T113000
DTSTAMP:20260423T002330
CREATED:20260209T182155Z
LAST-MODIFIED:20260209T182655Z
UID:10012825-1779530400-1779535800@bountyandsoul.org
SUMMARY:Produce Market - ArtSpace
DESCRIPTION:Join us for fresh\, nourishing produce and healthy food at no cost to you. Come connect with us!
URL:https://bountyandsoul.org/event/produce-market-artspace-2-2/2026-05-23/
LOCATION:ArtSpace Charter School\, 2030 US Highway 70\, Swannanoa\, NC\, 28778\, United States
CATEGORIES:Market
ATTACH;FMTTYPE=image/jpeg:https://bountyandsoul.org/wp-content/uploads/2024/10/Market-Event-Logo-rs.jpg
END:VEVENT
BEGIN:VEVENT
DTSTART;TZID=America/New_York:20260530T100000
DTEND;TZID=America/New_York:20260530T113000
DTSTAMP:20260423T002330
CREATED:20260209T182155Z
LAST-MODIFIED:20260209T182655Z
UID:10012826-1780135200-1780140600@bountyandsoul.org
SUMMARY:Produce Market - ArtSpace
DESCRIPTION:Join us for fresh\, nourishing produce and healthy food at no cost to you. Come connect with us!
URL:https://bountyandsoul.org/event/produce-market-artspace-2-2/2026-05-30/
LOCATION:ArtSpace Charter School\, 2030 US Highway 70\, Swannanoa\, NC\, 28778\, United States
CATEGORIES:Market
ATTACH;FMTTYPE=image/jpeg:https://bountyandsoul.org/wp-content/uploads/2024/10/Market-Event-Logo-rs.jpg
END:VEVENT
BEGIN:VEVENT
DTSTART;TZID=America/New_York:20260606T100000
DTEND;TZID=America/New_York:20260606T113000
DTSTAMP:20260423T002330
CREATED:20260209T182155Z
LAST-MODIFIED:20260209T182655Z
UID:10012827-1780740000-1780745400@bountyandsoul.org
SUMMARY:Produce Market - ArtSpace
DESCRIPTION:Join us for fresh\, nourishing produce and healthy food at no cost to you. Come connect with us!
URL:https://bountyandsoul.org/event/produce-market-artspace-2-2/2026-06-06/
LOCATION:ArtSpace Charter School\, 2030 US Highway 70\, Swannanoa\, NC\, 28778\, United States
CATEGORIES:Market
ATTACH;FMTTYPE=image/jpeg:https://bountyandsoul.org/wp-content/uploads/2024/10/Market-Event-Logo-rs.jpg
END:VEVENT
BEGIN:VEVENT
DTSTART;TZID=America/New_York:20260613T100000
DTEND;TZID=America/New_York:20260613T113000
DTSTAMP:20260423T002330
CREATED:20260209T182155Z
LAST-MODIFIED:20260209T182655Z
UID:10012828-1781344800-1781350200@bountyandsoul.org
SUMMARY:Produce Market - ArtSpace
DESCRIPTION:Join us for fresh\, nourishing produce and healthy food at no cost to you. Come connect with us!
URL:https://bountyandsoul.org/event/produce-market-artspace-2-2/2026-06-13/
LOCATION:ArtSpace Charter School\, 2030 US Highway 70\, Swannanoa\, NC\, 28778\, United States
CATEGORIES:Market
ATTACH;FMTTYPE=image/jpeg:https://bountyandsoul.org/wp-content/uploads/2024/10/Market-Event-Logo-rs.jpg
END:VEVENT
BEGIN:VEVENT
DTSTART;TZID=America/New_York:20260620T100000
DTEND;TZID=America/New_York:20260620T113000
DTSTAMP:20260423T002330
CREATED:20260209T182155Z
LAST-MODIFIED:20260209T182655Z
UID:10012829-1781949600-1781955000@bountyandsoul.org
SUMMARY:Produce Market - ArtSpace
DESCRIPTION:Join us for fresh\, nourishing produce and healthy food at no cost to you. Come connect with us!
URL:https://bountyandsoul.org/event/produce-market-artspace-2-2/2026-06-20/
LOCATION:ArtSpace Charter School\, 2030 US Highway 70\, Swannanoa\, NC\, 28778\, United States
CATEGORIES:Market
ATTACH;FMTTYPE=image/jpeg:https://bountyandsoul.org/wp-content/uploads/2024/10/Market-Event-Logo-rs.jpg
END:VEVENT
BEGIN:VEVENT
DTSTART;TZID=America/New_York:20260627T100000
DTEND;TZID=America/New_York:20260627T113000
DTSTAMP:20260423T002330
CREATED:20260209T182155Z
LAST-MODIFIED:20260209T182655Z
UID:10012830-1782554400-1782559800@bountyandsoul.org
SUMMARY:Produce Market - ArtSpace
DESCRIPTION:Join us for fresh\, nourishing produce and healthy food at no cost to you. Come connect with us!
URL:https://bountyandsoul.org/event/produce-market-artspace-2-2/2026-06-27/
LOCATION:ArtSpace Charter School\, 2030 US Highway 70\, Swannanoa\, NC\, 28778\, United States
CATEGORIES:Market
ATTACH;FMTTYPE=image/jpeg:https://bountyandsoul.org/wp-content/uploads/2024/10/Market-Event-Logo-rs.jpg
END:VEVENT
BEGIN:VEVENT
DTSTART;TZID=America/New_York:20260704T100000
DTEND;TZID=America/New_York:20260704T113000
DTSTAMP:20260423T002330
CREATED:20260209T182155Z
LAST-MODIFIED:20260209T182655Z
UID:10012831-1783159200-1783164600@bountyandsoul.org
SUMMARY:Produce Market - ArtSpace
DESCRIPTION:Join us for fresh\, nourishing produce and healthy food at no cost to you. Come connect with us!
URL:https://bountyandsoul.org/event/produce-market-artspace-2-2/2026-07-04/
LOCATION:ArtSpace Charter School\, 2030 US Highway 70\, Swannanoa\, NC\, 28778\, United States
CATEGORIES:Market
ATTACH;FMTTYPE=image/jpeg:https://bountyandsoul.org/wp-content/uploads/2024/10/Market-Event-Logo-rs.jpg
END:VEVENT
BEGIN:VEVENT
DTSTART;TZID=America/New_York:20260711T100000
DTEND;TZID=America/New_York:20260711T113000
DTSTAMP:20260423T002330
CREATED:20260209T182155Z
LAST-MODIFIED:20260209T182655Z
UID:10012832-1783764000-1783769400@bountyandsoul.org
SUMMARY:Produce Market - ArtSpace
DESCRIPTION:Join us for fresh\, nourishing produce and healthy food at no cost to you. Come connect with us!
URL:https://bountyandsoul.org/event/produce-market-artspace-2-2/2026-07-11/
LOCATION:ArtSpace Charter School\, 2030 US Highway 70\, Swannanoa\, NC\, 28778\, United States
CATEGORIES:Market
ATTACH;FMTTYPE=image/jpeg:https://bountyandsoul.org/wp-content/uploads/2024/10/Market-Event-Logo-rs.jpg
END:VEVENT
BEGIN:VEVENT
DTSTART;TZID=America/New_York:20260718T100000
DTEND;TZID=America/New_York:20260718T113000
DTSTAMP:20260423T002330
CREATED:20260209T182155Z
LAST-MODIFIED:20260209T182655Z
UID:10012833-1784368800-1784374200@bountyandsoul.org
SUMMARY:Produce Market - ArtSpace
DESCRIPTION:Join us for fresh\, nourishing produce and healthy food at no cost to you. Come connect with us!
URL:https://bountyandsoul.org/event/produce-market-artspace-2-2/2026-07-18/
LOCATION:ArtSpace Charter School\, 2030 US Highway 70\, Swannanoa\, NC\, 28778\, United States
CATEGORIES:Market
ATTACH;FMTTYPE=image/jpeg:https://bountyandsoul.org/wp-content/uploads/2024/10/Market-Event-Logo-rs.jpg
END:VEVENT
BEGIN:VEVENT
DTSTART;TZID=America/New_York:20260725T100000
DTEND;TZID=America/New_York:20260725T113000
DTSTAMP:20260423T002330
CREATED:20260209T182155Z
LAST-MODIFIED:20260209T182655Z
UID:10012834-1784973600-1784979000@bountyandsoul.org
SUMMARY:Produce Market - ArtSpace
DESCRIPTION:Join us for fresh\, nourishing produce and healthy food at no cost to you. Come connect with us!
URL:https://bountyandsoul.org/event/produce-market-artspace-2-2/2026-07-25/
LOCATION:ArtSpace Charter School\, 2030 US Highway 70\, Swannanoa\, NC\, 28778\, United States
CATEGORIES:Market
ATTACH;FMTTYPE=image/jpeg:https://bountyandsoul.org/wp-content/uploads/2024/10/Market-Event-Logo-rs.jpg
END:VEVENT
BEGIN:VEVENT
DTSTART;TZID=America/New_York:20260801T100000
DTEND;TZID=America/New_York:20260801T113000
DTSTAMP:20260423T002330
CREATED:20260209T182155Z
LAST-MODIFIED:20260209T182655Z
UID:10012835-1785578400-1785583800@bountyandsoul.org
SUMMARY:Produce Market - ArtSpace
DESCRIPTION:Join us for fresh\, nourishing produce and healthy food at no cost to you. Come connect with us!
URL:https://bountyandsoul.org/event/produce-market-artspace-2-2/2026-08-01/
LOCATION:ArtSpace Charter School\, 2030 US Highway 70\, Swannanoa\, NC\, 28778\, United States
CATEGORIES:Market
ATTACH;FMTTYPE=image/jpeg:https://bountyandsoul.org/wp-content/uploads/2024/10/Market-Event-Logo-rs.jpg
END:VEVENT
BEGIN:VEVENT
DTSTART;TZID=America/New_York:20260808T100000
DTEND;TZID=America/New_York:20260808T113000
DTSTAMP:20260423T002330
CREATED:20260209T182155Z
LAST-MODIFIED:20260209T182655Z
UID:10012836-1786183200-1786188600@bountyandsoul.org
SUMMARY:Produce Market - ArtSpace
DESCRIPTION:Join us for fresh\, nourishing produce and healthy food at no cost to you. Come connect with us!
URL:https://bountyandsoul.org/event/produce-market-artspace-2-2/2026-08-08/
LOCATION:ArtSpace Charter School\, 2030 US Highway 70\, Swannanoa\, NC\, 28778\, United States
CATEGORIES:Market
ATTACH;FMTTYPE=image/jpeg:https://bountyandsoul.org/wp-content/uploads/2024/10/Market-Event-Logo-rs.jpg
END:VEVENT
BEGIN:VEVENT
DTSTART;TZID=America/New_York:20260815T100000
DTEND;TZID=America/New_York:20260815T113000
DTSTAMP:20260423T002330
CREATED:20260209T182155Z
LAST-MODIFIED:20260209T182655Z
UID:10012837-1786788000-1786793400@bountyandsoul.org
SUMMARY:Produce Market - ArtSpace
DESCRIPTION:Join us for fresh\, nourishing produce and healthy food at no cost to you. Come connect with us!
URL:https://bountyandsoul.org/event/produce-market-artspace-2-2/2026-08-15/
LOCATION:ArtSpace Charter School\, 2030 US Highway 70\, Swannanoa\, NC\, 28778\, United States
CATEGORIES:Market
ATTACH;FMTTYPE=image/jpeg:https://bountyandsoul.org/wp-content/uploads/2024/10/Market-Event-Logo-rs.jpg
END:VEVENT
BEGIN:VEVENT
DTSTART;TZID=America/New_York:20260822T100000
DTEND;TZID=America/New_York:20260822T113000
DTSTAMP:20260423T002330
CREATED:20260209T182155Z
LAST-MODIFIED:20260209T182655Z
UID:10012838-1787392800-1787398200@bountyandsoul.org
SUMMARY:Produce Market - ArtSpace
DESCRIPTION:Join us for fresh\, nourishing produce and healthy food at no cost to you. Come connect with us!
URL:https://bountyandsoul.org/event/produce-market-artspace-2-2/2026-08-22/
LOCATION:ArtSpace Charter School\, 2030 US Highway 70\, Swannanoa\, NC\, 28778\, United States
CATEGORIES:Market
ATTACH;FMTTYPE=image/jpeg:https://bountyandsoul.org/wp-content/uploads/2024/10/Market-Event-Logo-rs.jpg
END:VEVENT
BEGIN:VEVENT
DTSTART;TZID=America/New_York:20260829T100000
DTEND;TZID=America/New_York:20260829T113000
DTSTAMP:20260423T002330
CREATED:20260209T182155Z
LAST-MODIFIED:20260209T182655Z
UID:10012839-1787997600-1788003000@bountyandsoul.org
SUMMARY:Produce Market - ArtSpace
DESCRIPTION:Join us for fresh\, nourishing produce and healthy food at no cost to you. Come connect with us!
URL:https://bountyandsoul.org/event/produce-market-artspace-2-2/2026-08-29/
LOCATION:ArtSpace Charter School\, 2030 US Highway 70\, Swannanoa\, NC\, 28778\, United States
CATEGORIES:Market
ATTACH;FMTTYPE=image/jpeg:https://bountyandsoul.org/wp-content/uploads/2024/10/Market-Event-Logo-rs.jpg
END:VEVENT
BEGIN:VEVENT
DTSTART;TZID=America/New_York:20260905T100000
DTEND;TZID=America/New_York:20260905T113000
DTSTAMP:20260423T002330
CREATED:20260209T182155Z
LAST-MODIFIED:20260209T182655Z
UID:10012840-1788602400-1788607800@bountyandsoul.org
SUMMARY:Produce Market - ArtSpace
DESCRIPTION:Join us for fresh\, nourishing produce and healthy food at no cost to you. Come connect with us!
URL:https://bountyandsoul.org/event/produce-market-artspace-2-2/2026-09-05/
LOCATION:ArtSpace Charter School\, 2030 US Highway 70\, Swannanoa\, NC\, 28778\, United States
CATEGORIES:Market
ATTACH;FMTTYPE=image/jpeg:https://bountyandsoul.org/wp-content/uploads/2024/10/Market-Event-Logo-rs.jpg
END:VEVENT
BEGIN:VEVENT
DTSTART;TZID=America/New_York:20260912T100000
DTEND;TZID=America/New_York:20260912T113000
DTSTAMP:20260423T002330
CREATED:20260209T182155Z
LAST-MODIFIED:20260209T182655Z
UID:10012841-1789207200-1789212600@bountyandsoul.org
SUMMARY:Produce Market - ArtSpace
DESCRIPTION:Join us for fresh\, nourishing produce and healthy food at no cost to you. Come connect with us!
URL:https://bountyandsoul.org/event/produce-market-artspace-2-2/2026-09-12/
LOCATION:ArtSpace Charter School\, 2030 US Highway 70\, Swannanoa\, NC\, 28778\, United States
CATEGORIES:Market
ATTACH;FMTTYPE=image/jpeg:https://bountyandsoul.org/wp-content/uploads/2024/10/Market-Event-Logo-rs.jpg
END:VEVENT
BEGIN:VEVENT
DTSTART;TZID=America/New_York:20260919T100000
DTEND;TZID=America/New_York:20260919T113000
DTSTAMP:20260423T002330
CREATED:20260209T182155Z
LAST-MODIFIED:20260209T182655Z
UID:10012842-1789812000-1789817400@bountyandsoul.org
SUMMARY:Produce Market - ArtSpace
DESCRIPTION:Join us for fresh\, nourishing produce and healthy food at no cost to you. Come connect with us!
URL:https://bountyandsoul.org/event/produce-market-artspace-2-2/2026-09-19/
LOCATION:ArtSpace Charter School\, 2030 US Highway 70\, Swannanoa\, NC\, 28778\, United States
CATEGORIES:Market
ATTACH;FMTTYPE=image/jpeg:https://bountyandsoul.org/wp-content/uploads/2024/10/Market-Event-Logo-rs.jpg
END:VEVENT
BEGIN:VEVENT
DTSTART;TZID=America/New_York:20260926T100000
DTEND;TZID=America/New_York:20260926T113000
DTSTAMP:20260423T002330
CREATED:20260209T182155Z
LAST-MODIFIED:20260209T182655Z
UID:10012843-1790416800-1790422200@bountyandsoul.org
SUMMARY:Produce Market - ArtSpace
DESCRIPTION:Join us for fresh\, nourishing produce and healthy food at no cost to you. Come connect with us!
URL:https://bountyandsoul.org/event/produce-market-artspace-2-2/2026-09-26/
LOCATION:ArtSpace Charter School\, 2030 US Highway 70\, Swannanoa\, NC\, 28778\, United States
CATEGORIES:Market
ATTACH;FMTTYPE=image/jpeg:https://bountyandsoul.org/wp-content/uploads/2024/10/Market-Event-Logo-rs.jpg
END:VEVENT
BEGIN:VEVENT
DTSTART;TZID=America/New_York:20261003T100000
DTEND;TZID=America/New_York:20261003T113000
DTSTAMP:20260423T002330
CREATED:20260209T182155Z
LAST-MODIFIED:20260209T182655Z
UID:10012844-1791021600-1791027000@bountyandsoul.org
SUMMARY:Produce Market - ArtSpace
DESCRIPTION:Join us for fresh\, nourishing produce and healthy food at no cost to you. Come connect with us!
URL:https://bountyandsoul.org/event/produce-market-artspace-2-2/2026-10-03/
LOCATION:ArtSpace Charter School\, 2030 US Highway 70\, Swannanoa\, NC\, 28778\, United States
CATEGORIES:Market
ATTACH;FMTTYPE=image/jpeg:https://bountyandsoul.org/wp-content/uploads/2024/10/Market-Event-Logo-rs.jpg
END:VEVENT
BEGIN:VEVENT
DTSTART;TZID=America/New_York:20261010T100000
DTEND;TZID=America/New_York:20261010T113000
DTSTAMP:20260423T002330
CREATED:20260209T182155Z
LAST-MODIFIED:20260209T182655Z
UID:10012845-1791626400-1791631800@bountyandsoul.org
SUMMARY:Produce Market - ArtSpace
DESCRIPTION:Join us for fresh\, nourishing produce and healthy food at no cost to you. Come connect with us!
URL:https://bountyandsoul.org/event/produce-market-artspace-2-2/2026-10-10/
LOCATION:ArtSpace Charter School\, 2030 US Highway 70\, Swannanoa\, NC\, 28778\, United States
CATEGORIES:Market
ATTACH;FMTTYPE=image/jpeg:https://bountyandsoul.org/wp-content/uploads/2024/10/Market-Event-Logo-rs.jpg
END:VEVENT
BEGIN:VEVENT
DTSTART;TZID=America/New_York:20261017T100000
DTEND;TZID=America/New_York:20261017T113000
DTSTAMP:20260423T002331
CREATED:20260209T182155Z
LAST-MODIFIED:20260209T182655Z
UID:10012846-1792231200-1792236600@bountyandsoul.org
SUMMARY:Produce Market - ArtSpace
DESCRIPTION:Join us for fresh\, nourishing produce and healthy food at no cost to you. Come connect with us!
URL:https://bountyandsoul.org/event/produce-market-artspace-2-2/2026-10-17/
LOCATION:ArtSpace Charter School\, 2030 US Highway 70\, Swannanoa\, NC\, 28778\, United States
CATEGORIES:Market
ATTACH;FMTTYPE=image/jpeg:https://bountyandsoul.org/wp-content/uploads/2024/10/Market-Event-Logo-rs.jpg
END:VEVENT
BEGIN:VEVENT
DTSTART;TZID=America/New_York:20261024T100000
DTEND;TZID=America/New_York:20261024T113000
DTSTAMP:20260423T002331
CREATED:20260209T182155Z
LAST-MODIFIED:20260209T182655Z
UID:10012847-1792836000-1792841400@bountyandsoul.org
SUMMARY:Produce Market - ArtSpace
DESCRIPTION:Join us for fresh\, nourishing produce and healthy food at no cost to you. Come connect with us!
URL:https://bountyandsoul.org/event/produce-market-artspace-2-2/2026-10-24/
LOCATION:ArtSpace Charter School\, 2030 US Highway 70\, Swannanoa\, NC\, 28778\, United States
CATEGORIES:Market
ATTACH;FMTTYPE=image/jpeg:https://bountyandsoul.org/wp-content/uploads/2024/10/Market-Event-Logo-rs.jpg
END:VEVENT
BEGIN:VEVENT
DTSTART;TZID=America/New_York:20261031T100000
DTEND;TZID=America/New_York:20261031T113000
DTSTAMP:20260423T002331
CREATED:20260209T182155Z
LAST-MODIFIED:20260209T182655Z
UID:10012848-1793440800-1793446200@bountyandsoul.org
SUMMARY:Produce Market - ArtSpace
DESCRIPTION:Join us for fresh\, nourishing produce and healthy food at no cost to you. Come connect with us!
URL:https://bountyandsoul.org/event/produce-market-artspace-2-2/2026-10-31/
LOCATION:ArtSpace Charter School\, 2030 US Highway 70\, Swannanoa\, NC\, 28778\, United States
CATEGORIES:Market
ATTACH;FMTTYPE=image/jpeg:https://bountyandsoul.org/wp-content/uploads/2024/10/Market-Event-Logo-rs.jpg
END:VEVENT
BEGIN:VEVENT
DTSTART;TZID=America/New_York:20261107T100000
DTEND;TZID=America/New_York:20261107T113000
DTSTAMP:20260423T002331
CREATED:20260209T182155Z
LAST-MODIFIED:20260209T182655Z
UID:10012849-1794045600-1794051000@bountyandsoul.org
SUMMARY:Produce Market - ArtSpace
DESCRIPTION:Join us for fresh\, nourishing produce and healthy food at no cost to you. Come connect with us!
URL:https://bountyandsoul.org/event/produce-market-artspace-2-2/2026-11-07/
LOCATION:ArtSpace Charter School\, 2030 US Highway 70\, Swannanoa\, NC\, 28778\, United States
CATEGORIES:Market
ATTACH;FMTTYPE=image/jpeg:https://bountyandsoul.org/wp-content/uploads/2024/10/Market-Event-Logo-rs.jpg
END:VEVENT
BEGIN:VEVENT
DTSTART;TZID=America/New_York:20261114T100000
DTEND;TZID=America/New_York:20261114T113000
DTSTAMP:20260423T002331
CREATED:20260209T182155Z
LAST-MODIFIED:20260209T182655Z
UID:10012850-1794650400-1794655800@bountyandsoul.org
SUMMARY:Produce Market - ArtSpace
DESCRIPTION:Join us for fresh\, nourishing produce and healthy food at no cost to you. Come connect with us!
URL:https://bountyandsoul.org/event/produce-market-artspace-2-2/2026-11-14/
LOCATION:ArtSpace Charter School\, 2030 US Highway 70\, Swannanoa\, NC\, 28778\, United States
CATEGORIES:Market
ATTACH;FMTTYPE=image/jpeg:https://bountyandsoul.org/wp-content/uploads/2024/10/Market-Event-Logo-rs.jpg
END:VEVENT
END:VCALENDAR