BEGIN:VCALENDAR
VERSION:2.0
PRODID:-//Bounty &amp; Soul - ECPv6.15.20//NONSGML v1.0//EN
CALSCALE:GREGORIAN
METHOD:PUBLISH
X-ORIGINAL-URL:https://bountyandsoul.org
X-WR-CALDESC:Events for Bounty &amp; Soul
REFRESH-INTERVAL;VALUE=DURATION:PT1H
X-Robots-Tag:noindex
X-PUBLISHED-TTL:PT1H
BEGIN:VTIMEZONE
TZID:America/New_York
BEGIN:DAYLIGHT
TZOFFSETFROM:-0500
TZOFFSETTO:-0400
TZNAME:EDT
DTSTART:20240310T070000
END:DAYLIGHT
BEGIN:STANDARD
TZOFFSETFROM:-0400
TZOFFSETTO:-0500
TZNAME:EST
DTSTART:20241103T060000
END:STANDARD
BEGIN:DAYLIGHT
TZOFFSETFROM:-0500
TZOFFSETTO:-0400
TZNAME:EDT
DTSTART:20250309T070000
END:DAYLIGHT
BEGIN:STANDARD
TZOFFSETFROM:-0400
TZOFFSETTO:-0500
TZNAME:EST
DTSTART:20251102T060000
END:STANDARD
BEGIN:DAYLIGHT
TZOFFSETFROM:-0500
TZOFFSETTO:-0400
TZNAME:EDT
DTSTART:20260308T070000
END:DAYLIGHT
BEGIN:STANDARD
TZOFFSETFROM:-0400
TZOFFSETTO:-0500
TZNAME:EST
DTSTART:20261101T060000
END:STANDARD
END:VTIMEZONE
BEGIN:VEVENT
DTSTART;TZID=America/New_York:20250825T190000
DTEND;TZID=America/New_York:20250825T223000
DTSTAMP:20260423T022724
CREATED:20250731T180611Z
LAST-MODIFIED:20250731T181347Z
UID:10012175-1756148400-1756161000@bountyandsoul.org
SUMMARY:Beer and Hymns featuring Aaron Price
DESCRIPTION:Beer & Hymns brings people together to raise a glass and a voice while raising funds for organizations that change the world. It doesn’t matter what your spiritual beliefs are\, or whether you ascribe to no spiritual beliefs. This is not a church service. All are welcome to come and sing with us. \nRegister here: https://whitehorseblackmountain.org/product/beer-hymns-benefiting-bounty-soul/ 
URL:https://bountyandsoul.org/event/beer-and-hyms-featuring-aaron-price/
LOCATION:White Horse Black Mountain\, 105C Montreat Rd\, Black Mountain\, NC\, 28711\, United States
CATEGORIES:Community Event
ATTACH;FMTTYPE=image/png:https://bountyandsoul.org/wp-content/uploads/2025/07/Screenshot-2025-07-29-at-11.50.55-PM.png
END:VEVENT
END:VCALENDAR