BEGIN:VCALENDAR
VERSION:2.0
PRODID:-//Bounty &amp; Soul - ECPv6.15.20//NONSGML v1.0//EN
CALSCALE:GREGORIAN
METHOD:PUBLISH
X-ORIGINAL-URL:https://bountyandsoul.org
X-WR-CALDESC:Events for Bounty &amp; Soul
REFRESH-INTERVAL;VALUE=DURATION:PT1H
X-Robots-Tag:noindex
X-PUBLISHED-TTL:PT1H
BEGIN:VTIMEZONE
TZID:America/New_York
BEGIN:DAYLIGHT
TZOFFSETFROM:-0500
TZOFFSETTO:-0400
TZNAME:EDT
DTSTART:20240310T070000
END:DAYLIGHT
BEGIN:STANDARD
TZOFFSETFROM:-0400
TZOFFSETTO:-0500
TZNAME:EST
DTSTART:20241103T060000
END:STANDARD
BEGIN:DAYLIGHT
TZOFFSETFROM:-0500
TZOFFSETTO:-0400
TZNAME:EDT
DTSTART:20250309T070000
END:DAYLIGHT
BEGIN:STANDARD
TZOFFSETFROM:-0400
TZOFFSETTO:-0500
TZNAME:EST
DTSTART:20251102T060000
END:STANDARD
BEGIN:DAYLIGHT
TZOFFSETFROM:-0500
TZOFFSETTO:-0400
TZNAME:EDT
DTSTART:20260308T070000
END:DAYLIGHT
BEGIN:STANDARD
TZOFFSETFROM:-0400
TZOFFSETTO:-0500
TZNAME:EST
DTSTART:20261101T060000
END:STANDARD
END:VTIMEZONE
BEGIN:VEVENT
DTSTART;TZID=America/New_York:20250521T153000
DTEND;TZID=America/New_York:20250521T170000
DTSTAMP:20260425T073548
CREATED:20250311T172845Z
LAST-MODIFIED:20250929T162853Z
UID:10011652-1747841400-1747846800@bountyandsoul.org
SUMMARY:Produce Market - Covenant Community Church
DESCRIPTION:Join us for fresh\, nourishing produce and healthy food at no cost to you. Come connect with us!
URL:https://bountyandsoul.org/event/produce-market-covenant-community-church/2025-05-21/
LOCATION:Covenant Community Church\, 11 Rocket Dr\, Asheville\, NC\, 28803\, United States
CATEGORIES:Market
ATTACH;FMTTYPE=image/jpeg:https://bountyandsoul.org/wp-content/uploads/2024/10/Market-Event-Logo-rs.jpg
END:VEVENT
BEGIN:VEVENT
DTSTART;TZID=America/New_York:20250514T153000
DTEND;TZID=America/New_York:20250514T170000
DTSTAMP:20260425T073548
CREATED:20250311T172845Z
LAST-MODIFIED:20250929T162853Z
UID:10011651-1747236600-1747242000@bountyandsoul.org
SUMMARY:Produce Market - Covenant Community Church
DESCRIPTION:Join us for fresh\, nourishing produce and healthy food at no cost to you. Come connect with us!
URL:https://bountyandsoul.org/event/produce-market-covenant-community-church/2025-05-14/
LOCATION:Covenant Community Church\, 11 Rocket Dr\, Asheville\, NC\, 28803\, United States
CATEGORIES:Market
ATTACH;FMTTYPE=image/jpeg:https://bountyandsoul.org/wp-content/uploads/2024/10/Market-Event-Logo-rs.jpg
END:VEVENT
BEGIN:VEVENT
DTSTART;TZID=America/New_York:20250507T153000
DTEND;TZID=America/New_York:20250507T170000
DTSTAMP:20260425T073548
CREATED:20250311T172845Z
LAST-MODIFIED:20250929T162853Z
UID:10011650-1746631800-1746637200@bountyandsoul.org
SUMMARY:Produce Market - Covenant Community Church
DESCRIPTION:Join us for fresh\, nourishing produce and healthy food at no cost to you. Come connect with us!
URL:https://bountyandsoul.org/event/produce-market-covenant-community-church/2025-05-07/
LOCATION:Covenant Community Church\, 11 Rocket Dr\, Asheville\, NC\, 28803\, United States
CATEGORIES:Market
ATTACH;FMTTYPE=image/jpeg:https://bountyandsoul.org/wp-content/uploads/2024/10/Market-Event-Logo-rs.jpg
END:VEVENT
BEGIN:VEVENT
DTSTART;TZID=America/New_York:20250430T153000
DTEND;TZID=America/New_York:20250430T170000
DTSTAMP:20260425T073548
CREATED:20250311T172845Z
LAST-MODIFIED:20250929T162853Z
UID:10011649-1746027000-1746032400@bountyandsoul.org
SUMMARY:Produce Market - Covenant Community Church
DESCRIPTION:Join us for fresh\, nourishing produce and healthy food at no cost to you. Come connect with us!
URL:https://bountyandsoul.org/event/produce-market-covenant-community-church/2025-04-30/
LOCATION:Covenant Community Church\, 11 Rocket Dr\, Asheville\, NC\, 28803\, United States
CATEGORIES:Market
ATTACH;FMTTYPE=image/jpeg:https://bountyandsoul.org/wp-content/uploads/2024/10/Market-Event-Logo-rs.jpg
END:VEVENT
END:VCALENDAR