BEGIN:VCALENDAR
VERSION:2.0
PRODID:-//Bounty &amp; Soul - ECPv6.15.20//NONSGML v1.0//EN
CALSCALE:GREGORIAN
METHOD:PUBLISH
X-ORIGINAL-URL:https://bountyandsoul.org
X-WR-CALDESC:Events for Bounty &amp; Soul
REFRESH-INTERVAL;VALUE=DURATION:PT1H
X-Robots-Tag:noindex
X-PUBLISHED-TTL:PT1H
BEGIN:VTIMEZONE
TZID:America/New_York
BEGIN:DAYLIGHT
TZOFFSETFROM:-0500
TZOFFSETTO:-0400
TZNAME:EDT
DTSTART:20240310T070000
END:DAYLIGHT
BEGIN:STANDARD
TZOFFSETFROM:-0400
TZOFFSETTO:-0500
TZNAME:EST
DTSTART:20241103T060000
END:STANDARD
BEGIN:DAYLIGHT
TZOFFSETFROM:-0500
TZOFFSETTO:-0400
TZNAME:EDT
DTSTART:20250309T070000
END:DAYLIGHT
BEGIN:STANDARD
TZOFFSETFROM:-0400
TZOFFSETTO:-0500
TZNAME:EST
DTSTART:20251102T060000
END:STANDARD
BEGIN:DAYLIGHT
TZOFFSETFROM:-0500
TZOFFSETTO:-0400
TZNAME:EDT
DTSTART:20260308T070000
END:DAYLIGHT
BEGIN:STANDARD
TZOFFSETFROM:-0400
TZOFFSETTO:-0500
TZNAME:EST
DTSTART:20261101T060000
END:STANDARD
END:VTIMEZONE
BEGIN:VEVENT
DTSTART;TZID=America/New_York:20250514T173000
DTEND;TZID=America/New_York:20250514T193000
DTSTAMP:20260425T090822
CREATED:20250421T174130Z
LAST-MODIFIED:20250514T204958Z
UID:10012054-1747243800-1747251000@bountyandsoul.org
SUMMARY:Community Roots Month: Preserving the Herbal Harvest
DESCRIPTION:Welcome to Community Roots Month!This May\, we’re celebrating growth\, connection\, and all things green with Community Roots Month—a month-long series of hands-on gardening classes\, inspiring guest instructors\, and free plants and seedlings to get your garden blooming. \nThis Week: Preserving the Herbal Harvest with Sally ReeskeEmbrace the beauty and bounty of spring herbs in this hands-on workshop led by local herbalist and plant enthusiast Sally Reeske. Whether you’re new to herbs or looking to deepen your knowledge\, this class will guide you through the art of harvesting\, preserving\, and using herbs in everyday recipes and remedies. \nWhat You’ll Learn: \n\n\nBest practices for harvesting herbs for peak flavor and potency \n\n\nHow to dry and store herbs for culinary and wellness use \n\n\nCrafting flavorful tea blends with your own herbal profiles \n\n\nMaking your own infused vinegars in a hands-on workshop \n\n\nEveryday tips for incorporating herbs into meals and home remedies \n\n\nTakeaway:Each participant will leave with herb starts\, a custom tea blend\, and a bottle of handmade infused vinegar—everything you need to keep the herbal magic going at home. \nLet’s grow together—come root into community\, explore the power of plants\, and leave inspired to create and connect.
URL:https://bountyandsoul.org/event/community-roots-month-preserving-the-herbal-harvest/
LOCATION:Bounty & Soul Food\, Education and Volunteer Hub\, 1038 Old Hwy 70 W\, Black Mountain\, NC\, 28711\, United States
CATEGORIES:Class
ATTACH;FMTTYPE=image/png:https://bountyandsoul.org/wp-content/uploads/2022/01/Rooted-in-Health-Graphic.png
END:VEVENT
BEGIN:VEVENT
DTSTART;TZID=America/New_York:20250430T170000
DTEND;TZID=America/New_York:20250430T190000
DTSTAMP:20260425T090822
CREATED:20250321T141438Z
LAST-MODIFIED:20250423T164042Z
UID:10011981-1746032400-1746039600@bountyandsoul.org
SUMMARY:Nourishing Plant-Based Cooking: A 4-Week Hands-On Series
DESCRIPTION:Explore the ease and simplicity of plant-based cooking in this 4-week hands-on series designed to help you create balanced\, nourishing meals with confidence. Whether you’re new to plant-based eating or looking to expand your skills\, this class offers a supportive space to learn\, cook\, and enjoy wholesome food together. \nEach week\, we’ll focus on practical cooking techniques\, plant-based protein sources\, and ways to create satisfying meals using simple\, whole ingredients. With guidance from a Registered Dietitian\, you’ll gain a deeper understanding of how to build balanced plates while preparing dishes that are both nourishing and enjoyable. \nWhat to Expect:\n🌿 Hands-on cooking with fresh\, plant-based ingredients\n🌿 Nutrition education on plant-based proteins and balanced meals\n🌿 Practical tips for meal prep and everyday cooking \nJoin us in a relaxed and welcoming environment to discover the joy of plant-based cooking at your own pace. Spots are limited so secure your spot now!
URL:https://bountyandsoul.org/event/nourishing-plant-based-cooking-a-4-week-hands-on-series/2025-04-30/
LOCATION:Bounty & Soul Food\, Education and Volunteer Hub\, 1038 Old Hwy 70 W\, Black Mountain\, NC\, 28711\, United States
CATEGORIES:Class
ATTACH;FMTTYPE=image/png:https://bountyandsoul.org/wp-content/uploads/2022/01/Rooted-in-Health-Graphic.png
END:VEVENT
END:VCALENDAR