BEGIN:VCALENDAR
VERSION:2.0
PRODID:-//Bounty &amp; Soul - ECPv6.15.20//NONSGML v1.0//EN
CALSCALE:GREGORIAN
METHOD:PUBLISH
X-WR-CALNAME:Bounty &amp; Soul
X-ORIGINAL-URL:https://bountyandsoul.org
X-WR-CALDESC:Events for Bounty &amp; Soul
REFRESH-INTERVAL;VALUE=DURATION:PT1H
X-Robots-Tag:noindex
X-PUBLISHED-TTL:PT1H
BEGIN:VTIMEZONE
TZID:America/New_York
BEGIN:DAYLIGHT
TZOFFSETFROM:-0500
TZOFFSETTO:-0400
TZNAME:EDT
DTSTART:20240310T070000
END:DAYLIGHT
BEGIN:STANDARD
TZOFFSETFROM:-0400
TZOFFSETTO:-0500
TZNAME:EST
DTSTART:20241103T060000
END:STANDARD
BEGIN:DAYLIGHT
TZOFFSETFROM:-0500
TZOFFSETTO:-0400
TZNAME:EDT
DTSTART:20250309T070000
END:DAYLIGHT
BEGIN:STANDARD
TZOFFSETFROM:-0400
TZOFFSETTO:-0500
TZNAME:EST
DTSTART:20251102T060000
END:STANDARD
BEGIN:DAYLIGHT
TZOFFSETFROM:-0500
TZOFFSETTO:-0400
TZNAME:EDT
DTSTART:20260308T070000
END:DAYLIGHT
BEGIN:STANDARD
TZOFFSETFROM:-0400
TZOFFSETTO:-0500
TZNAME:EST
DTSTART:20261101T060000
END:STANDARD
END:VTIMEZONE
BEGIN:VEVENT
DTSTART;TZID=America/New_York:20250808T103000
DTEND;TZID=America/New_York:20250808T120000
DTSTAMP:20260423T082044
CREATED:20250311T173527Z
LAST-MODIFIED:20260209T185047Z
UID:10012082-1754649000-1754654400@bountyandsoul.org
SUMMARY:Produce Market - Rock Hill Baptist Church
DESCRIPTION:Join us for fresh\, nourishing produce and healthy food at no cost to you. Come connect with us!
URL:https://bountyandsoul.org/event/rock-hill-baptist-church/2025-08-08/
LOCATION:Rock Hill Baptist Church\, 486 Caribou Rd\, Asheville\, NC\, 28803\, United States
CATEGORIES:Market
ATTACH;FMTTYPE=image/jpeg:https://bountyandsoul.org/wp-content/uploads/2024/10/Market-Event-Logo-rs.jpg
END:VEVENT
BEGIN:VEVENT
DTSTART;TZID=America/New_York:20250801T103000
DTEND;TZID=America/New_York:20250801T120000
DTSTAMP:20260423T082044
CREATED:20250311T173527Z
LAST-MODIFIED:20260209T185047Z
UID:10012081-1754044200-1754049600@bountyandsoul.org
SUMMARY:Produce Market - Rock Hill Baptist Church
DESCRIPTION:Join us for fresh\, nourishing produce and healthy food at no cost to you. Come connect with us!
URL:https://bountyandsoul.org/event/rock-hill-baptist-church/2025-08-01/
LOCATION:Rock Hill Baptist Church\, 486 Caribou Rd\, Asheville\, NC\, 28803\, United States
CATEGORIES:Market
ATTACH;FMTTYPE=image/jpeg:https://bountyandsoul.org/wp-content/uploads/2024/10/Market-Event-Logo-rs.jpg
END:VEVENT
BEGIN:VEVENT
DTSTART;TZID=America/New_York:20250725T103000
DTEND;TZID=America/New_York:20250725T120000
DTSTAMP:20260423T082044
CREATED:20250311T173527Z
LAST-MODIFIED:20260209T185047Z
UID:10012080-1753439400-1753444800@bountyandsoul.org
SUMMARY:Produce Market - Rock Hill Baptist Church
DESCRIPTION:Join us for fresh\, nourishing produce and healthy food at no cost to you. Come connect with us!
URL:https://bountyandsoul.org/event/rock-hill-baptist-church/2025-07-25/
LOCATION:Rock Hill Baptist Church\, 486 Caribou Rd\, Asheville\, NC\, 28803\, United States
CATEGORIES:Market
ATTACH;FMTTYPE=image/jpeg:https://bountyandsoul.org/wp-content/uploads/2024/10/Market-Event-Logo-rs.jpg
END:VEVENT
BEGIN:VEVENT
DTSTART;TZID=America/New_York:20250718T103000
DTEND;TZID=America/New_York:20250718T120000
DTSTAMP:20260423T082044
CREATED:20250311T173527Z
LAST-MODIFIED:20260209T185047Z
UID:10012079-1752834600-1752840000@bountyandsoul.org
SUMMARY:Produce Market - Rock Hill Baptist Church
DESCRIPTION:Join us for fresh\, nourishing produce and healthy food at no cost to you. Come connect with us!
URL:https://bountyandsoul.org/event/rock-hill-baptist-church/2025-07-18/
LOCATION:Rock Hill Baptist Church\, 486 Caribou Rd\, Asheville\, NC\, 28803\, United States
CATEGORIES:Market
ATTACH;FMTTYPE=image/jpeg:https://bountyandsoul.org/wp-content/uploads/2024/10/Market-Event-Logo-rs.jpg
END:VEVENT
BEGIN:VEVENT
DTSTART;TZID=America/New_York:20250711T103000
DTEND;TZID=America/New_York:20250711T120000
DTSTAMP:20260423T082044
CREATED:20250311T173527Z
LAST-MODIFIED:20260209T185047Z
UID:10012078-1752229800-1752235200@bountyandsoul.org
SUMMARY:Produce Market - Rock Hill Baptist Church
DESCRIPTION:Join us for fresh\, nourishing produce and healthy food at no cost to you. Come connect with us!
URL:https://bountyandsoul.org/event/rock-hill-baptist-church/2025-07-11/
LOCATION:Rock Hill Baptist Church\, 486 Caribou Rd\, Asheville\, NC\, 28803\, United States
CATEGORIES:Market
ATTACH;FMTTYPE=image/jpeg:https://bountyandsoul.org/wp-content/uploads/2024/10/Market-Event-Logo-rs.jpg
END:VEVENT
BEGIN:VEVENT
DTSTART;TZID=America/New_York:20250627T103000
DTEND;TZID=America/New_York:20250627T120000
DTSTAMP:20260423T082044
CREATED:20250311T173527Z
LAST-MODIFIED:20260209T185047Z
UID:10012077-1751020200-1751025600@bountyandsoul.org
SUMMARY:Produce Market - Rock Hill Baptist Church
DESCRIPTION:Join us for fresh\, nourishing produce and healthy food at no cost to you. Come connect with us!
URL:https://bountyandsoul.org/event/rock-hill-baptist-church/2025-06-27/
LOCATION:Rock Hill Baptist Church\, 486 Caribou Rd\, Asheville\, NC\, 28803\, United States
CATEGORIES:Market
ATTACH;FMTTYPE=image/jpeg:https://bountyandsoul.org/wp-content/uploads/2024/10/Market-Event-Logo-rs.jpg
END:VEVENT
BEGIN:VEVENT
DTSTART;TZID=America/New_York:20250620T103000
DTEND;TZID=America/New_York:20250620T120000
DTSTAMP:20260423T082044
CREATED:20250311T173527Z
LAST-MODIFIED:20260209T185047Z
UID:10011671-1750415400-1750420800@bountyandsoul.org
SUMMARY:Produce Market - Rock Hill Baptist Church
DESCRIPTION:Join us for fresh\, nourishing produce and healthy food at no cost to you. Come connect with us!
URL:https://bountyandsoul.org/event/rock-hill-baptist-church/2025-06-20/
LOCATION:Rock Hill Baptist Church\, 486 Caribou Rd\, Asheville\, NC\, 28803\, United States
CATEGORIES:Market
ATTACH;FMTTYPE=image/jpeg:https://bountyandsoul.org/wp-content/uploads/2024/10/Market-Event-Logo-rs.jpg
END:VEVENT
BEGIN:VEVENT
DTSTART;TZID=America/New_York:20250613T103000
DTEND;TZID=America/New_York:20250613T120000
DTSTAMP:20260423T082044
CREATED:20250311T173527Z
LAST-MODIFIED:20260209T185047Z
UID:10011670-1749810600-1749816000@bountyandsoul.org
SUMMARY:Produce Market - Rock Hill Baptist Church
DESCRIPTION:Join us for fresh\, nourishing produce and healthy food at no cost to you. Come connect with us!
URL:https://bountyandsoul.org/event/rock-hill-baptist-church/2025-06-13/
LOCATION:Rock Hill Baptist Church\, 486 Caribou Rd\, Asheville\, NC\, 28803\, United States
CATEGORIES:Market
ATTACH;FMTTYPE=image/jpeg:https://bountyandsoul.org/wp-content/uploads/2024/10/Market-Event-Logo-rs.jpg
END:VEVENT
BEGIN:VEVENT
DTSTART;TZID=America/New_York:20250606T103000
DTEND;TZID=America/New_York:20250606T120000
DTSTAMP:20260423T082044
CREATED:20250311T173527Z
LAST-MODIFIED:20260209T185047Z
UID:10011669-1749205800-1749211200@bountyandsoul.org
SUMMARY:Produce Market - Rock Hill Baptist Church
DESCRIPTION:Join us for fresh\, nourishing produce and healthy food at no cost to you. Come connect with us!
URL:https://bountyandsoul.org/event/rock-hill-baptist-church/2025-06-06/
LOCATION:Rock Hill Baptist Church\, 486 Caribou Rd\, Asheville\, NC\, 28803\, United States
CATEGORIES:Market
ATTACH;FMTTYPE=image/jpeg:https://bountyandsoul.org/wp-content/uploads/2024/10/Market-Event-Logo-rs.jpg
END:VEVENT
BEGIN:VEVENT
DTSTART;TZID=America/New_York:20250530T103000
DTEND;TZID=America/New_York:20250530T120000
DTSTAMP:20260423T082044
CREATED:20250311T173527Z
LAST-MODIFIED:20260209T185047Z
UID:10011668-1748601000-1748606400@bountyandsoul.org
SUMMARY:Produce Market - Rock Hill Baptist Church
DESCRIPTION:Join us for fresh\, nourishing produce and healthy food at no cost to you. Come connect with us!
URL:https://bountyandsoul.org/event/rock-hill-baptist-church/2025-05-30/
LOCATION:Rock Hill Baptist Church\, 486 Caribou Rd\, Asheville\, NC\, 28803\, United States
CATEGORIES:Market
ATTACH;FMTTYPE=image/jpeg:https://bountyandsoul.org/wp-content/uploads/2024/10/Market-Event-Logo-rs.jpg
END:VEVENT
BEGIN:VEVENT
DTSTART;TZID=America/New_York:20250523T103000
DTEND;TZID=America/New_York:20250523T120000
DTSTAMP:20260423T082044
CREATED:20250311T173527Z
LAST-MODIFIED:20260209T185047Z
UID:10011667-1747996200-1748001600@bountyandsoul.org
SUMMARY:Produce Market - Rock Hill Baptist Church
DESCRIPTION:Join us for fresh\, nourishing produce and healthy food at no cost to you. Come connect with us!
URL:https://bountyandsoul.org/event/rock-hill-baptist-church/2025-05-23/
LOCATION:Rock Hill Baptist Church\, 486 Caribou Rd\, Asheville\, NC\, 28803\, United States
CATEGORIES:Market
ATTACH;FMTTYPE=image/jpeg:https://bountyandsoul.org/wp-content/uploads/2024/10/Market-Event-Logo-rs.jpg
END:VEVENT
BEGIN:VEVENT
DTSTART;TZID=America/New_York:20250516T103000
DTEND;TZID=America/New_York:20250516T120000
DTSTAMP:20260423T082044
CREATED:20250311T173527Z
LAST-MODIFIED:20260209T185047Z
UID:10011666-1747391400-1747396800@bountyandsoul.org
SUMMARY:Produce Market - Rock Hill Baptist Church
DESCRIPTION:Join us for fresh\, nourishing produce and healthy food at no cost to you. Come connect with us!
URL:https://bountyandsoul.org/event/rock-hill-baptist-church/2025-05-16/
LOCATION:Rock Hill Baptist Church\, 486 Caribou Rd\, Asheville\, NC\, 28803\, United States
CATEGORIES:Market
ATTACH;FMTTYPE=image/jpeg:https://bountyandsoul.org/wp-content/uploads/2024/10/Market-Event-Logo-rs.jpg
END:VEVENT
BEGIN:VEVENT
DTSTART;TZID=America/New_York:20250509T103000
DTEND;TZID=America/New_York:20250509T120000
DTSTAMP:20260423T082044
CREATED:20250311T173527Z
LAST-MODIFIED:20260209T185047Z
UID:10011665-1746786600-1746792000@bountyandsoul.org
SUMMARY:Produce Market - Rock Hill Baptist Church
DESCRIPTION:Join us for fresh\, nourishing produce and healthy food at no cost to you. Come connect with us!
URL:https://bountyandsoul.org/event/rock-hill-baptist-church/2025-05-09/
LOCATION:Rock Hill Baptist Church\, 486 Caribou Rd\, Asheville\, NC\, 28803\, United States
CATEGORIES:Market
ATTACH;FMTTYPE=image/jpeg:https://bountyandsoul.org/wp-content/uploads/2024/10/Market-Event-Logo-rs.jpg
END:VEVENT
BEGIN:VEVENT
DTSTART;TZID=America/New_York:20250502T103000
DTEND;TZID=America/New_York:20250502T120000
DTSTAMP:20260423T082044
CREATED:20250311T173527Z
LAST-MODIFIED:20260209T185047Z
UID:10011664-1746181800-1746187200@bountyandsoul.org
SUMMARY:Produce Market - Rock Hill Baptist Church
DESCRIPTION:Join us for fresh\, nourishing produce and healthy food at no cost to you. Come connect with us!
URL:https://bountyandsoul.org/event/rock-hill-baptist-church/2025-05-02/
LOCATION:Rock Hill Baptist Church\, 486 Caribou Rd\, Asheville\, NC\, 28803\, United States
CATEGORIES:Market
ATTACH;FMTTYPE=image/jpeg:https://bountyandsoul.org/wp-content/uploads/2024/10/Market-Event-Logo-rs.jpg
END:VEVENT
BEGIN:VEVENT
DTSTART;TZID=America/New_York:20250425T103000
DTEND;TZID=America/New_York:20250425T120000
DTSTAMP:20260423T082044
CREATED:20250311T173527Z
LAST-MODIFIED:20260209T185047Z
UID:10011663-1745577000-1745582400@bountyandsoul.org
SUMMARY:Produce Market - Rock Hill Baptist Church
DESCRIPTION:Join us for fresh\, nourishing produce and healthy food at no cost to you. Come connect with us!
URL:https://bountyandsoul.org/event/rock-hill-baptist-church/2025-04-25/
LOCATION:Rock Hill Baptist Church\, 486 Caribou Rd\, Asheville\, NC\, 28803\, United States
CATEGORIES:Market
ATTACH;FMTTYPE=image/jpeg:https://bountyandsoul.org/wp-content/uploads/2024/10/Market-Event-Logo-rs.jpg
END:VEVENT
END:VCALENDAR