BEGIN:VCALENDAR
VERSION:2.0
PRODID:-//Bounty &amp; Soul - ECPv6.15.20//NONSGML v1.0//EN
CALSCALE:GREGORIAN
METHOD:PUBLISH
X-ORIGINAL-URL:https://bountyandsoul.org
X-WR-CALDESC:Events for Bounty &amp; Soul
REFRESH-INTERVAL;VALUE=DURATION:PT1H
X-Robots-Tag:noindex
X-PUBLISHED-TTL:PT1H
BEGIN:VTIMEZONE
TZID:America/New_York
BEGIN:DAYLIGHT
TZOFFSETFROM:-0500
TZOFFSETTO:-0400
TZNAME:EDT
DTSTART:20240310T070000
END:DAYLIGHT
BEGIN:STANDARD
TZOFFSETFROM:-0400
TZOFFSETTO:-0500
TZNAME:EST
DTSTART:20241103T060000
END:STANDARD
BEGIN:DAYLIGHT
TZOFFSETFROM:-0500
TZOFFSETTO:-0400
TZNAME:EDT
DTSTART:20250309T070000
END:DAYLIGHT
BEGIN:STANDARD
TZOFFSETFROM:-0400
TZOFFSETTO:-0500
TZNAME:EST
DTSTART:20251102T060000
END:STANDARD
BEGIN:DAYLIGHT
TZOFFSETFROM:-0500
TZOFFSETTO:-0400
TZNAME:EDT
DTSTART:20260308T070000
END:DAYLIGHT
BEGIN:STANDARD
TZOFFSETFROM:-0400
TZOFFSETTO:-0500
TZNAME:EST
DTSTART:20261101T060000
END:STANDARD
END:VTIMEZONE
BEGIN:VEVENT
DTSTART;TZID=America/New_York:20251125T150000
DTEND;TZID=America/New_York:20251125T163000
DTSTAMP:20260423T021604
CREATED:20250128T155857Z
LAST-MODIFIED:20251003T150136Z
UID:10012367-1764082800-1764088200@bountyandsoul.org
SUMMARY:Produce Market - Root Cause Farm
DESCRIPTION:Join us for fresh\, nourishing produce and healthy food at no cost to you. Come connect with us!
URL:https://bountyandsoul.org/event/produce-market-fairview-2/2025-11-25/
LOCATION:Root Cause Farm\, 26 Joe Jenkins Rd\, Fairview\, NC\, 28730\, United States
CATEGORIES:Market
ATTACH;FMTTYPE=image/jpeg:https://bountyandsoul.org/wp-content/uploads/2024/10/Market-Event-Logo-rs.jpg
END:VEVENT
BEGIN:VEVENT
DTSTART;TZID=America/New_York:20251118T150000
DTEND;TZID=America/New_York:20251118T163000
DTSTAMP:20260423T021604
CREATED:20250128T155857Z
LAST-MODIFIED:20251003T150136Z
UID:10012366-1763478000-1763483400@bountyandsoul.org
SUMMARY:Produce Market - Root Cause Farm
DESCRIPTION:Join us for fresh\, nourishing produce and healthy food at no cost to you. Come connect with us!
URL:https://bountyandsoul.org/event/produce-market-fairview-2/2025-11-18/
LOCATION:Root Cause Farm\, 26 Joe Jenkins Rd\, Fairview\, NC\, 28730\, United States
CATEGORIES:Market
ATTACH;FMTTYPE=image/jpeg:https://bountyandsoul.org/wp-content/uploads/2024/10/Market-Event-Logo-rs.jpg
END:VEVENT
BEGIN:VEVENT
DTSTART;TZID=America/New_York:20251111T150000
DTEND;TZID=America/New_York:20251111T163000
DTSTAMP:20260423T021604
CREATED:20250128T155857Z
LAST-MODIFIED:20251003T150136Z
UID:10012365-1762873200-1762878600@bountyandsoul.org
SUMMARY:Produce Market - Root Cause Farm
DESCRIPTION:Join us for fresh\, nourishing produce and healthy food at no cost to you. Come connect with us!
URL:https://bountyandsoul.org/event/produce-market-fairview-2/2025-11-11/
LOCATION:Root Cause Farm\, 26 Joe Jenkins Rd\, Fairview\, NC\, 28730\, United States
CATEGORIES:Market
ATTACH;FMTTYPE=image/jpeg:https://bountyandsoul.org/wp-content/uploads/2024/10/Market-Event-Logo-rs.jpg
END:VEVENT
BEGIN:VEVENT
DTSTART;TZID=America/New_York:20251104T150000
DTEND;TZID=America/New_York:20251104T163000
DTSTAMP:20260423T021604
CREATED:20250128T155857Z
LAST-MODIFIED:20251003T150136Z
UID:10012364-1762268400-1762273800@bountyandsoul.org
SUMMARY:Produce Market - Root Cause Farm
DESCRIPTION:Join us for fresh\, nourishing produce and healthy food at no cost to you. Come connect with us!
URL:https://bountyandsoul.org/event/produce-market-fairview-2/2025-11-04/
LOCATION:Root Cause Farm\, 26 Joe Jenkins Rd\, Fairview\, NC\, 28730\, United States
CATEGORIES:Market
ATTACH;FMTTYPE=image/jpeg:https://bountyandsoul.org/wp-content/uploads/2024/10/Market-Event-Logo-rs.jpg
END:VEVENT
BEGIN:VEVENT
DTSTART;TZID=America/New_York:20251028T150000
DTEND;TZID=America/New_York:20251028T163000
DTSTAMP:20260423T021604
CREATED:20250128T155857Z
LAST-MODIFIED:20251003T150136Z
UID:10012363-1761663600-1761669000@bountyandsoul.org
SUMMARY:Produce Market - Root Cause Farm
DESCRIPTION:Join us for fresh\, nourishing produce and healthy food at no cost to you. Come connect with us!
URL:https://bountyandsoul.org/event/produce-market-fairview-2/2025-10-28/
LOCATION:Root Cause Farm\, 26 Joe Jenkins Rd\, Fairview\, NC\, 28730\, United States
CATEGORIES:Market
ATTACH;FMTTYPE=image/jpeg:https://bountyandsoul.org/wp-content/uploads/2024/10/Market-Event-Logo-rs.jpg
END:VEVENT
BEGIN:VEVENT
DTSTART;TZID=America/New_York:20251021T150000
DTEND;TZID=America/New_York:20251021T163000
DTSTAMP:20260423T021604
CREATED:20250128T155857Z
LAST-MODIFIED:20251003T150136Z
UID:10012362-1761058800-1761064200@bountyandsoul.org
SUMMARY:Produce Market - Root Cause Farm
DESCRIPTION:Join us for fresh\, nourishing produce and healthy food at no cost to you. Come connect with us!
URL:https://bountyandsoul.org/event/produce-market-fairview-2/2025-10-21/
LOCATION:Root Cause Farm\, 26 Joe Jenkins Rd\, Fairview\, NC\, 28730\, United States
CATEGORIES:Market
ATTACH;FMTTYPE=image/jpeg:https://bountyandsoul.org/wp-content/uploads/2024/10/Market-Event-Logo-rs.jpg
END:VEVENT
BEGIN:VEVENT
DTSTART;TZID=America/New_York:20251014T150000
DTEND;TZID=America/New_York:20251014T163000
DTSTAMP:20260423T021604
CREATED:20250128T155857Z
LAST-MODIFIED:20251003T150136Z
UID:10012361-1760454000-1760459400@bountyandsoul.org
SUMMARY:Produce Market - Root Cause Farm
DESCRIPTION:Join us for fresh\, nourishing produce and healthy food at no cost to you. Come connect with us!
URL:https://bountyandsoul.org/event/produce-market-fairview-2/2025-10-14/
LOCATION:Root Cause Farm\, 26 Joe Jenkins Rd\, Fairview\, NC\, 28730\, United States
CATEGORIES:Market
ATTACH;FMTTYPE=image/jpeg:https://bountyandsoul.org/wp-content/uploads/2024/10/Market-Event-Logo-rs.jpg
END:VEVENT
BEGIN:VEVENT
DTSTART;TZID=America/New_York:20251007T150000
DTEND;TZID=America/New_York:20251007T163000
DTSTAMP:20260423T021604
CREATED:20250128T155857Z
LAST-MODIFIED:20251003T150136Z
UID:10010980-1759849200-1759854600@bountyandsoul.org
SUMMARY:Produce Market - Root Cause Farm
DESCRIPTION:Join us for fresh\, nourishing produce and healthy food at no cost to you. Come connect with us!
URL:https://bountyandsoul.org/event/produce-market-fairview-2/2025-10-07/
LOCATION:Root Cause Farm\, 26 Joe Jenkins Rd\, Fairview\, NC\, 28730\, United States
CATEGORIES:Market
ATTACH;FMTTYPE=image/jpeg:https://bountyandsoul.org/wp-content/uploads/2024/10/Market-Event-Logo-rs.jpg
END:VEVENT
BEGIN:VEVENT
DTSTART;TZID=America/New_York:20250812T090000
DTEND;TZID=America/New_York:20250812T100000
DTSTAMP:20260423T021604
CREATED:20250812T103934Z
LAST-MODIFIED:20250812T103935Z
UID:10012166-1754989200-1754992800@bountyandsoul.org
SUMMARY:Yoga for Everyone at Root Cause Farm-CANCELED
DESCRIPTION:Join us every second Tuesday of the month for a peaceful morning of movement at Root Cause Farm. This all-levels vinyasa class offers a gentle\, flowing practice that invites you to move mindfully from one posture to the next—no long holds\, just breath and ease. Surrounded by nature\, we’ll welcome the sun and fresh air together. Feel free to bring sunscreen and come as you are—sweat\, smiles\, and serenity included.
URL:https://bountyandsoul.org/event/yoga-for-everyone-at-root-cause-farm-2/
LOCATION:Root Cause Farm\, 26 Joe Jenkins Rd\, Fairview\, NC\, 28730\, United States
CATEGORIES:Class
ATTACH;FMTTYPE=image/png:https://bountyandsoul.org/wp-content/uploads/2021/08/Yoga-for-everyone2-fi.png
END:VEVENT
BEGIN:VEVENT
DTSTART;TZID=America/New_York:20250610T090000
DTEND;TZID=America/New_York:20250610T100000
DTSTAMP:20260423T021604
CREATED:20250526T142747Z
LAST-MODIFIED:20250526T142747Z
UID:10012066-1749546000-1749549600@bountyandsoul.org
SUMMARY:Yoga at the Farm
DESCRIPTION:Join us for a rejuvenating yoga class at the beautiful Root Cause Farm with Dani! This beginner-friendly class is designed for every body — whether you’re brand new to yoga or looking to slow down and reconnect. Surrounded by nature\, you’ll stretch\, breathe\, and unwind in a peaceful farm setting. Come as you are\, bring a mat if you have one\, and enjoy gentle movement in community. \nAll are welcome — no experience needed! This class will continue every second Tuesday of the month. Please be sure to register for this class so we can notify you of any changes.
URL:https://bountyandsoul.org/event/yoga-at-the-farm/
LOCATION:Root Cause Farm\, 26 Joe Jenkins Rd\, Fairview\, NC\, 28730\, United States
CATEGORIES:Class
ATTACH;FMTTYPE=image/png:https://bountyandsoul.org/wp-content/uploads/2022/01/Rooted-in-Health-Graphic.png
END:VEVENT
BEGIN:VEVENT
DTSTART;TZID=America/New_York:20250512T173000
DTEND;TZID=America/New_York:20250512T183000
DTSTAMP:20260423T021604
CREATED:20250331T145116Z
LAST-MODIFIED:20250512T142640Z
UID:10012051-1747071000-1747074600@bountyandsoul.org
SUMMARY:Mindful Monday: Yoga with Dani- CANCELED DUE TO INCLEMENT WEATHER
DESCRIPTION:Each Monday\, we gather as a community to welcome the week with mindfulness and intention. Every session features a unique offering led by a different instructor\, each sharing their own approach to cultivating peace and presence. \nThis Monday\, join Dani for a grounding yoga practice. \nDani will guide you through a mindful flow that combines gentle movements with breathwork to help you release tension\, improve flexibility\, and connect deeply with your body. Whether you’re new to yoga or have been practicing for years\, this class will offer a nurturing space to find balance and ease. \nThis rejuvenating practice is designed to:Improve flexibility and strengthRelieve stress and promote relaxationCultivate mindfulness and body awareness \nCome as you are and allow this restorative practice to nourish your body\, mind\, and spirit. Please arrive 10-15 minutes early to settle in. Spots are limited\, so secure your spot now!
URL:https://bountyandsoul.org/event/mindful-monday-yoga-with-dani/
LOCATION:Root Cause Farm\, 26 Joe Jenkins Rd\, Fairview\, NC\, 28730\, United States
CATEGORIES:Class
ATTACH;FMTTYPE=image/png:https://bountyandsoul.org/wp-content/uploads/2022/01/Rooted-in-Health-Graphic.png
END:VEVENT
BEGIN:VEVENT
DTSTART;TZID=America/New_York:20250428T173000
DTEND;TZID=America/New_York:20250428T183000
DTSTAMP:20260423T021604
CREATED:20250331T152721Z
LAST-MODIFIED:20250424T170556Z
UID:10012052-1745861400-1745865000@bountyandsoul.org
SUMMARY:Mindful Monday: Community Acupuncture & Sound Healing
DESCRIPTION:Each Monday\, we gather as a community to welcome the week with mindfulness and intention. Every session features a unique offering led by a different instructor\, each sharing their own approach to cultivating peace and presence. \nThis Monday\, experience the deep healing power of acupuncture and sound with Lex and Whitley. \nLex\, a skilled acupuncturist\, will gently place acupuncture pins while you relax on your mat. Once settled\, Whitley\, a sound healer\, will guide you into a state of deep relaxation through the soothing vibrations of her sound bowls. \nThis unique fusion of Traditional Chinese Medicine and sound healing is designed to: \n\nSupport energy flow and balance in the body\nEase tension and promote deep relaxation\nCultivate a sense of peace and well-being\n\nCome as you are and embrace this restorative practice\, designed to nourish your body\, mind\, and spirit. We invite you to arrive 10–15 minutes early to settle in and relax. This is a donation-based class\, with a suggested contribution of $2—but if that’s not possible for you\, please know that it’s our gift to you! Spaces are limited\, so we encourage you to reserve your spot in advance!
URL:https://bountyandsoul.org/event/mindful-monday-community-acupuncture-sound-healing-2/
LOCATION:Root Cause Farm\, 26 Joe Jenkins Rd\, Fairview\, NC\, 28730\, United States
CATEGORIES:Class
ATTACH;FMTTYPE=image/png:https://bountyandsoul.org/wp-content/uploads/2022/01/Rooted-in-Health-Graphic.png
END:VEVENT
END:VCALENDAR