BEGIN:VCALENDAR
VERSION:2.0
PRODID:-//Bounty &amp; Soul - ECPv6.15.20//NONSGML v1.0//EN
CALSCALE:GREGORIAN
METHOD:PUBLISH
X-WR-CALNAME:Bounty &amp; Soul
X-ORIGINAL-URL:https://bountyandsoul.org
X-WR-CALDESC:Events for Bounty &amp; Soul
REFRESH-INTERVAL;VALUE=DURATION:PT1H
X-Robots-Tag:noindex
X-PUBLISHED-TTL:PT1H
BEGIN:VTIMEZONE
TZID:America/New_York
BEGIN:DAYLIGHT
TZOFFSETFROM:-0500
TZOFFSETTO:-0400
TZNAME:EDT
DTSTART:20250309T070000
END:DAYLIGHT
BEGIN:STANDARD
TZOFFSETFROM:-0400
TZOFFSETTO:-0500
TZNAME:EST
DTSTART:20251102T060000
END:STANDARD
BEGIN:DAYLIGHT
TZOFFSETFROM:-0500
TZOFFSETTO:-0400
TZNAME:EDT
DTSTART:20260308T070000
END:DAYLIGHT
BEGIN:STANDARD
TZOFFSETFROM:-0400
TZOFFSETTO:-0500
TZNAME:EST
DTSTART:20261101T060000
END:STANDARD
BEGIN:DAYLIGHT
TZOFFSETFROM:-0500
TZOFFSETTO:-0400
TZNAME:EDT
DTSTART:20270314T070000
END:DAYLIGHT
BEGIN:STANDARD
TZOFFSETFROM:-0400
TZOFFSETTO:-0500
TZNAME:EST
DTSTART:20271107T060000
END:STANDARD
END:VTIMEZONE
BEGIN:VEVENT
DTSTART;TZID=America/New_York:20260604T183000
DTEND;TZID=America/New_York:20260604T193000
DTSTAMP:20260423T031701
CREATED:20250320T132435Z
LAST-MODIFIED:20250320T134100Z
UID:10011909-1780597800-1780601400@bountyandsoul.org
SUMMARY:Zumba Class
DESCRIPTION:Join us every Tuesday & Thursday at 6:30 PM for a high-energy\, fun\, and free Zumba class with Tara! Whether you’re a seasoned dancer or just starting out\, this class is designed for all levels—no experience needed. Come shake\, dance\, and sweat to uplifting music in a welcoming and supportive environment. Get ready to boost your mood\, energize your body\, and have a blast! This class will take place at St James Episcopal Church in Black Mountain (424 West State Street\, Black Mountain\, NC\, 28711).
URL:https://bountyandsoul.org/event/zumba-class-2/2026-06-04/
LOCATION:St James Episcopal Church\, 424 W. State Street\, Black Mountain\, NC\, 28711\, United States
CATEGORIES:Class
ATTACH;FMTTYPE=image/png:https://bountyandsoul.org/wp-content/uploads/2021/01/Zumba-Event-fi2a.png
END:VEVENT
BEGIN:VEVENT
DTSTART;TZID=America/New_York:20260609T183000
DTEND;TZID=America/New_York:20260609T193000
DTSTAMP:20260423T031701
CREATED:20250320T132435Z
LAST-MODIFIED:20250320T134100Z
UID:10011910-1781029800-1781033400@bountyandsoul.org
SUMMARY:Zumba Class
DESCRIPTION:Join us every Tuesday & Thursday at 6:30 PM for a high-energy\, fun\, and free Zumba class with Tara! Whether you’re a seasoned dancer or just starting out\, this class is designed for all levels—no experience needed. Come shake\, dance\, and sweat to uplifting music in a welcoming and supportive environment. Get ready to boost your mood\, energize your body\, and have a blast! This class will take place at St James Episcopal Church in Black Mountain (424 West State Street\, Black Mountain\, NC\, 28711).
URL:https://bountyandsoul.org/event/zumba-class-2/2026-06-09/
LOCATION:St James Episcopal Church\, 424 W. State Street\, Black Mountain\, NC\, 28711\, United States
CATEGORIES:Class
ATTACH;FMTTYPE=image/png:https://bountyandsoul.org/wp-content/uploads/2021/01/Zumba-Event-fi2a.png
END:VEVENT
BEGIN:VEVENT
DTSTART;TZID=America/New_York:20260611T183000
DTEND;TZID=America/New_York:20260611T193000
DTSTAMP:20260423T031701
CREATED:20250320T132435Z
LAST-MODIFIED:20250320T134100Z
UID:10011911-1781202600-1781206200@bountyandsoul.org
SUMMARY:Zumba Class
DESCRIPTION:Join us every Tuesday & Thursday at 6:30 PM for a high-energy\, fun\, and free Zumba class with Tara! Whether you’re a seasoned dancer or just starting out\, this class is designed for all levels—no experience needed. Come shake\, dance\, and sweat to uplifting music in a welcoming and supportive environment. Get ready to boost your mood\, energize your body\, and have a blast! This class will take place at St James Episcopal Church in Black Mountain (424 West State Street\, Black Mountain\, NC\, 28711).
URL:https://bountyandsoul.org/event/zumba-class-2/2026-06-11/
LOCATION:St James Episcopal Church\, 424 W. State Street\, Black Mountain\, NC\, 28711\, United States
CATEGORIES:Class
ATTACH;FMTTYPE=image/png:https://bountyandsoul.org/wp-content/uploads/2021/01/Zumba-Event-fi2a.png
END:VEVENT
BEGIN:VEVENT
DTSTART;TZID=America/New_York:20260616T183000
DTEND;TZID=America/New_York:20260616T193000
DTSTAMP:20260423T031701
CREATED:20250320T132435Z
LAST-MODIFIED:20250320T134100Z
UID:10011912-1781634600-1781638200@bountyandsoul.org
SUMMARY:Zumba Class
DESCRIPTION:Join us every Tuesday & Thursday at 6:30 PM for a high-energy\, fun\, and free Zumba class with Tara! Whether you’re a seasoned dancer or just starting out\, this class is designed for all levels—no experience needed. Come shake\, dance\, and sweat to uplifting music in a welcoming and supportive environment. Get ready to boost your mood\, energize your body\, and have a blast! This class will take place at St James Episcopal Church in Black Mountain (424 West State Street\, Black Mountain\, NC\, 28711).
URL:https://bountyandsoul.org/event/zumba-class-2/2026-06-16/
LOCATION:St James Episcopal Church\, 424 W. State Street\, Black Mountain\, NC\, 28711\, United States
CATEGORIES:Class
ATTACH;FMTTYPE=image/png:https://bountyandsoul.org/wp-content/uploads/2021/01/Zumba-Event-fi2a.png
END:VEVENT
BEGIN:VEVENT
DTSTART;TZID=America/New_York:20260618T183000
DTEND;TZID=America/New_York:20260618T193000
DTSTAMP:20260423T031701
CREATED:20250320T132435Z
LAST-MODIFIED:20250320T134100Z
UID:10011913-1781807400-1781811000@bountyandsoul.org
SUMMARY:Zumba Class
DESCRIPTION:Join us every Tuesday & Thursday at 6:30 PM for a high-energy\, fun\, and free Zumba class with Tara! Whether you’re a seasoned dancer or just starting out\, this class is designed for all levels—no experience needed. Come shake\, dance\, and sweat to uplifting music in a welcoming and supportive environment. Get ready to boost your mood\, energize your body\, and have a blast! This class will take place at St James Episcopal Church in Black Mountain (424 West State Street\, Black Mountain\, NC\, 28711).
URL:https://bountyandsoul.org/event/zumba-class-2/2026-06-18/
LOCATION:St James Episcopal Church\, 424 W. State Street\, Black Mountain\, NC\, 28711\, United States
CATEGORIES:Class
ATTACH;FMTTYPE=image/png:https://bountyandsoul.org/wp-content/uploads/2021/01/Zumba-Event-fi2a.png
END:VEVENT
END:VCALENDAR